BEGIN:VCALENDAR
VERSION:2.0
PRODID:-//Wandelstadt Esslingen - ECPv6.15.20//NONSGML v1.0//EN
CALSCALE:GREGORIAN
METHOD:PUBLISH
X-ORIGINAL-URL:https://wandelstadt-esslingen.de
X-WR-CALDESC:Veranstaltungen für Wandelstadt Esslingen
REFRESH-INTERVAL;VALUE=DURATION:PT1H
X-Robots-Tag:noindex
X-PUBLISHED-TTL:PT1H
BEGIN:VTIMEZONE
TZID:Europe/Berlin
BEGIN:DAYLIGHT
TZOFFSETFROM:+0100
TZOFFSETTO:+0200
TZNAME:CEST
DTSTART:20240331T010000
END:DAYLIGHT
BEGIN:STANDARD
TZOFFSETFROM:+0200
TZOFFSETTO:+0100
TZNAME:CET
DTSTART:20241027T010000
END:STANDARD
BEGIN:DAYLIGHT
TZOFFSETFROM:+0100
TZOFFSETTO:+0200
TZNAME:CEST
DTSTART:20250330T010000
END:DAYLIGHT
BEGIN:STANDARD
TZOFFSETFROM:+0200
TZOFFSETTO:+0100
TZNAME:CET
DTSTART:20251026T010000
END:STANDARD
BEGIN:DAYLIGHT
TZOFFSETFROM:+0100
TZOFFSETTO:+0200
TZNAME:CEST
DTSTART:20260329T010000
END:DAYLIGHT
BEGIN:STANDARD
TZOFFSETFROM:+0200
TZOFFSETTO:+0100
TZNAME:CET
DTSTART:20261025T010000
END:STANDARD
END:VTIMEZONE
BEGIN:VEVENT
DTSTART;TZID=Europe/Berlin:20250816T140000
DTEND;TZID=Europe/Berlin:20250816T170000
DTSTAMP:20260421T215934
CREATED:20250628T133509Z
LAST-MODIFIED:20250628T133509Z
UID:10006010-1755352800-1755363600@wandelstadt-esslingen.de
SUMMARY:ZuZule Workshop: Wildpflanzen für Anfänger*innen
DESCRIPTION:
URL:https://wandelstadt-esslingen.de/event/zuzule-workshop-wildpflanzen-fuer-anfaengerinnen/
LOCATION:ZuZule\, Aichschießer Str. 2\, Aichwald\, 73773
CATEGORIES:Ausflug,Gemütliches Treffen,Infoveranstaltung,Workshop
ORGANIZER;CN="ZuZule":MAILTO:zuzule@mail.de
END:VEVENT
BEGIN:VEVENT
DTSTART;TZID=Europe/Berlin:20250809T120000
DTEND;TZID=Europe/Berlin:20250809T140000
DTSTAMP:20260421T215934
CREATED:20250626T155159Z
LAST-MODIFIED:20250626T155159Z
UID:10005707-1754740800-1754748000@wandelstadt-esslingen.de
SUMMARY:ZuZules veganer Mitbring Lunch
DESCRIPTION:  \njede*r bringt pro erwachsene Person ein veganes Gericht (süß oder herzhaft\, kalt oder warm) fürs gemeinsame reichhaltig leckere pflanzliche Buffet mit. \nZeit zum gemeinsamen Schlemmen\, Gerichte ausprobieren\, Rezepte tauschen\, sich unterhalten und eine gute ZuZule-Zeit zu haben. \nPlätze sind begrenzt\, deswegen nur mit Anmeldung >>> \nweitere Infos und Anmeldung unter ZuZule@mail.de
URL:https://wandelstadt-esslingen.de/event/zuzules-veganer-mitbring-lunch-2/
LOCATION:ZuZule\, Aichschießer Str. 2\, Aichwald\, 73773
CATEGORIES:Gemütliches Treffen,Veganer Mitbringbrunch
ORGANIZER;CN="ZuZule":MAILTO:zuzule@mail.de
END:VEVENT
BEGIN:VEVENT
DTSTART;TZID=Europe/Berlin:20250808T130000
DTEND;TZID=Europe/Berlin:20250808T143000
DTSTAMP:20260421T215934
CREATED:20250626T152834Z
LAST-MODIFIED:20250626T155326Z
UID:10005703-1754658000-1754663400@wandelstadt-esslingen.de
SUMMARY:ZuZule Workshop - Hafermilch selbst herstellen
DESCRIPTION:
URL:https://wandelstadt-esslingen.de/event/zuzule-workshop-hafermilch-selbst-herstellen-2/
LOCATION:ZuZule\, Aichschießer Str. 2\, Aichwald\, 73773
CATEGORIES:Workshop
ORGANIZER;CN="ZuZule":MAILTO:zuzule@mail.de
END:VEVENT
BEGIN:VEVENT
DTSTART;TZID=Europe/Berlin:20250726T140000
DTEND;TZID=Europe/Berlin:20250726T180000
DTSTAMP:20260421T215934
CREATED:20250626T153620Z
LAST-MODIFIED:20250626T155430Z
UID:10005705-1753538400-1753552800@wandelstadt-esslingen.de
SUMMARY:ZuZule Workshop: Say Cheese! veganen Keese herstellen
DESCRIPTION:
URL:https://wandelstadt-esslingen.de/event/zuzule-workshop-say-cheese-veganen-keese-herstellen/
LOCATION:ZuZule\, Aichschießer Str. 2\, Aichwald\, 73773
CATEGORIES:Gemütliches Treffen,Infoveranstaltung,Workshop
ORGANIZER;CN="ZuZule":MAILTO:zuzule@mail.de
END:VEVENT
BEGIN:VEVENT
DTSTART;TZID=Europe/Berlin:20250719T110000
DTEND;TZID=Europe/Berlin:20250719T140000
DTSTAMP:20260421T215934
CREATED:20250626T153300Z
LAST-MODIFIED:20250626T155516Z
UID:10005704-1752922800-1752933600@wandelstadt-esslingen.de
SUMMARY:ZuZule Workshop: vegan(er) werden >> für Anfänger*innen
DESCRIPTION:
URL:https://wandelstadt-esslingen.de/event/zuzule-workshop-veganer-werden-fuer-anfaengerinnen/
LOCATION:ZuZule\, Aichschießer Str. 2\, Aichwald\, 73773
CATEGORIES:Gemütliches Treffen,Infoveranstaltung,Workshop
ORGANIZER;CN="ZuZule":MAILTO:zuzule@mail.de
END:VEVENT
BEGIN:VEVENT
DTSTART;TZID=Europe/Berlin:20250712T120000
DTEND;TZID=Europe/Berlin:20250712T140000
DTSTAMP:20260421T215934
CREATED:20250626T154348Z
LAST-MODIFIED:20250626T155047Z
UID:10005706-1752321600-1752328800@wandelstadt-esslingen.de
SUMMARY:ZuZules veganer Mitbring Lunch
DESCRIPTION:  \njede*r bringt pro erwachsene Person ein veganes Gericht (süß oder herzhaft\, kalt oder warm) fürs gemeinsame reichhaltig leckere pflanzliche Buffet mit. \nZeit zum gemeinsamen Schlemmen\, Gerichte ausprobieren\, Rezepte tauschen\, sich unterhalten und eine gute ZuZule-Zeit zu haben. \nPlätze sind begrenzt\, deswegen nur mit Anmeldung >>> \nweitere Infos und Anmeldung unter ZuZule@mail.de
URL:https://wandelstadt-esslingen.de/event/zuzules-veganer-mitbring-lunch/
LOCATION:ZuZule\, Aichschießer Str. 2\, Aichwald\, 73773
CATEGORIES:Gemütliches Treffen,Veganer Mitbringbrunch
ORGANIZER;CN="ZuZule":MAILTO:zuzule@mail.de
END:VEVENT
BEGIN:VEVENT
DTSTART;TZID=Europe/Berlin:20250711T130000
DTEND;TZID=Europe/Berlin:20250711T143000
DTSTAMP:20260421T215934
CREATED:20250626T152537Z
LAST-MODIFIED:20250626T155752Z
UID:10005702-1752238800-1752244200@wandelstadt-esslingen.de
SUMMARY:ZuZule Workshop - Hafermilch selbst herstellen
DESCRIPTION:
URL:https://wandelstadt-esslingen.de/event/zuzule-workshop-hafermilch-selbst-herstellen/
LOCATION:ZuZule\, Aichschießer Str. 2\, Aichwald\, 73773
CATEGORIES:Workshop
ORGANIZER;CN="ZuZule":MAILTO:zuzule@mail.de
END:VEVENT
BEGIN:VEVENT
DTSTART;TZID=Europe/Berlin:20250524T140000
DTEND;TZID=Europe/Berlin:20250524T170000
DTSTAMP:20260421T215934
CREATED:20250430T111205Z
LAST-MODIFIED:20250430T111442Z
UID:10005390-1748095200-1748106000@wandelstadt-esslingen.de
SUMMARY:Wildpflanzenführung  für Anfänger*innen
DESCRIPTION:Samstag 24. Mai 2025 \n14 Uhr bis 17 Uhr \nGegen Spende nach dem ZuZule-Spendenprinzip  :-) \nTeilnehmendenanzahl begrenzt >>> \nAnmeldung und Infos unter ZuZule@mail.de
URL:https://wandelstadt-esslingen.de/event/wildpflanzenfuehrung-fuer-anfaengerinnen/
LOCATION:ZuZule\, Aichschießer Str. 2\, Aichwald\, 73773
ORGANIZER;CN="ZuZule":MAILTO:zuzule@mail.de
END:VEVENT
END:VCALENDAR