BEGIN:VCALENDAR
VERSION:2.0
PRODID:-//Wandelstadt Esslingen - ECPv6.15.20//NONSGML v1.0//EN
CALSCALE:GREGORIAN
METHOD:PUBLISH
X-ORIGINAL-URL:https://wandelstadt-esslingen.de
X-WR-CALDESC:Veranstaltungen für Wandelstadt Esslingen
REFRESH-INTERVAL;VALUE=DURATION:PT1H
X-Robots-Tag:noindex
X-PUBLISHED-TTL:PT1H
BEGIN:VTIMEZONE
TZID:Europe/Berlin
BEGIN:DAYLIGHT
TZOFFSETFROM:+0100
TZOFFSETTO:+0200
TZNAME:CEST
DTSTART:20230326T010000
END:DAYLIGHT
BEGIN:STANDARD
TZOFFSETFROM:+0200
TZOFFSETTO:+0100
TZNAME:CET
DTSTART:20231029T010000
END:STANDARD
BEGIN:DAYLIGHT
TZOFFSETFROM:+0100
TZOFFSETTO:+0200
TZNAME:CEST
DTSTART:20240331T010000
END:DAYLIGHT
BEGIN:STANDARD
TZOFFSETFROM:+0200
TZOFFSETTO:+0100
TZNAME:CET
DTSTART:20241027T010000
END:STANDARD
BEGIN:DAYLIGHT
TZOFFSETFROM:+0100
TZOFFSETTO:+0200
TZNAME:CEST
DTSTART:20250330T010000
END:DAYLIGHT
BEGIN:STANDARD
TZOFFSETFROM:+0200
TZOFFSETTO:+0100
TZNAME:CET
DTSTART:20251026T010000
END:STANDARD
BEGIN:DAYLIGHT
TZOFFSETFROM:+0100
TZOFFSETTO:+0200
TZNAME:CEST
DTSTART:20260329T010000
END:DAYLIGHT
BEGIN:STANDARD
TZOFFSETFROM:+0200
TZOFFSETTO:+0100
TZNAME:CET
DTSTART:20261025T010000
END:STANDARD
BEGIN:DAYLIGHT
TZOFFSETFROM:+0100
TZOFFSETTO:+0200
TZNAME:CEST
DTSTART:20270328T010000
END:DAYLIGHT
BEGIN:STANDARD
TZOFFSETFROM:+0200
TZOFFSETTO:+0100
TZNAME:CET
DTSTART:20271031T010000
END:STANDARD
END:VTIMEZONE
BEGIN:VEVENT
DTSTART;TZID=Europe/Berlin:20260418T103000
DTEND;TZID=Europe/Berlin:20260418T163000
DTSTAMP:20260421T200546
CREATED:20260106T195256Z
LAST-MODIFIED:20260106T200137Z
UID:10008271-1776508200-1776529800@wandelstadt-esslingen.de
SUMMARY:ReparaturCafé Esslingen
DESCRIPTION:ReparaturCafé – Gebrauchsgegenstände aller Art gemeinsam reparieren. \nDer Fön bleibt kalt? Die Hose hat ein Loch? Das Radio ist verstummt?\nDas Stuhlbein wackelt? Die CD springt? Der Mixer rührt sich nicht mehr? \nOb Kleidung\, Elektrogeräte oder andere Gebrauchsgegenstände – das ReparaturCafé bietet neben dem nötigen Werkzeug auch Materialien\, Tips und tatkräftige Hilfe um defekten Dingen aller Art ein zweites Leben einzuhauchen. Mit unseren freiwilligen Reparatur-Spezialistinnen und -Spezialisten ist die erste Hemmschwelle vor dem Ansetzen von Schraubendreher\, Lötkolben oder Schneiderschere schnell überwunden und schon bald folgt die Erkenntnis: Kaputt muss nicht das Ende sein\, und so kompliziert ist das Reparieren ja gar nicht! So lassen sich Rohstoffe\, Ressourcen und nicht zuletzt auch Geld sparen\, man hilft oder lässt sich helfen\, lernt immer etwas dazu\, trifft nette Menschen oder trinkt einfach nur einen Kaffee. Für die Leckereien an der Cafétheke kooperieren wir mit foodsharing Esslingen\, einer Freiwilligenorganisation die Lebensmittel vor dem Wegwerfen rettet. Die Teilnahme am ReparaturCafé ist übrigens kostenlos\, wir freuen uns aber selbstverständlich über Spenden.
URL:https://wandelstadt-esslingen.de/event/reparaturcafe-esslingen-2/2026-04-18/
LOCATION:ZAK – Zentrum für Arbeit und Kommunikation\, Franziskanergasse 7\, Esslingen\, 73728
ATTACH;FMTTYPE=image/jpeg:https://wandelstadt-esslingen.de/wp-content/uploads/2024/02/230113_RC-Esslingen_Logo_Arial.jpg
END:VEVENT
BEGIN:VEVENT
DTSTART;TZID=Europe/Berlin:20260321T103000
DTEND;TZID=Europe/Berlin:20260321T163000
DTSTAMP:20260421T200546
CREATED:20260106T195256Z
LAST-MODIFIED:20260106T200137Z
UID:10008270-1774089000-1774110600@wandelstadt-esslingen.de
SUMMARY:ReparaturCafé Esslingen
DESCRIPTION:ReparaturCafé – Gebrauchsgegenstände aller Art gemeinsam reparieren. \nDer Fön bleibt kalt? Die Hose hat ein Loch? Das Radio ist verstummt?\nDas Stuhlbein wackelt? Die CD springt? Der Mixer rührt sich nicht mehr? \nOb Kleidung\, Elektrogeräte oder andere Gebrauchsgegenstände – das ReparaturCafé bietet neben dem nötigen Werkzeug auch Materialien\, Tips und tatkräftige Hilfe um defekten Dingen aller Art ein zweites Leben einzuhauchen. Mit unseren freiwilligen Reparatur-Spezialistinnen und -Spezialisten ist die erste Hemmschwelle vor dem Ansetzen von Schraubendreher\, Lötkolben oder Schneiderschere schnell überwunden und schon bald folgt die Erkenntnis: Kaputt muss nicht das Ende sein\, und so kompliziert ist das Reparieren ja gar nicht! So lassen sich Rohstoffe\, Ressourcen und nicht zuletzt auch Geld sparen\, man hilft oder lässt sich helfen\, lernt immer etwas dazu\, trifft nette Menschen oder trinkt einfach nur einen Kaffee. Für die Leckereien an der Cafétheke kooperieren wir mit foodsharing Esslingen\, einer Freiwilligenorganisation die Lebensmittel vor dem Wegwerfen rettet. Die Teilnahme am ReparaturCafé ist übrigens kostenlos\, wir freuen uns aber selbstverständlich über Spenden.
URL:https://wandelstadt-esslingen.de/event/reparaturcafe-esslingen-2/2026-03-21/
LOCATION:ZAK – Zentrum für Arbeit und Kommunikation\, Franziskanergasse 7\, Esslingen\, 73728
ATTACH;FMTTYPE=image/jpeg:https://wandelstadt-esslingen.de/wp-content/uploads/2024/02/230113_RC-Esslingen_Logo_Arial.jpg
END:VEVENT
BEGIN:VEVENT
DTSTART;TZID=Europe/Berlin:20260221T103000
DTEND;TZID=Europe/Berlin:20260221T163000
DTSTAMP:20260421T200546
CREATED:20260106T195256Z
LAST-MODIFIED:20260106T200137Z
UID:10008269-1771669800-1771691400@wandelstadt-esslingen.de
SUMMARY:ReparaturCafé Esslingen
DESCRIPTION:ReparaturCafé – Gebrauchsgegenstände aller Art gemeinsam reparieren. \nDer Fön bleibt kalt? Die Hose hat ein Loch? Das Radio ist verstummt?\nDas Stuhlbein wackelt? Die CD springt? Der Mixer rührt sich nicht mehr? \nOb Kleidung\, Elektrogeräte oder andere Gebrauchsgegenstände – das ReparaturCafé bietet neben dem nötigen Werkzeug auch Materialien\, Tips und tatkräftige Hilfe um defekten Dingen aller Art ein zweites Leben einzuhauchen. Mit unseren freiwilligen Reparatur-Spezialistinnen und -Spezialisten ist die erste Hemmschwelle vor dem Ansetzen von Schraubendreher\, Lötkolben oder Schneiderschere schnell überwunden und schon bald folgt die Erkenntnis: Kaputt muss nicht das Ende sein\, und so kompliziert ist das Reparieren ja gar nicht! So lassen sich Rohstoffe\, Ressourcen und nicht zuletzt auch Geld sparen\, man hilft oder lässt sich helfen\, lernt immer etwas dazu\, trifft nette Menschen oder trinkt einfach nur einen Kaffee. Für die Leckereien an der Cafétheke kooperieren wir mit foodsharing Esslingen\, einer Freiwilligenorganisation die Lebensmittel vor dem Wegwerfen rettet. Die Teilnahme am ReparaturCafé ist übrigens kostenlos\, wir freuen uns aber selbstverständlich über Spenden.
URL:https://wandelstadt-esslingen.de/event/reparaturcafe-esslingen-2/2026-02-21/
LOCATION:ZAK – Zentrum für Arbeit und Kommunikation\, Franziskanergasse 7\, Esslingen\, 73728
ATTACH;FMTTYPE=image/jpeg:https://wandelstadt-esslingen.de/wp-content/uploads/2024/02/230113_RC-Esslingen_Logo_Arial.jpg
END:VEVENT
BEGIN:VEVENT
DTSTART;TZID=Europe/Berlin:20260117T103000
DTEND;TZID=Europe/Berlin:20260117T163000
DTSTAMP:20260421T200546
CREATED:20260106T195256Z
LAST-MODIFIED:20260106T200137Z
UID:10004324-1768645800-1768667400@wandelstadt-esslingen.de
SUMMARY:ReparaturCafé Esslingen
DESCRIPTION:ReparaturCafé – Gebrauchsgegenstände aller Art gemeinsam reparieren. \nDer Fön bleibt kalt? Die Hose hat ein Loch? Das Radio ist verstummt?\nDas Stuhlbein wackelt? Die CD springt? Der Mixer rührt sich nicht mehr? \nOb Kleidung\, Elektrogeräte oder andere Gebrauchsgegenstände – das ReparaturCafé bietet neben dem nötigen Werkzeug auch Materialien\, Tips und tatkräftige Hilfe um defekten Dingen aller Art ein zweites Leben einzuhauchen. Mit unseren freiwilligen Reparatur-Spezialistinnen und -Spezialisten ist die erste Hemmschwelle vor dem Ansetzen von Schraubendreher\, Lötkolben oder Schneiderschere schnell überwunden und schon bald folgt die Erkenntnis: Kaputt muss nicht das Ende sein\, und so kompliziert ist das Reparieren ja gar nicht! So lassen sich Rohstoffe\, Ressourcen und nicht zuletzt auch Geld sparen\, man hilft oder lässt sich helfen\, lernt immer etwas dazu\, trifft nette Menschen oder trinkt einfach nur einen Kaffee. Für die Leckereien an der Cafétheke kooperieren wir mit foodsharing Esslingen\, einer Freiwilligenorganisation die Lebensmittel vor dem Wegwerfen rettet. Die Teilnahme am ReparaturCafé ist übrigens kostenlos\, wir freuen uns aber selbstverständlich über Spenden.
URL:https://wandelstadt-esslingen.de/event/reparaturcafe-esslingen-2/2026-01-17/
LOCATION:ZAK – Zentrum für Arbeit und Kommunikation\, Franziskanergasse 7\, Esslingen\, 73728
ATTACH;FMTTYPE=image/jpeg:https://wandelstadt-esslingen.de/wp-content/uploads/2024/02/230113_RC-Esslingen_Logo_Arial.jpg
END:VEVENT
BEGIN:VEVENT
DTSTART;TZID=Europe/Berlin:20251115T110000
DTEND;TZID=Europe/Berlin:20251115T170000
DTSTAMP:20260421T200546
CREATED:20241018T110833Z
LAST-MODIFIED:20241018T111336Z
UID:10004323-1763204400-1763226000@wandelstadt-esslingen.de
SUMMARY:ReparaturCafé Esslingen
DESCRIPTION:ReparaturCafé – Gebrauchsgegenstände aller Art gemeinsam reparieren. \nDer Fön bleibt kalt? Die Hose hat ein Loch? Das Radio ist verstummt?\nDas Stuhlbein wackelt? Die CD springt? Der Mixer rührt sich nicht mehr? \nOb Kleidung\, Elektrogeräte oder andere Gebrauchsgegenstände – das ReparaturCafé bietet neben dem nötigen Werkzeug auch Materialien\, Tips und tatkräftige Hilfe um defekten Dingen aller Art ein zweites Leben einzuhauchen. Mit unseren freiwilligen Reparatur-Spezialistinnen und -Spezialisten ist die erste Hemmschwelle vor dem Ansetzen von Schraubendreher\, Lötkolben oder Schneiderschere schnell überwunden und schon bald folgt die Erkenntnis: Kaputt muss nicht das Ende sein\, und so kompliziert ist das Reparieren ja gar nicht! So lassen sich Rohstoffe\, Ressourcen und nicht zuletzt auch Geld sparen\, man hilft oder lässt sich helfen\, lernt immer etwas dazu\, trifft nette Menschen oder trinkt einfach nur einen Kaffee. Für die Leckereien an der Cafétheke kooperieren wir mit foodsharing Esslingen\, einer Freiwilligenorganisation die Lebensmittel vor dem Wegwerfen rettet. Die Teilnahme am ReparaturCafé ist übrigens kostenlos\, wir freuen uns aber selbstverständlich über Spenden.
URL:https://wandelstadt-esslingen.de/event/reparaturcafe-esslingen/2025-11-15/
LOCATION:ZAK – Zentrum für Arbeit und Kommunikation\, Franziskanergasse 7\, Esslingen\, 73728
ATTACH;FMTTYPE=image/jpeg:https://wandelstadt-esslingen.de/wp-content/uploads/2024/02/230113_RC-Esslingen_Logo_Arial.jpg
END:VEVENT
BEGIN:VEVENT
DTSTART;TZID=Europe/Berlin:20250920T110000
DTEND;TZID=Europe/Berlin:20250920T170000
DTSTAMP:20260421T200546
CREATED:20241018T110833Z
LAST-MODIFIED:20241018T111336Z
UID:10004322-1758366000-1758387600@wandelstadt-esslingen.de
SUMMARY:ReparaturCafé Esslingen
DESCRIPTION:ReparaturCafé – Gebrauchsgegenstände aller Art gemeinsam reparieren. \nDer Fön bleibt kalt? Die Hose hat ein Loch? Das Radio ist verstummt?\nDas Stuhlbein wackelt? Die CD springt? Der Mixer rührt sich nicht mehr? \nOb Kleidung\, Elektrogeräte oder andere Gebrauchsgegenstände – das ReparaturCafé bietet neben dem nötigen Werkzeug auch Materialien\, Tips und tatkräftige Hilfe um defekten Dingen aller Art ein zweites Leben einzuhauchen. Mit unseren freiwilligen Reparatur-Spezialistinnen und -Spezialisten ist die erste Hemmschwelle vor dem Ansetzen von Schraubendreher\, Lötkolben oder Schneiderschere schnell überwunden und schon bald folgt die Erkenntnis: Kaputt muss nicht das Ende sein\, und so kompliziert ist das Reparieren ja gar nicht! So lassen sich Rohstoffe\, Ressourcen und nicht zuletzt auch Geld sparen\, man hilft oder lässt sich helfen\, lernt immer etwas dazu\, trifft nette Menschen oder trinkt einfach nur einen Kaffee. Für die Leckereien an der Cafétheke kooperieren wir mit foodsharing Esslingen\, einer Freiwilligenorganisation die Lebensmittel vor dem Wegwerfen rettet. Die Teilnahme am ReparaturCafé ist übrigens kostenlos\, wir freuen uns aber selbstverständlich über Spenden.
URL:https://wandelstadt-esslingen.de/event/reparaturcafe-esslingen/2025-09-20/
LOCATION:ZAK – Zentrum für Arbeit und Kommunikation\, Franziskanergasse 7\, Esslingen\, 73728
ATTACH;FMTTYPE=image/jpeg:https://wandelstadt-esslingen.de/wp-content/uploads/2024/02/230113_RC-Esslingen_Logo_Arial.jpg
END:VEVENT
BEGIN:VEVENT
DTSTART;TZID=Europe/Berlin:20250719T110000
DTEND;TZID=Europe/Berlin:20250719T170000
DTSTAMP:20260421T200546
CREATED:20241018T110833Z
LAST-MODIFIED:20241018T111336Z
UID:10004321-1752922800-1752944400@wandelstadt-esslingen.de
SUMMARY:ReparaturCafé Esslingen
DESCRIPTION:ReparaturCafé – Gebrauchsgegenstände aller Art gemeinsam reparieren. \nDer Fön bleibt kalt? Die Hose hat ein Loch? Das Radio ist verstummt?\nDas Stuhlbein wackelt? Die CD springt? Der Mixer rührt sich nicht mehr? \nOb Kleidung\, Elektrogeräte oder andere Gebrauchsgegenstände – das ReparaturCafé bietet neben dem nötigen Werkzeug auch Materialien\, Tips und tatkräftige Hilfe um defekten Dingen aller Art ein zweites Leben einzuhauchen. Mit unseren freiwilligen Reparatur-Spezialistinnen und -Spezialisten ist die erste Hemmschwelle vor dem Ansetzen von Schraubendreher\, Lötkolben oder Schneiderschere schnell überwunden und schon bald folgt die Erkenntnis: Kaputt muss nicht das Ende sein\, und so kompliziert ist das Reparieren ja gar nicht! So lassen sich Rohstoffe\, Ressourcen und nicht zuletzt auch Geld sparen\, man hilft oder lässt sich helfen\, lernt immer etwas dazu\, trifft nette Menschen oder trinkt einfach nur einen Kaffee. Für die Leckereien an der Cafétheke kooperieren wir mit foodsharing Esslingen\, einer Freiwilligenorganisation die Lebensmittel vor dem Wegwerfen rettet. Die Teilnahme am ReparaturCafé ist übrigens kostenlos\, wir freuen uns aber selbstverständlich über Spenden.
URL:https://wandelstadt-esslingen.de/event/reparaturcafe-esslingen/2025-07-19/
LOCATION:ZAK – Zentrum für Arbeit und Kommunikation\, Franziskanergasse 7\, Esslingen\, 73728
ATTACH;FMTTYPE=image/jpeg:https://wandelstadt-esslingen.de/wp-content/uploads/2024/02/230113_RC-Esslingen_Logo_Arial.jpg
END:VEVENT
BEGIN:VEVENT
DTSTART;TZID=Europe/Berlin:20250517T110000
DTEND;TZID=Europe/Berlin:20250517T170000
DTSTAMP:20260421T200546
CREATED:20241018T110833Z
LAST-MODIFIED:20241018T111336Z
UID:10004320-1747479600-1747501200@wandelstadt-esslingen.de
SUMMARY:ReparaturCafé Esslingen
DESCRIPTION:ReparaturCafé – Gebrauchsgegenstände aller Art gemeinsam reparieren. \nDer Fön bleibt kalt? Die Hose hat ein Loch? Das Radio ist verstummt?\nDas Stuhlbein wackelt? Die CD springt? Der Mixer rührt sich nicht mehr? \nOb Kleidung\, Elektrogeräte oder andere Gebrauchsgegenstände – das ReparaturCafé bietet neben dem nötigen Werkzeug auch Materialien\, Tips und tatkräftige Hilfe um defekten Dingen aller Art ein zweites Leben einzuhauchen. Mit unseren freiwilligen Reparatur-Spezialistinnen und -Spezialisten ist die erste Hemmschwelle vor dem Ansetzen von Schraubendreher\, Lötkolben oder Schneiderschere schnell überwunden und schon bald folgt die Erkenntnis: Kaputt muss nicht das Ende sein\, und so kompliziert ist das Reparieren ja gar nicht! So lassen sich Rohstoffe\, Ressourcen und nicht zuletzt auch Geld sparen\, man hilft oder lässt sich helfen\, lernt immer etwas dazu\, trifft nette Menschen oder trinkt einfach nur einen Kaffee. Für die Leckereien an der Cafétheke kooperieren wir mit foodsharing Esslingen\, einer Freiwilligenorganisation die Lebensmittel vor dem Wegwerfen rettet. Die Teilnahme am ReparaturCafé ist übrigens kostenlos\, wir freuen uns aber selbstverständlich über Spenden.
URL:https://wandelstadt-esslingen.de/event/reparaturcafe-esslingen/2025-05-17/
LOCATION:ZAK – Zentrum für Arbeit und Kommunikation\, Franziskanergasse 7\, Esslingen\, 73728
ATTACH;FMTTYPE=image/jpeg:https://wandelstadt-esslingen.de/wp-content/uploads/2024/02/230113_RC-Esslingen_Logo_Arial.jpg
END:VEVENT
BEGIN:VEVENT
DTSTART;TZID=Europe/Berlin:20250318T180000
DTEND;TZID=Europe/Berlin:20250318T200000
DTSTAMP:20260421T200546
CREATED:20250222T213502Z
LAST-MODIFIED:20250224T194827Z
UID:10004835-1742320800-1742328000@wandelstadt-esslingen.de
SUMMARY:Lieder\, die das Leben schreibt – eine Einladung zum Lauschen und Fühlen
DESCRIPTION:Konzert \nHelena schreibt und singt Lieder\, die in Worte fassen\, wie sie in die Welt schaut … über Momente\, die sie bewegen … über Emotionen\, die wir alle kennen. Mal mit kraftvoller Tiefe in „Wer sind wir?“\, mal herrlich humorvoll mit „Schiss“\, mal schmerzhaft ehrlich in „Kennst du den Schmerz?“. Meistens auf Deutsch\, manchmal auf Englisch und begleitet von ihrer Gitarre. Du bist eingeladen mit deinem Herzen zu lauschen und zu fühlen. \nKünstlerin Helena Muster\, www.helenasingt.de \n\n\n\n\n\n\n\nPreis \nTeilnahme kostenlos\, mit Spendenhut für die Künstlerin\n\n\n\n\nHinweis \nohne Anmeldung\, max. 50 Teilnehmende
URL:https://wandelstadt-esslingen.de/event/lieder-die-das-leben-schreibt-eine-einladung-zum-lauschen-und-fuehlen/
LOCATION:ZAK – Zentrum für Arbeit und Kommunikation\, Franziskanergasse 7\, Esslingen\, 73728
CATEGORIES:Kulturveranstaltung
END:VEVENT
BEGIN:VEVENT
DTSTART;TZID=Europe/Berlin:20250315T110000
DTEND;TZID=Europe/Berlin:20250315T170000
DTSTAMP:20260421T200546
CREATED:20241018T110833Z
LAST-MODIFIED:20241018T111336Z
UID:10004319-1742036400-1742058000@wandelstadt-esslingen.de
SUMMARY:ReparaturCafé Esslingen
DESCRIPTION:ReparaturCafé – Gebrauchsgegenstände aller Art gemeinsam reparieren. \nDer Fön bleibt kalt? Die Hose hat ein Loch? Das Radio ist verstummt?\nDas Stuhlbein wackelt? Die CD springt? Der Mixer rührt sich nicht mehr? \nOb Kleidung\, Elektrogeräte oder andere Gebrauchsgegenstände – das ReparaturCafé bietet neben dem nötigen Werkzeug auch Materialien\, Tips und tatkräftige Hilfe um defekten Dingen aller Art ein zweites Leben einzuhauchen. Mit unseren freiwilligen Reparatur-Spezialistinnen und -Spezialisten ist die erste Hemmschwelle vor dem Ansetzen von Schraubendreher\, Lötkolben oder Schneiderschere schnell überwunden und schon bald folgt die Erkenntnis: Kaputt muss nicht das Ende sein\, und so kompliziert ist das Reparieren ja gar nicht! So lassen sich Rohstoffe\, Ressourcen und nicht zuletzt auch Geld sparen\, man hilft oder lässt sich helfen\, lernt immer etwas dazu\, trifft nette Menschen oder trinkt einfach nur einen Kaffee. Für die Leckereien an der Cafétheke kooperieren wir mit foodsharing Esslingen\, einer Freiwilligenorganisation die Lebensmittel vor dem Wegwerfen rettet. Die Teilnahme am ReparaturCafé ist übrigens kostenlos\, wir freuen uns aber selbstverständlich über Spenden.
URL:https://wandelstadt-esslingen.de/event/reparaturcafe-esslingen/2025-03-15/
LOCATION:ZAK – Zentrum für Arbeit und Kommunikation\, Franziskanergasse 7\, Esslingen\, 73728
ATTACH;FMTTYPE=image/jpeg:https://wandelstadt-esslingen.de/wp-content/uploads/2024/02/230113_RC-Esslingen_Logo_Arial.jpg
END:VEVENT
BEGIN:VEVENT
DTSTART;TZID=Europe/Berlin:20250118T110000
DTEND;TZID=Europe/Berlin:20250118T170000
DTSTAMP:20260421T200546
CREATED:20241018T110833Z
LAST-MODIFIED:20241018T111336Z
UID:10004318-1737198000-1737219600@wandelstadt-esslingen.de
SUMMARY:ReparaturCafé Esslingen
DESCRIPTION:ReparaturCafé – Gebrauchsgegenstände aller Art gemeinsam reparieren. \nDer Fön bleibt kalt? Die Hose hat ein Loch? Das Radio ist verstummt?\nDas Stuhlbein wackelt? Die CD springt? Der Mixer rührt sich nicht mehr? \nOb Kleidung\, Elektrogeräte oder andere Gebrauchsgegenstände – das ReparaturCafé bietet neben dem nötigen Werkzeug auch Materialien\, Tips und tatkräftige Hilfe um defekten Dingen aller Art ein zweites Leben einzuhauchen. Mit unseren freiwilligen Reparatur-Spezialistinnen und -Spezialisten ist die erste Hemmschwelle vor dem Ansetzen von Schraubendreher\, Lötkolben oder Schneiderschere schnell überwunden und schon bald folgt die Erkenntnis: Kaputt muss nicht das Ende sein\, und so kompliziert ist das Reparieren ja gar nicht! So lassen sich Rohstoffe\, Ressourcen und nicht zuletzt auch Geld sparen\, man hilft oder lässt sich helfen\, lernt immer etwas dazu\, trifft nette Menschen oder trinkt einfach nur einen Kaffee. Für die Leckereien an der Cafétheke kooperieren wir mit foodsharing Esslingen\, einer Freiwilligenorganisation die Lebensmittel vor dem Wegwerfen rettet. Die Teilnahme am ReparaturCafé ist übrigens kostenlos\, wir freuen uns aber selbstverständlich über Spenden.
URL:https://wandelstadt-esslingen.de/event/reparaturcafe-esslingen/2025-01-18/
LOCATION:ZAK – Zentrum für Arbeit und Kommunikation\, Franziskanergasse 7\, Esslingen\, 73728
ATTACH;FMTTYPE=image/jpeg:https://wandelstadt-esslingen.de/wp-content/uploads/2024/02/230113_RC-Esslingen_Logo_Arial.jpg
END:VEVENT
BEGIN:VEVENT
DTSTART;TZID=Europe/Berlin:20241116T110000
DTEND;TZID=Europe/Berlin:20241116T170000
DTSTAMP:20260421T200546
CREATED:20241018T110833Z
LAST-MODIFIED:20241018T111336Z
UID:10004317-1731754800-1731776400@wandelstadt-esslingen.de
SUMMARY:ReparaturCafé Esslingen
DESCRIPTION:ReparaturCafé – Gebrauchsgegenstände aller Art gemeinsam reparieren. \nDer Fön bleibt kalt? Die Hose hat ein Loch? Das Radio ist verstummt?\nDas Stuhlbein wackelt? Die CD springt? Der Mixer rührt sich nicht mehr? \nOb Kleidung\, Elektrogeräte oder andere Gebrauchsgegenstände – das ReparaturCafé bietet neben dem nötigen Werkzeug auch Materialien\, Tips und tatkräftige Hilfe um defekten Dingen aller Art ein zweites Leben einzuhauchen. Mit unseren freiwilligen Reparatur-Spezialistinnen und -Spezialisten ist die erste Hemmschwelle vor dem Ansetzen von Schraubendreher\, Lötkolben oder Schneiderschere schnell überwunden und schon bald folgt die Erkenntnis: Kaputt muss nicht das Ende sein\, und so kompliziert ist das Reparieren ja gar nicht! So lassen sich Rohstoffe\, Ressourcen und nicht zuletzt auch Geld sparen\, man hilft oder lässt sich helfen\, lernt immer etwas dazu\, trifft nette Menschen oder trinkt einfach nur einen Kaffee. Für die Leckereien an der Cafétheke kooperieren wir mit foodsharing Esslingen\, einer Freiwilligenorganisation die Lebensmittel vor dem Wegwerfen rettet. Die Teilnahme am ReparaturCafé ist übrigens kostenlos\, wir freuen uns aber selbstverständlich über Spenden.
URL:https://wandelstadt-esslingen.de/event/reparaturcafe-esslingen/2024-11-16/
LOCATION:ZAK – Zentrum für Arbeit und Kommunikation\, Franziskanergasse 7\, Esslingen\, 73728
ATTACH;FMTTYPE=image/jpeg:https://wandelstadt-esslingen.de/wp-content/uploads/2024/02/230113_RC-Esslingen_Logo_Arial.jpg
END:VEVENT
END:VCALENDAR