BEGIN:VCALENDAR
VERSION:2.0
PRODID:-//Wandelstadt Esslingen - ECPv6.15.20//NONSGML v1.0//EN
CALSCALE:GREGORIAN
METHOD:PUBLISH
X-ORIGINAL-URL:https://wandelstadt-esslingen.de
X-WR-CALDESC:Veranstaltungen für Wandelstadt Esslingen
REFRESH-INTERVAL;VALUE=DURATION:PT1H
X-Robots-Tag:noindex
X-PUBLISHED-TTL:PT1H
BEGIN:VTIMEZONE
TZID:Europe/Berlin
BEGIN:DAYLIGHT
TZOFFSETFROM:+0100
TZOFFSETTO:+0200
TZNAME:CEST
DTSTART:20220327T010000
END:DAYLIGHT
BEGIN:STANDARD
TZOFFSETFROM:+0200
TZOFFSETTO:+0100
TZNAME:CET
DTSTART:20221030T010000
END:STANDARD
BEGIN:DAYLIGHT
TZOFFSETFROM:+0100
TZOFFSETTO:+0200
TZNAME:CEST
DTSTART:20230326T010000
END:DAYLIGHT
BEGIN:STANDARD
TZOFFSETFROM:+0200
TZOFFSETTO:+0100
TZNAME:CET
DTSTART:20231029T010000
END:STANDARD
BEGIN:DAYLIGHT
TZOFFSETFROM:+0100
TZOFFSETTO:+0200
TZNAME:CEST
DTSTART:20240331T010000
END:DAYLIGHT
BEGIN:STANDARD
TZOFFSETFROM:+0200
TZOFFSETTO:+0100
TZNAME:CET
DTSTART:20241027T010000
END:STANDARD
BEGIN:DAYLIGHT
TZOFFSETFROM:+0100
TZOFFSETTO:+0200
TZNAME:CEST
DTSTART:20250330T010000
END:DAYLIGHT
BEGIN:STANDARD
TZOFFSETFROM:+0200
TZOFFSETTO:+0100
TZNAME:CET
DTSTART:20251026T010000
END:STANDARD
BEGIN:DAYLIGHT
TZOFFSETFROM:+0100
TZOFFSETTO:+0200
TZNAME:CEST
DTSTART:20260329T010000
END:DAYLIGHT
BEGIN:STANDARD
TZOFFSETFROM:+0200
TZOFFSETTO:+0100
TZNAME:CET
DTSTART:20261025T010000
END:STANDARD
END:VTIMEZONE
BEGIN:VEVENT
DTSTART;TZID=Europe/Berlin:20251118T193000
DTEND;TZID=Europe/Berlin:20251118T213000
DTSTAMP:20260422T001602
CREATED:20251028T132614Z
LAST-MODIFIED:20251028T132614Z
UID:10007121-1763494200-1763501400@wandelstadt-esslingen.de
SUMMARY:Keine Angst vor der Wärmepumpe - günstige Alternativen
DESCRIPTION:Im praxisbezogenen Vortrag werden unmittelbar umsetzbare Vorschläge zur Wärme- und Stromerzeugung in den eigenen vier Wänden vorgestellt\, bis hin zu alternativen Wegen zur völligen Unabhängigkeit von fossilen Energieträgern. \nFolgende Fragestellungen stehen dabei im Vordergrund: \n– Wie sieht der zukünftige Strombedarf für eine komplette Familie aus (inkl. Mobilität\, Heizen\, Warmwasser\, Haushaltsstrom\, Klimaanlage etc.)? \n– Wie könnten sich die Preise für Strom\, Gas und CO2 zukünftig entwickeln? \n– Was sollte beim Hausbau bezogen auf die Hitzeentwicklung und Wasserversorgung beachtet werden? \n– Warmwasser-Solaranlage (Solarthermie) vs. Photovoltaik?
URL:https://wandelstadt-esslingen.de/event/keine-angst-vor-der-waermepumpe-guenstige-alternativen-4/
LOCATION:VHS Esslingen\, Mettinger Str. 125\, Esslingen\, 73728
ORGANIZER;CN="Volkshochschule Esslingen":MAILTO:info@vhs-esslingen.de
END:VEVENT
BEGIN:VEVENT
DTSTART;TZID=Europe/Berlin:20250426T090000
DTEND;TZID=Europe/Berlin:20250426T120000
DTSTAMP:20260422T001602
CREATED:20250328T173815Z
LAST-MODIFIED:20250328T173815Z
UID:10004973-1745658000-1745668800@wandelstadt-esslingen.de
SUMMARY:Ich mach mich vegan(er)
DESCRIPTION:Du möchtest Deinen Alltag vegan(er) gestalten? Hier gibt`s alle Infos\, Tipps und Tricks. \nHier bist Du genau richtig: \nWenn Dir noch ein paar kleine Bausteine zum „vegan sein“ fehlen \nWenn Du gerade erst beginnst\, Dich mit der pflanzlichen Ernährung auseinanderzusetzen \nUnd natürlich auf allen Stationen dazwischen. \n  \nSende Deine individuellen Fragen gerne schon mit der Anmeldung zum Kurs an ZuZule@mail.de \n  \nWir tauschen uns in gemütlicher Atmosphäre aus\, testen vegane Lebensmittel\, genießen ein rein pflanzliches Frühstück\, für das wir auch Kleinigkeiten gemeinsam zubereiten \n– und uns so zusammen auf die spannende vegan(er)-werden-Reise begeben. \n\n\nMaterial \n\nBitte mitbringen: 10€ Lebensmittelgebür \nAnmeldung bei der VHS – Anmeldegebühr 28 €.
URL:https://wandelstadt-esslingen.de/event/ich-mach-mich-veganer-2/
LOCATION:VHS Esslingen\, Mettinger Str. 125\, Esslingen\, 73728
CATEGORIES:Gemütliches Treffen,Infoveranstaltung
ORGANIZER;CN="Volkshochschule Esslingen":MAILTO:info@vhs-esslingen.de
END:VEVENT
BEGIN:VEVENT
DTSTART;VALUE=DATE:20240421
DTEND;VALUE=DATE:20240422
DTSTAMP:20260422T001602
CREATED:20240108T120839Z
LAST-MODIFIED:20240108T121013Z
UID:10002218-1713657600-1713742200@wandelstadt-esslingen.de
SUMMARY:Barcamp Nachhaltigkeit und Gesundheit
DESCRIPTION:Das 2. Barcamp Nachhaltigkeit und Gesundheit findet statt am Samstag\, 20.04.\, und am Sonntag\, 21.04.2024. 2023 wird es kein BCNG geben.\n \nDas Event ans sich findet jährlich an der VHS Esslingen bei Stuttgart statt. Wir treffen uns live vor Ort. Bei diesem Barcamp geht es um die die Themen Nachhaltigkeit und Gesundheit. Alle Teilnehmenden sind eingeladen\, ihr Wissen und ihre persönichen Erfahrungen weiterzugeben sowie Fragen und Diskussionen einzubringen. Aus diesen ergibt sich ein spontanes\, aktuelles und für alle spannendes Tagesprogramm! \nEs ist auf ehrenamtlicher Basis organisiert und durchgeführt. Anmeldungen sind ab dem 1. Februar möglich. Es wird pro Person und Tag 25 Euro inkl. Verpflegung kosten.\nInfos für Teilnehmende als auch Sponsoren/Sponsorinnen und UnterstützerInnen findet man auf der Website www.bcng.de. Auch ist dort eine Möglichkeit hinterlegt zur Anmeldung zum Newsletter.
URL:https://wandelstadt-esslingen.de/event/barcamp-nachhaltigkeit-und-gesundheit/2024-04-21/
LOCATION:VHS Esslingen\, Mettinger Str. 125\, Esslingen\, 73728
ATTACH;FMTTYPE=image/png:https://wandelstadt-esslingen.de/wp-content/uploads/2024/01/Logo_barcamp-Nachhaltigkeit-Gesundheit_header-993dac20.png
END:VEVENT
BEGIN:VEVENT
DTSTART;VALUE=DATE:20240420
DTEND;VALUE=DATE:20240421
DTSTAMP:20260422T001602
CREATED:20240108T120839Z
LAST-MODIFIED:20240108T121013Z
UID:10002217-1713571200-1713657599@wandelstadt-esslingen.de
SUMMARY:Barcamp Nachhaltigkeit und Gesundheit
DESCRIPTION:Das 2. Barcamp Nachhaltigkeit und Gesundheit findet statt am Samstag\, 20.04.\, und am Sonntag\, 21.04.2024. 2023 wird es kein BCNG geben.\n \nDas Event ans sich findet jährlich an der VHS Esslingen bei Stuttgart statt. Wir treffen uns live vor Ort. Bei diesem Barcamp geht es um die die Themen Nachhaltigkeit und Gesundheit. Alle Teilnehmenden sind eingeladen\, ihr Wissen und ihre persönichen Erfahrungen weiterzugeben sowie Fragen und Diskussionen einzubringen. Aus diesen ergibt sich ein spontanes\, aktuelles und für alle spannendes Tagesprogramm! \nEs ist auf ehrenamtlicher Basis organisiert und durchgeführt. Anmeldungen sind ab dem 1. Februar möglich. Es wird pro Person und Tag 25 Euro inkl. Verpflegung kosten.\nInfos für Teilnehmende als auch Sponsoren/Sponsorinnen und UnterstützerInnen findet man auf der Website www.bcng.de. Auch ist dort eine Möglichkeit hinterlegt zur Anmeldung zum Newsletter.
URL:https://wandelstadt-esslingen.de/event/barcamp-nachhaltigkeit-und-gesundheit/2024-04-20/
LOCATION:VHS Esslingen\, Mettinger Str. 125\, Esslingen\, 73728
ATTACH;FMTTYPE=image/png:https://wandelstadt-esslingen.de/wp-content/uploads/2024/01/Logo_barcamp-Nachhaltigkeit-Gesundheit_header-993dac20.png
END:VEVENT
BEGIN:VEVENT
DTSTART;TZID=Europe/Berlin:20231018T180000
DTEND;TZID=Europe/Berlin:20231018T200000
DTSTAMP:20260422T001602
CREATED:20231009T081536Z
LAST-MODIFIED:20231009T081536Z
UID:10002022-1697652000-1697659200@wandelstadt-esslingen.de
SUMMARY:Gemüse haltbar machen - fermentieren Workshop
DESCRIPTION:Herbstzeit ist Einmachzeit! Regionales Gemüse im Überfluss\, der Gärtner*in wird endlich reich belohnt nach all den Mühen. \nGemeinsam mit Bine habt ihr am 18.10.23 die Möglichkeit allerlei Gemüse zu fermentieren oder wie Oma schon sagte: milchsauervergären. Alles soll bis in den Winter und länger haltbar sein…von purem Gemüse bis Kimchi (koreanische Art des Sauerkrauts)…\nIhr habt die Gelegenheit neue kreative Lösungen auszuprobieren. Alles auf jeden Fall ohne Zusatzstoffe und Pestizide\, aber mit regionalem Obst & Gemüse und frischen Kräutern.
URL:https://wandelstadt-esslingen.de/event/gemuese-haltbar-machen-fermentieren-workshop/
LOCATION:VHS Esslingen\, Mettinger Str. 125\, Esslingen\, 73728
ORGANIZER;CN="Frag die Bine":MAILTO:bine@gutes-leben-akademie.de
END:VEVENT
BEGIN:VEVENT
DTSTART;TZID=Europe/Berlin:20230513T150000
DTEND;TZID=Europe/Berlin:20230513T170000
DTSTAMP:20260422T001602
CREATED:20230331T084227Z
LAST-MODIFIED:20230331T084227Z
UID:10000895-1683990000-1683997200@wandelstadt-esslingen.de
SUMMARY:Blühende Gärten - Tipps und Tricks für einen insektenfreundlichen Garten
DESCRIPTION:Blühende Stauden\, bunte Schmetterlinge und zwitschernde Vögel – klingt das nicht nach einem paradiesischen Garten? – Mit nur wenig Aufwand oder Vorwissen können wir der heimischen Pflanzen- und Tierwelt einen Lebensraum bieten. Ob privater Garten oder gewerblich genutztes Gebiet: Auch die kleinste Fläche kann einen großen Beitrag zum Natur- und Umweltschutz leisten und kann dabei auch noch gut aussehen. Legen Sie Ihren Garten so an\, dass Sie sich dort genauso wohlfühlen wie Tagpfauenauge\, Zaunkönig und Erdhummel! \nIm Rahmen eines Rundgangs durch den Garten der Familie Eppinger lernen Sie einfach umsetzbare Naturgartenelemente kennen. Weitere Anleitungen finden Sie in der zum Kurs gehörenden Broschüre. \nTreffpunkt: Esslingen\, Uhlbacher Str. 68\, \nBroschüre EUR 5 vor Ort extra (falls gewünscht) \nFür interessierte Teilnehmer:innen des Bonusprogramms (VHS-Card) ist eine Internetanmeldung nicht möglich. Bitte melden Sie sich telefonisch unter 0711 550210 oder per Email info@vhs-esslingen.de zu dieser Veranstaltung an.
URL:https://wandelstadt-esslingen.de/event/bluehende-gaerten-tipps-und-tricks-fuer-einen-insektenfreundlichen-garten/
LOCATION:VHS Esslingen\, Mettinger Str. 125\, Esslingen\, 73728
END:VEVENT
END:VCALENDAR