BEGIN:VCALENDAR
VERSION:2.0
PRODID:-//Wandelstadt Esslingen - ECPv6.15.20//NONSGML v1.0//EN
CALSCALE:GREGORIAN
METHOD:PUBLISH
X-WR-CALNAME:Wandelstadt Esslingen
X-ORIGINAL-URL:https://wandelstadt-esslingen.de
X-WR-CALDESC:Veranstaltungen für Wandelstadt Esslingen
REFRESH-INTERVAL;VALUE=DURATION:PT1H
X-Robots-Tag:noindex
X-PUBLISHED-TTL:PT1H
BEGIN:VTIMEZONE
TZID:Europe/Berlin
BEGIN:DAYLIGHT
TZOFFSETFROM:+0100
TZOFFSETTO:+0200
TZNAME:CEST
DTSTART:20240331T010000
END:DAYLIGHT
BEGIN:STANDARD
TZOFFSETFROM:+0200
TZOFFSETTO:+0100
TZNAME:CET
DTSTART:20241027T010000
END:STANDARD
BEGIN:DAYLIGHT
TZOFFSETFROM:+0100
TZOFFSETTO:+0200
TZNAME:CEST
DTSTART:20250330T010000
END:DAYLIGHT
BEGIN:STANDARD
TZOFFSETFROM:+0200
TZOFFSETTO:+0100
TZNAME:CET
DTSTART:20251026T010000
END:STANDARD
BEGIN:DAYLIGHT
TZOFFSETFROM:+0100
TZOFFSETTO:+0200
TZNAME:CEST
DTSTART:20260329T010000
END:DAYLIGHT
BEGIN:STANDARD
TZOFFSETFROM:+0200
TZOFFSETTO:+0100
TZNAME:CET
DTSTART:20261025T010000
END:STANDARD
END:VTIMEZONE
BEGIN:VEVENT
DTSTART;TZID=Europe/Berlin:20251011T100000
DTEND;TZID=Europe/Berlin:20251011T160000
DTSTAMP:20260422T032642
CREATED:20250925T115328Z
LAST-MODIFIED:20250926T080137Z
UID:10006594-1760176800-1760198400@wandelstadt-esslingen.de
SUMMARY:ZuZule Tag der Nachhaltigkeit in Plochingen
DESCRIPTION:Vortrag: Nachhaltigkeit im Alltag (ZuZule) – denn jede*r kann was tun :-) Mitmachaktionen: Cleanup – Wildkräuter Werkstatt – Seedbombs – Hafermilch selbst herstellen – Apfelsaft pressen – Kinderbuch Lesung mit Bastelaktion besonderes Highlight: kleine Exkursion zu den Bibern auf den Bruckenwasen \n \nWir ALLE können GEMEINSAM unsere Welt zu einem schöneren Ort machen und diese auch für nachfolgende Generationen schützen und erhalten.\n \nfür das leibliche Wohl ist – natürlich nachhaltig lecker – gesorgt ;-)\n \nEINTRITT FREI Anmeldung wäre toll für unsere Planung :-) schreibt Eure Anmeldung bitte an >>> Brigitte.Beier@umweltzentrum-neckar-fils.de\n\nVeranstaltungsort >>>\n\n\nUmweltzentrum Neckar-Fils e.V. Am Bruckenbach 20 73207 Plochingen
URL:https://wandelstadt-esslingen.de/event/zuzule-tag-der-nachhaltigkeit-in-plochingen/
LOCATION:Umweltzentrum Neckar-Fils\, Am Bruckenbach 20\, Plochingen\, 73207\, Deutschland
CATEGORIES:Infoveranstaltung,Workshop
ORGANIZER;CN="ZuZule":MAILTO:zuzule@mail.de
END:VEVENT
END:VCALENDAR