BEGIN:VCALENDAR
VERSION:2.0
PRODID:-//Wandelstadt Esslingen - ECPv6.15.20//NONSGML v1.0//EN
CALSCALE:GREGORIAN
METHOD:PUBLISH
X-ORIGINAL-URL:https://wandelstadt-esslingen.de
X-WR-CALDESC:Veranstaltungen für Wandelstadt Esslingen
REFRESH-INTERVAL;VALUE=DURATION:PT1H
X-Robots-Tag:noindex
X-PUBLISHED-TTL:PT1H
BEGIN:VTIMEZONE
TZID:Europe/Berlin
BEGIN:DAYLIGHT
TZOFFSETFROM:+0100
TZOFFSETTO:+0200
TZNAME:CEST
DTSTART:20240331T010000
END:DAYLIGHT
BEGIN:STANDARD
TZOFFSETFROM:+0200
TZOFFSETTO:+0100
TZNAME:CET
DTSTART:20241027T010000
END:STANDARD
BEGIN:DAYLIGHT
TZOFFSETFROM:+0100
TZOFFSETTO:+0200
TZNAME:CEST
DTSTART:20250330T010000
END:DAYLIGHT
BEGIN:STANDARD
TZOFFSETFROM:+0200
TZOFFSETTO:+0100
TZNAME:CET
DTSTART:20251026T010000
END:STANDARD
BEGIN:DAYLIGHT
TZOFFSETFROM:+0100
TZOFFSETTO:+0200
TZNAME:CEST
DTSTART:20260329T010000
END:DAYLIGHT
BEGIN:STANDARD
TZOFFSETFROM:+0200
TZOFFSETTO:+0100
TZNAME:CET
DTSTART:20261025T010000
END:STANDARD
BEGIN:DAYLIGHT
TZOFFSETFROM:+0100
TZOFFSETTO:+0200
TZNAME:CEST
DTSTART:20270328T010000
END:DAYLIGHT
BEGIN:STANDARD
TZOFFSETFROM:+0200
TZOFFSETTO:+0100
TZNAME:CET
DTSTART:20271031T010000
END:STANDARD
END:VTIMEZONE
BEGIN:VEVENT
DTSTART;TZID=Europe/Berlin:20260414T133000
DTEND;TZID=Europe/Berlin:20260414T170000
DTSTAMP:20260421T151434
CREATED:20260402T094530Z
LAST-MODIFIED:20260402T094530Z
UID:10009316-1776173400-1776186000@wandelstadt-esslingen.de
SUMMARY:Stadtteilspaziergang Pliensauvorstadt
DESCRIPTION:Die „Kurzen Wege“ des StadtSeniorenRates für Menschen\, die nicht mehr so gut zu Fuß sind\,  führen diesen Monat in die Pliensauvorstadt. Ziel ist zunächst das Mehrgenerationen- und Bürgerhaus. Gudrun Becker\, 1. Vorsitzende des Fördervereins\, wird anschließend bei einem Stadtteilspaziergang über die aktuellen Entwicklungen in der Pliensauvorstadt informieren. Bei Kaffee und Hefezopf im „Café über der Brück“ klingt der Nachmittag in geselliger Runde aus.  Treffpunkt: 13.30 Uhr am ZOB (Bahnhofsplatz). Um Anmeldung bei Max Stadler wird gebeten. Tel.: 0711 8261308\, E-Mail: max.j.a.stadler@gmx.de \n 
URL:https://wandelstadt-esslingen.de/event/stadtteilspaziergang-pliensauvorstadt/
LOCATION:Treffpunkt am ZOB\, Bahnhof\, Esslingen
ATTACH;FMTTYPE=image/jpeg:https://wandelstadt-esslingen.de/wp-content/uploads/2025/05/Logo-SSR.jpg
END:VEVENT
BEGIN:VEVENT
DTSTART;TZID=Europe/Berlin:20260310T133000
DTEND;TZID=Europe/Berlin:20260310T170000
DTSTAMP:20260421T151434
CREATED:20260221T102430Z
LAST-MODIFIED:20260221T102430Z
UID:10009120-1773149400-1773162000@wandelstadt-esslingen.de
SUMMARY:Stadtspaziergang zur Frauenkirche
DESCRIPTION:Die „Kurzen Wege“ führen heuer zur Frauenkirche\, ein herausragendes Bauwerk der Spätgotik\, das nach fast 200 Jahren Bauzeit 1516 vollendet wurde. Nach einer Führung geht es in die typischen Altstadtgassen der Beutau zum Tagestreff St.Vinzenz\, wo Kaffee und Kuchen warten. Treffpunkt: 13.30 Uhr am ZOB (Bahnhofsplatz)\, Anmeldung: Max Stadler Tel.: 0711-826 1308
URL:https://wandelstadt-esslingen.de/event/stadtspaziergang-zur-frauenkirche/
LOCATION:Treffpunkt am ZOB\, Bahnhof\, Esslingen
CATEGORIES:Gemütliches Treffen
ATTACH;FMTTYPE=image/jpeg:https://wandelstadt-esslingen.de/wp-content/uploads/2025/02/Logo-SSR.jpg
END:VEVENT
BEGIN:VEVENT
DTSTART;TZID=Europe/Berlin:20260304T093000
DTEND;TZID=Europe/Berlin:20260304T170000
DTSTAMP:20260421T151434
CREATED:20260220T154851Z
LAST-MODIFIED:20260220T154851Z
UID:10009115-1772616600-1772643600@wandelstadt-esslingen.de
SUMMARY:Wanderung nach Stetten
DESCRIPTION:Der Stadtseniorenrat lädt zu einer  ca. 7 km langen\, leichten Wanderung  vom Jägerhaus durch den Schurwald und die Weinberge nach Stetten ein. Im Vereinsheim des TV wollen wir mittags einkehren. Anschließend geht es mit dem Relexbus X20 zurück nach Esslingen. Treffpunkt: 9. 40 Uhr ZOB\, Bussteig 7 oder 10 Uhr Bushaltestelle Jägerhaus. Anmeldung: Andreas Scharschmidt 0172 68 15 317 oder scharandi@web.de
URL:https://wandelstadt-esslingen.de/event/wanderung-nach-stetten/
LOCATION:Treffpunkt am ZOB\, Bahnhof\, Esslingen
CATEGORIES:Wanderung
ATTACH;FMTTYPE=image/jpeg:https://wandelstadt-esslingen.de/wp-content/uploads/2025/05/Logo-SSR.jpg
END:VEVENT
BEGIN:VEVENT
DTSTART;TZID=Europe/Berlin:20260218T090000
DTEND;TZID=Europe/Berlin:20260218T170000
DTSTAMP:20260421T151434
CREATED:20260209T093310Z
LAST-MODIFIED:20260209T093310Z
UID:10008873-1771405200-1771434000@wandelstadt-esslingen.de
SUMMARY:Wanderung von Berkheim ins Körschtal
DESCRIPTION:Der StadtSeniorenRat lädt zu einer rund 10 Km langen (120 Höhenmeter) mittelschweren Wanderung  von Berkheim zur Gaststätte Ponderosa ein. Auf gutem Weg geht es vorbei am Berkheimer Waldheim und der Donareiche\, einem geschichtsträchtigen Naturdenkmal\, ins Körschtal. Entlang dem Deutschen Institut für Textil- und Faserforschung und vorbei an der mächtigen Klingenlinde gelangen die Wanderer anschließend zur Einkehr in die Gaststätte Ponderosa. Nach der Stärkung führt der Rückweg an der Reitanlage Gronbach vorbei ins Körschtal zur gleichnamigen Bushaltestelle. Treffpunkt: 9.35 Uhr Berkheim\, Bushaltestelle Jakobstraße. Anreise ab ZOB Esslingen mit Bus 113 um 9.19 Uhr. Anmeldung: Heinz Reutter Handy: 0175 5648445
URL:https://wandelstadt-esslingen.de/event/wanderung-von-berkheim-ins-koerschtal/
LOCATION:Treffpunkt am ZOB\, Bahnhof\, Esslingen
CATEGORIES:Wanderung
ATTACH;FMTTYPE=image/jpeg:https://wandelstadt-esslingen.de/wp-content/uploads/2026/02/1280px-Naturdenkmal_Klingenlinde_Koengen.jpg
END:VEVENT
BEGIN:VEVENT
DTSTART;TZID=Europe/Berlin:20260204T100000
DTEND;TZID=Europe/Berlin:20260204T170000
DTSTAMP:20260421T151434
CREATED:20260122T091852Z
LAST-MODIFIED:20260122T091852Z
UID:10008710-1770199200-1770224400@wandelstadt-esslingen.de
SUMMARY:Start in die Wandersaison
DESCRIPTION:Die erste\, rund 6 km lange Wanderung im neuen Jahr führt  von der Neckarhalde nach Uhlbach. Zu Beginn der Saison wollen wir es etwas gemütlicher angehen und nach einem kurzen Anstieg mit Blick auf das Neckartal geht es bequem weiter durch die Weinberge nach Uhlbach. Dort wollen wir dann in der „Perle“ einkehren. Die Rückfahrt erfolgt individuell mit dem ÖPNV.  Alle\, auch Nichtmitglieder sind herzlich eingeladen. Treffpunkt ZOB\, Bussteig 7. Abfahrt 10.18 Uhr mit Bus 109 bis Herrenwiesenweg. Anmeldung Claus Lorbeer: c.lorbeer@t-online.de oder 0160 972 83100
URL:https://wandelstadt-esslingen.de/event/start-in-die-wandersaison/
LOCATION:Treffpunkt am ZOB\, Bahnhof\, Esslingen
ATTACH;FMTTYPE=image/jpeg:https://wandelstadt-esslingen.de/wp-content/uploads/2026/01/Uhlbach.jpg
END:VEVENT
BEGIN:VEVENT
DTSTART;TZID=Europe/Berlin:20260113T133000
DTEND;TZID=Europe/Berlin:20260113T170000
DTSTAMP:20260421T151434
CREATED:20260103T105207Z
LAST-MODIFIED:20260103T105207Z
UID:10008232-1768311000-1768323600@wandelstadt-esslingen.de
SUMMARY:Spaziergang zu einem gotischen Kleinod
DESCRIPTION:Mit einem Spaziergang zu einem etwas versteckt gelegenen\, gotischen Kleinods starten der StadtSeniorenRat seine kostenlose Angebote für dieses Jahr. Die „Kurzen Wege“ führen heuer zur Franziskanerkirche\, mit deren Bau 1270 begonnen worden war. Am Stadtrand\, wo einst die Armen wohnten\, hatten sich die von Franz von Assisi inspirierten Bettelmönche niedergelassen. Vom einstigen Bau ist zwar nur noch der Chor erhalten. Doch die vergangene Pracht zeigt sich in den Glasfenstern\, die im Kirchenraum erstrahlen. Nach einer Führung steht eine Einkehr im Café Sonne auf dem Programm. Treffpunkt: Infopoint ZOB 13.30 Uhr. Anmeldung: Petra Ritter 0173 376 7459.
URL:https://wandelstadt-esslingen.de/event/spaziergang-zu-einem-gotischen-kleinod/
LOCATION:Treffpunkt am ZOB\, Bahnhof\, Esslingen
ATTACH;FMTTYPE=image/jpeg:https://wandelstadt-esslingen.de/wp-content/uploads/2026/01/Franziskanerkirche_Esslingen.jpg
END:VEVENT
BEGIN:VEVENT
DTSTART;TZID=Europe/Berlin:20251209T130000
DTEND;TZID=Europe/Berlin:20251209T170000
DTSTAMP:20260421T151434
CREATED:20251121T103308Z
LAST-MODIFIED:20251121T103308Z
UID:10007223-1765285200-1765299600@wandelstadt-esslingen.de
SUMMARY:Auf den Spuren süßer Versuchung
DESCRIPTION:Der nächste „Kurze Weg“ des  StadtSeniorenrates führt in die Macaron Manufaktur nach Berkheim. Feine Handarbeit und süße Versuchung lautet das Motto. Die Teilnehmer erhalten Einblicke in die kunstvolle Herstellung der zarten Köstlichkeiten in vielen Geschmacksrichtungen. Im Anschluss geht es dann zu einem gemütlichen Kaffeetrinken in geselliger Runde. Treffpunkt: 13.25 Uhr\, Steig 9 \, Bus 113. \nAnmeldung: Petra Ritter\, 0173 376 74 59
URL:https://wandelstadt-esslingen.de/event/auf-den-spuren-suesser-versuchung/
LOCATION:Treffpunkt am ZOB\, Bahnhof\, Esslingen
CATEGORIES:Ausflug
ATTACH;FMTTYPE=image/jpeg:https://wandelstadt-esslingen.de/wp-content/uploads/2025/05/Logo-SSR.jpg
END:VEVENT
BEGIN:VEVENT
DTSTART;VALUE=DATE:20251203
DTEND;VALUE=DATE:20251204
DTSTAMP:20260421T151434
CREATED:20251121T102704Z
LAST-MODIFIED:20251121T102704Z
UID:10007222-1764720000-1764806399@wandelstadt-esslingen.de
SUMMARY:Kostenlose Wanderung nach Winterbach
DESCRIPTION:Die nächste\, 7 km lange Wanderung des StadtSeniorenRates führt nach Winterbach. Start ist in Hohengehren und von dort aus geht es zunächst in den Schurwald. Nachdem die Kaiserstraße gequert wurde führt die Tour anschließend abwärts auf dem Lehenbachtalweg bis zum gleichnamigen Stausee. Es folgt ein kurzer Anstieg bis nach Winterbach\, wo in Schmiegs Rems Besen der Mittagstisch wartet. Teilnahme ist auch für Nichtmitglieder möglich. Treffpunkt: 10.45 Uhr ZOB\, Buslinie 106 Richtung Hohengehren\, Bussteig 2\, Anmeldung: Andreas Scharschmidt\, 0172 68 15 317 oder scharandi@web.de
URL:https://wandelstadt-esslingen.de/event/kostenlose-wanderung-nach-winterbach/
LOCATION:Treffpunkt am ZOB\, Bahnhof\, Esslingen
CATEGORIES:Wanderung
ATTACH;FMTTYPE=image/jpeg:https://wandelstadt-esslingen.de/wp-content/uploads/2025/02/Logo-SSR.jpg
END:VEVENT
BEGIN:VEVENT
DTSTART;TZID=Europe/Berlin:20251111T120000
DTEND;TZID=Europe/Berlin:20251111T170000
DTSTAMP:20260421T151434
CREATED:20251030T100350Z
LAST-MODIFIED:20251030T100350Z
UID:10007146-1762862400-1762880400@wandelstadt-esslingen.de
SUMMARY:Ausflug in Geschichte und Kultur
DESCRIPTION:Der StadtSeniorenRat lädt zu einem besonderen Ausflug für Menschen\, die nicht so gut zu Fuß sind\, in die geschichtsträchtige Stadt Kirchheim/Teck ein. Im historischen Museum von 1540 erhalten die Teilnehmer*innen spannende Einblicke in Leben und Werk des Ingenieurs und Schriftstellers Max Eyth sowie anderer bedeutender Persönlichkeiten der Region. Nach einer Stärkung im Gasthaus\, geht es auf einen Spaziergang entlang der idyllischen Lindach zum nahegelegenen Friedhof mit bekannten Grabstätten. Den Abschluss bildet ein Besuch der beeindruckenden Martinskirche\, die bereits 960 urkundlich erwähnt wurde. Zum Ausklang lädt ein Plausch im Café ein. Rückfahrt ist gegen 17 Uhr geplant. Treffpunkt ZOB: 12.00 Uhr\, S1 Gleis 8 \, Unkostenbeitrag: 2\, 50 €\, Anmeldung: Petra Ritter 0173 376 74 59
URL:https://wandelstadt-esslingen.de/event/ausflug-in-geschichte-und-kultur/
LOCATION:Treffpunkt am ZOB\, Bahnhof\, Esslingen
ATTACH;FMTTYPE=image/jpeg:https://wandelstadt-esslingen.de/wp-content/uploads/2025/10/Kurze-Wege-Kirchheim.jpg
END:VEVENT
BEGIN:VEVENT
DTSTART;TZID=Europe/Berlin:20251105T090000
DTEND;TZID=Europe/Berlin:20251105T170000
DTSTAMP:20260421T151435
CREATED:20251022T134609Z
LAST-MODIFIED:20251022T134609Z
UID:10006690-1762333200-1762362000@wandelstadt-esslingen.de
SUMMARY:Wanderung zur Klosterkirche Denkendorf
DESCRIPTION:Die nächste\, ca. 7 km lange\, leichte Wanderung des StadtSeniorenRates führt  von Nellingen zur Klosterkirche in Denkendorf. Vom Ortsausgang Nellingen geht es zunächst hinunter zum Katzenbach und unter dem Viadukt hindurch entlang der Körsch bis zum Freibad in Denkendorf und weiter über den Ponyhof Müller zur Klosterkirche zum heiligen Pelagius. Dort wartet Diakon Martin Allmendinger zu einer ca. einstündigen Führung. Alle Wanderbegeisterte sind herzlich eingeladen. Treffpunkt: 9.40 Uhr Bushaltestelle Nellingen Denkendorferstr. Verbindung: Bus 119 ab ZOB Esslingen um 9.19 Uhr. Anmeldung: Heinz Reutter 0175 5648445
URL:https://wandelstadt-esslingen.de/event/wanderung-zur-klosterkirche-denkendorf/
LOCATION:Treffpunkt am ZOB\, Bahnhof\, Esslingen
ATTACH;FMTTYPE=image/jpeg:https://wandelstadt-esslingen.de/wp-content/uploads/2025/10/Klosterkirche-Denkendorf.jpg
END:VEVENT
BEGIN:VEVENT
DTSTART;TZID=Europe/Berlin:20251001T100000
DTEND;TZID=Europe/Berlin:20251001T170000
DTSTAMP:20260421T151435
CREATED:20250919T101120Z
LAST-MODIFIED:20250919T101120Z
UID:10006559-1759312800-1759338000@wandelstadt-esslingen.de
SUMMARY:Wanderung vom Katzenkopf nach Fellbach
DESCRIPTION:Der StadtSeniorenRat lädt zu einer  6 km langen\, mittelschweren Wanderung  vom Katzenkopf in Wäldenbronn über den Kappelberg nach Fellbach ein. Auf dem Kaisersträßle geht es zunächst teilweise steil ansteigend zum Kernenturm. Anschließend führt der Weg nun abwärts bis zur abgebrannten Linde und weiter durch den Wald und die Weinberge nach Fellbach. Dort wird dann in die Besenwirtschaft Rienth eingekehrt. So gestärkt geht es von Fellbach mit dem Bus 212 nach Rommelshausen bis zur Karlstrasse und weiter mit dem X20 nach Esslingen zurück. Treffpunkt: 10 Uhr ZOB\, Relexbus X20 Richtung Waiblingen\, Bussteig 2\, Zustiegsmöglichkeit entlang der Strecke. Treffpunkt für Selbstfahrer um 10.40 Uhr am Wanderparkplatz am Katzenkopf. Die Teilnahme ist kostenlos und auch für Nichtmitglieder des SSR möglich. Anmeldung: Andreas Scharschmidt: 0172 68 15 317 oder scharandi@web.de
URL:https://wandelstadt-esslingen.de/event/wanderung-vom-katzenkopf-nach-fellbach/
LOCATION:Treffpunkt am ZOB\, Bahnhof\, Esslingen
CATEGORIES:Ausflug
ATTACH;FMTTYPE=image/jpeg:https://wandelstadt-esslingen.de/wp-content/uploads/2025/05/Logo-SSR.jpg
END:VEVENT
BEGIN:VEVENT
DTSTART;TZID=Europe/Berlin:20250917T080000
DTEND;TZID=Europe/Berlin:20250917T170000
DTSTAMP:20260421T151435
CREATED:20250903T100404Z
LAST-MODIFIED:20250903T100404Z
UID:10006497-1758096000-1758128400@wandelstadt-esslingen.de
SUMMARY:Ausflug zur Burg Helfenstein
DESCRIPTION:Der Stadtseniorenrat lädt zu einem Ausflug zur Burg Helfenstein und dem Ödenturm ein.  Die ca. 6 km Wanderung (Aufstieg 250 m\, Trittsicherheit erforderlich) geht vom Bahnhof Geislingen auf die Alte Weilersteige\, die direkt zur Burg Helfenstein\, wegen ihrer Größe einer der bedeutendsten des Landes\, führt. Entlang des Albtraufes wandern wir dann zum Ödenturm\, dem Wahrzeichen von Geislingen und kehren anschließend zurück im Filstal in der Fünftälerstadt ein. Treffpunkt: ZOB Esslingen um 8.30 Uhr. Abfahrt: 8.49 Uhr Gleis 5 nach Geislingen an der Steige\, Wer kein Deutschland Ticket besitzt\, muss eine  Fahrkarte (Gruppenticket) lösen. Anmeldung: Heinz Reutter\, 01755648445
URL:https://wandelstadt-esslingen.de/event/ausflug-zur-burg-helfenstein/
LOCATION:Treffpunkt am ZOB\, Bahnhof\, Esslingen
CATEGORIES:Ausflug
ATTACH;FMTTYPE=image/jpeg:https://wandelstadt-esslingen.de/wp-content/uploads/2025/05/Logo-SSR.jpg
END:VEVENT
BEGIN:VEVENT
DTSTART;TZID=Europe/Berlin:20250916T130000
DTEND;TZID=Europe/Berlin:20250916T170000
DTSTAMP:20260421T151435
CREATED:20250903T101029Z
LAST-MODIFIED:20250903T101029Z
UID:10006498-1758027600-1758042000@wandelstadt-esslingen.de
SUMMARY:Führung durch das historische Wasserkraftwerk
DESCRIPTION:Die Chancen und Herausforderungen der Energiewende stehen im Mittelpunkt der Kurzen Wege des Stadtseniorenrates. Nach einer Fahrt  mit der S1 nach Untertürkheim folgt eine  Führung durch das historische Wasserkraftwerk \, erbaut 1899.  Treffpunkt: 13 Uhr am ZOB\, Fahrt mit der S1 bis Untertürkheim um 13.18 Uhr\, Anmeldung: Petra Ritter 0173 376 74 59
URL:https://wandelstadt-esslingen.de/event/fuehrung-durch-das-historische-wasserkraftwerk/
LOCATION:Treffpunkt am ZOB\, Bahnhof\, Esslingen
CATEGORIES:Ausflug
ATTACH;FMTTYPE=image/jpeg:https://wandelstadt-esslingen.de/wp-content/uploads/2025/02/Logo-SSR.jpg
END:VEVENT
BEGIN:VEVENT
DTSTART;TZID=Europe/Berlin:20250903T130000
DTEND;TZID=Europe/Berlin:20250903T170000
DTSTAMP:20260421T151435
CREATED:20250822T082253Z
LAST-MODIFIED:20250822T082253Z
UID:10006452-1756904400-1756918800@wandelstadt-esslingen.de
SUMMARY:Ferienwanderung auf Esslingens Höhen
DESCRIPTION:Auch in den Ferien müssen wanderlustige Seniorinnen und Senioren nicht auf Bewegung und Begegnung mit anderen verzichten. Unsere zweistündige\, kostenlose  Tour führt dieses Mal auf Esslingens Höhen mit anschließender Einkehr in Hahn’s Most- und Weinbesen. Die Route wird kurzfristig den Witterungsbedingungen angepasst. Treffpunkt um 13.15 Uhr am ZOB\, Abfahrt mit Bus X 20 um 13.23 Uhr. Anmeldung bei Gerhard Haug erforderlich: 37 04 579 oder haug.gerhard@web.de
URL:https://wandelstadt-esslingen.de/event/ferienwanderung-auf-esslingens-hoehen/
LOCATION:Treffpunkt am ZOB\, Bahnhof\, Esslingen
CATEGORIES:Wanderung
ATTACH;FMTTYPE=image/jpeg:https://wandelstadt-esslingen.de/wp-content/uploads/2025/05/Logo-SSR.jpg
END:VEVENT
BEGIN:VEVENT
DTSTART;TZID=Europe/Berlin:20250723T100000
DTEND;TZID=Europe/Berlin:20250723T170000
DTSTAMP:20260421T151435
CREATED:20250712T134737Z
LAST-MODIFIED:20250712T134737Z
UID:10006047-1753264800-1753290000@wandelstadt-esslingen.de
SUMMARY:Auf den Spuren Gottlieb Daimlers
DESCRIPTION:Der letzte Ausflug des StadtSeniorenRates vor der Sommerpause führt in die historische Altstadt Schorndorfs nebst Besichtigung des Geburtshauses von Gottlieb Daimler. Nach vielen spannenden Einblicken in die Geschichte\, wird gemeinsam in ein Lokal in der Innenstadt eingekehrt. Anschließend bleibt bis zur Heimreise gegen 15 Uhr Zeit für einen individuellen Stadtbummel. Nicht nur Mitglieder sind herzlich willkommen. Treffpunkt: 10 Uhr ZOB\, Abfahrt 10.23 Uhr\, Bussteig 2 Richtung Waiblingen. Anmeldung: Andreas Scharschmidt\, 0172 68 15 317 oder scharandi@web.de
URL:https://wandelstadt-esslingen.de/event/auf-den-spuren-gottlieb-daimlers/
LOCATION:Treffpunkt am ZOB\, Bahnhof\, Esslingen
CATEGORIES:Ausflug
ATTACH;FMTTYPE=image/jpeg:https://wandelstadt-esslingen.de/wp-content/uploads/2025/07/500px-Gottlieb-Daimler-Geburtshaus.jpg
END:VEVENT
BEGIN:VEVENT
DTSTART;TZID=Europe/Berlin:20250528T090000
DTEND;TZID=Europe/Berlin:20250528T160000
DTSTAMP:20260421T151435
CREATED:20250516T105654Z
LAST-MODIFIED:20250516T105654Z
UID:10005401-1748422800-1748448000@wandelstadt-esslingen.de
SUMMARY:Ausflug in die historische Altstadt von Tübingen
DESCRIPTION:Der StadtSeniorenRat lädt zu einem Ausflug in die historische Tübinger Altstadt ein. Durch den Anlagenpark geht es zunächst zum ersten Taubenhaus der Stadt\, wo wir zu einer professionellen Führung (Treppen und Anstiege\, Kosten je 5 Euro) erwartet werden. Anschließend sind Plätze im Biergarten direkt am Neckar reserviert. Gegen 16.00 Uhr ist die Heimreise geplant. Treffpunkt: 9.15 Uhr ZOB\, Regiobahn nach Tübinger\, Gleis 6\, Abfahrt 9.35 Uhr. Anmeldung: Andreas Scharschmidt 0172 68 15 317 oder scharandi@web.de
URL:https://wandelstadt-esslingen.de/event/ausflug-in-die-historische-altstadt-von-tuebingen/
LOCATION:Treffpunkt am ZOB\, Bahnhof\, Esslingen
CATEGORIES:Ausflug
ATTACH;FMTTYPE=image/jpeg:https://wandelstadt-esslingen.de/wp-content/uploads/2025/05/1227_Altstadt-Tuebingen-Neckarkulisse-2-1-von-1.jpg
END:VEVENT
END:VCALENDAR