BEGIN:VCALENDAR
VERSION:2.0
PRODID:-//Wandelstadt Esslingen - ECPv6.15.20//NONSGML v1.0//EN
CALSCALE:GREGORIAN
METHOD:PUBLISH
X-ORIGINAL-URL:https://wandelstadt-esslingen.de
X-WR-CALDESC:Veranstaltungen für Wandelstadt Esslingen
REFRESH-INTERVAL;VALUE=DURATION:PT1H
X-Robots-Tag:noindex
X-PUBLISHED-TTL:PT1H
BEGIN:VTIMEZONE
TZID:Europe/Berlin
BEGIN:DAYLIGHT
TZOFFSETFROM:+0100
TZOFFSETTO:+0200
TZNAME:CEST
DTSTART:20250330T010000
END:DAYLIGHT
BEGIN:STANDARD
TZOFFSETFROM:+0200
TZOFFSETTO:+0100
TZNAME:CET
DTSTART:20251026T010000
END:STANDARD
BEGIN:DAYLIGHT
TZOFFSETFROM:+0100
TZOFFSETTO:+0200
TZNAME:CEST
DTSTART:20260329T010000
END:DAYLIGHT
BEGIN:STANDARD
TZOFFSETFROM:+0200
TZOFFSETTO:+0100
TZNAME:CET
DTSTART:20261025T010000
END:STANDARD
BEGIN:DAYLIGHT
TZOFFSETFROM:+0100
TZOFFSETTO:+0200
TZNAME:CEST
DTSTART:20270328T010000
END:DAYLIGHT
BEGIN:STANDARD
TZOFFSETFROM:+0200
TZOFFSETTO:+0100
TZNAME:CET
DTSTART:20271031T010000
END:STANDARD
END:VTIMEZONE
BEGIN:VEVENT
DTSTART;TZID=Europe/Berlin:20260310T200000
DTEND;TZID=Europe/Berlin:20260310T220000
DTSTAMP:20260421T220845
CREATED:20260224T162734Z
LAST-MODIFIED:20260224T162734Z
UID:10009134-1773172800-1773180000@wandelstadt-esslingen.de
SUMMARY:Call Jane
DESCRIPTION:Kinofilm (2022) Joy\, eine Hausfrau und Mutter in Chicago 1968\, erfährt\, dass ihre zweite Schwangerschaﬅ ihr Leben gefährdet. Ein rein männliches Klinikgremium verweigert ihr eine legale Abtreibung. In ihrer Verzweiflung stößt sie auf die geheime Frauenorganisation Jane\, die illegale Schwangerschaﬅsabbrüche ermöglicht. Nach ihrer eigenen Abtreibung engagiert sie sich zunehmend\, hilﬅ anderen Frauen und lernt\, die Eingriﬀe selbst durchzuführen. Mit wachsendem politischen Bewusstsein unterstützt sie Jane bis zur Legalisierung von Abtreibungen durch den Supreme Court 1973. Der Film erzählt die wahre Geschichte einer kleinen Gruppe von Frauen\, die in den 1970ern in Chicago eine Untergrundorganisation für Schwangerschaﬅsabbrüche aufbauten. Regie : Phyllis Nagy USA\, 122 min
URL:https://wandelstadt-esslingen.de/event/call-jane/
LOCATION:Traumpalast\, Kollwitzstraße 1\, Esslingen\, Deutschland
END:VEVENT
END:VCALENDAR