BEGIN:VCALENDAR
VERSION:2.0
PRODID:-//Wandelstadt Esslingen - ECPv6.15.20//NONSGML v1.0//EN
CALSCALE:GREGORIAN
METHOD:PUBLISH
X-WR-CALNAME:Wandelstadt Esslingen
X-ORIGINAL-URL:https://wandelstadt-esslingen.de
X-WR-CALDESC:Veranstaltungen für Wandelstadt Esslingen
REFRESH-INTERVAL;VALUE=DURATION:PT1H
X-Robots-Tag:noindex
X-PUBLISHED-TTL:PT1H
BEGIN:VTIMEZONE
TZID:Europe/Berlin
BEGIN:DAYLIGHT
TZOFFSETFROM:+0100
TZOFFSETTO:+0200
TZNAME:CEST
DTSTART:20240331T010000
END:DAYLIGHT
BEGIN:STANDARD
TZOFFSETFROM:+0200
TZOFFSETTO:+0100
TZNAME:CET
DTSTART:20241027T010000
END:STANDARD
BEGIN:DAYLIGHT
TZOFFSETFROM:+0100
TZOFFSETTO:+0200
TZNAME:CEST
DTSTART:20250330T010000
END:DAYLIGHT
BEGIN:STANDARD
TZOFFSETFROM:+0200
TZOFFSETTO:+0100
TZNAME:CET
DTSTART:20251026T010000
END:STANDARD
BEGIN:DAYLIGHT
TZOFFSETFROM:+0100
TZOFFSETTO:+0200
TZNAME:CEST
DTSTART:20260329T010000
END:DAYLIGHT
BEGIN:STANDARD
TZOFFSETFROM:+0200
TZOFFSETTO:+0100
TZNAME:CET
DTSTART:20261025T010000
END:STANDARD
BEGIN:DAYLIGHT
TZOFFSETFROM:+0100
TZOFFSETTO:+0200
TZNAME:CEST
DTSTART:20270328T010000
END:DAYLIGHT
BEGIN:STANDARD
TZOFFSETFROM:+0200
TZOFFSETTO:+0100
TZNAME:CET
DTSTART:20271031T010000
END:STANDARD
END:VTIMEZONE
BEGIN:VEVENT
DTSTART;TZID=Europe/Berlin:20260415T180000
DTEND;TZID=Europe/Berlin:20260415T180000
DTSTAMP:20260422T021839
CREATED:20260312T071533Z
LAST-MODIFIED:20260312T071533Z
UID:10009210-1776276000-1776276000@wandelstadt-esslingen.de
SUMMARY:Sicher. Stark. Nein heißt Nein! – Kurs für Frauen ab 16 Jahren
DESCRIPTION:Wie erkenne ich gefährliche Situationen frühzeitig? Wie setze ich klare Grenzen und trete selbstbewusst auf? \nDer Selbstbehauptungskurs „Sicher. Stark. Nein heißt Nein!“ vermittelt Mädchen und Frauen ab 16 Jahren praxisnahe Strategien für mehr Sicherheit im Alltag. \nIn geschützter Atmosphäre zeigen eine Polizeibeamtin und ein Anti-Gewalt-Trainer\, wie Gefahrensituationen früh erkannt und Übergriffe im öffentlichen Raum besser abgewehrt werden können. Die Teilnehmerinnen lernen\, ihre Körpersprache und Stimme gezielt einzusetzen\, klar zu kommunizieren und Grenzen zu setzen. Darüber hinaus werden Strategien zur Deeskalation und Zivilcourage vermittelt und in situativen Übungsszenarien praktisch erprobt. \nDer Kurs stärkt das Selbstbewusstsein und vermittelt konkrete Handlungsmöglichkeiten für schwierige Situationen. \nVeranstaltungsort:\nStiftung Jugendhilfe aktiv\nMülbergerstr. 146\n73728 Esslingen am Neckar \nPreis: kostenlos. \n\n\n\n\n\n\nHinweis: Für Mädchen und Frauen ab 16 Jahren. Die Plätze sind begrenzt.\n\nJetzt anmelden!\n\nWeitere Termine: 14. Oktober (Nürtingen) · 17. November (Kirchheim)\n\n\nPräsentiert von: Ein Stern für Lena e. V.\, Referat für Chancengleichheit\, Polizei Baden-Württemberg\, Landkreis Esslingen\, fobi:aktiv
URL:https://wandelstadt-esslingen.de/event/sicher-stark-nein-heisst-nein-kurs-fuer-frauen-ab-16-jahren-6/
LOCATION:Theodor Rotschild Haus\, Mülbergerstraße 146\, Esslingen\, Baden-Württemberg\, 73728
CATEGORIES:Workshop
ATTACH;FMTTYPE=image/jpeg:https://wandelstadt-esslingen.de/wp-content/uploads/2026/03/260312-Flyer-SicherStark-digital_2026-1.jpg
END:VEVENT
BEGIN:VEVENT
DTSTART;TZID=Europe/Berlin:20251001T180000
DTEND;TZID=Europe/Berlin:20251001T210000
DTSTAMP:20260422T021839
CREATED:20250624T101244Z
LAST-MODIFIED:20250624T101244Z
UID:10005685-1759341600-1759352400@wandelstadt-esslingen.de
SUMMARY:Sicher. Stark. Nein heißt Nein! – Kurs für Frauen ab 16 Jahren
DESCRIPTION:Lerne im geschützten Raum\, wie du gefährliche Situationen rechtzeitig erkennst und dich erfolgreich schützen kannst! \nEine Polizeibeamtin und ein Anti-Gewalt-Trainer geben dir Tipps für selbstbewusste Körpersprache\, klare Kommunikation sowie Strategien zur Deeskalation und Zivilcourage. \nDer Kurs ist für die Teilnehmerinnen kostenlos. \nVerbindliche Anmeldung bis 22. September 2025 \nunter: https://apps.esslingen.de/Veranstaltungen/Anmeldung?Nr=39 \nNoch Fragen? Schreib uns an: reutlingen.pp.praevention.kpraev.es@polizei.bwl.de
URL:https://wandelstadt-esslingen.de/event/sicher-stark-nein-heisst-nein-kurs-fuer-frauen-ab-16-jahren-5/
LOCATION:Theodor Rotschild Haus\, Mülbergerstraße 146\, Esslingen\, Baden-Württemberg\, 73728
CATEGORIES:Workshop
END:VEVENT
BEGIN:VEVENT
DTSTART;TZID=Europe/Berlin:20250716T180000
DTEND;TZID=Europe/Berlin:20250716T210000
DTSTAMP:20260422T021839
CREATED:20250610T093519Z
LAST-MODIFIED:20250610T093519Z
UID:10005642-1752688800-1752699600@wandelstadt-esslingen.de
SUMMARY:Sicher. Stark. Nein heißt Nein! – Kurs für Frauen ab 16 Jahren
DESCRIPTION:Lerne im geschützten Raum\, wie du gefährliche Situationen rechtzeitig erkennst und dich erfolgreich schützen kannst! \nEine Polizeibeamtin und ein Anti-Gewalt-Trainer geben dir Tipps für selbstbewusste Körpersprache\, klare Kommunikation sowie Strategien zur Deeskalation und Zivilcourage. \nDer Kurs ist für die Teilnehmerinnen kostenlos. \nVerbindliche Anmeldung bis 8. Juli 2025 \nunter: https://apps.esslingen.de/Veranstaltungen/Anmeldung?Nr=39 \nNoch Fragen? Schreib uns an: reutlingen.pp.praevention.kpraev.es@polizei.bwl.de
URL:https://wandelstadt-esslingen.de/event/sicher-stark-nein-heisst-nein-kurs-fuer-frauen-ab-16-jahren-4/
LOCATION:Theodor Rotschild Haus\, Mülbergerstraße 146\, Esslingen\, Baden-Württemberg\, 73728
END:VEVENT
END:VCALENDAR