BEGIN:VCALENDAR
VERSION:2.0
PRODID:-//Wandelstadt Esslingen - ECPv6.15.20//NONSGML v1.0//EN
CALSCALE:GREGORIAN
METHOD:PUBLISH
X-WR-CALNAME:Wandelstadt Esslingen
X-ORIGINAL-URL:https://wandelstadt-esslingen.de
X-WR-CALDESC:Veranstaltungen für Wandelstadt Esslingen
REFRESH-INTERVAL;VALUE=DURATION:PT1H
X-Robots-Tag:noindex
X-PUBLISHED-TTL:PT1H
BEGIN:VTIMEZONE
TZID:Europe/Berlin
BEGIN:DAYLIGHT
TZOFFSETFROM:+0100
TZOFFSETTO:+0200
TZNAME:CEST
DTSTART:20240331T010000
END:DAYLIGHT
BEGIN:STANDARD
TZOFFSETFROM:+0200
TZOFFSETTO:+0100
TZNAME:CET
DTSTART:20241027T010000
END:STANDARD
BEGIN:DAYLIGHT
TZOFFSETFROM:+0100
TZOFFSETTO:+0200
TZNAME:CEST
DTSTART:20250330T010000
END:DAYLIGHT
BEGIN:STANDARD
TZOFFSETFROM:+0200
TZOFFSETTO:+0100
TZNAME:CET
DTSTART:20251026T010000
END:STANDARD
BEGIN:DAYLIGHT
TZOFFSETFROM:+0100
TZOFFSETTO:+0200
TZNAME:CEST
DTSTART:20260329T010000
END:DAYLIGHT
BEGIN:STANDARD
TZOFFSETFROM:+0200
TZOFFSETTO:+0100
TZNAME:CET
DTSTART:20261025T010000
END:STANDARD
END:VTIMEZONE
BEGIN:VEVENT
DTSTART;TZID=Europe/Berlin:20251213T180000
DTEND;TZID=Europe/Berlin:20251213T210000
DTSTAMP:20260422T014053
CREATED:20251123T181927Z
LAST-MODIFIED:20251123T181927Z
UID:10007231-1765648800-1765659600@wandelstadt-esslingen.de
SUMMARY:Die Geschichte des Chanukkafestes\, erzählt in seinen Liedern
DESCRIPTION:
URL:https://wandelstadt-esslingen.de/event/die-geschichte-des-chanukkafestes-erzaehlt-in-seinen-liedern/
LOCATION:Theodor-Rothschild-Haus\, Mülbergstraße 146\, Esslingen\, 73728
CATEGORIES:Infoveranstaltung,Kulturveranstaltung,Live-Veranstaltung
END:VEVENT
BEGIN:VEVENT
DTSTART;TZID=Europe/Berlin:20251123T180000
DTEND;TZID=Europe/Berlin:20251123T210000
DTSTAMP:20260422T014053
CREATED:20251027T161958Z
LAST-MODIFIED:20251027T161958Z
UID:10006725-1763920800-1763931600@wandelstadt-esslingen.de
SUMMARY:Lesekonzett - 80 Jahre Kriegsende: Für Demokratie - gegen das Vergessen
DESCRIPTION:Ein Lesekonzert mit Texten des Zeitzeugen Michael Wieck und Musik exilierter jüdischer Komponisten wie Tzvi Avni und Ignace Strasfogel sowie der Komponistin Ursula Mamlok. Es spielen Studierende der Violinklasse von Prof.  Dr. Kolja Lessing\, Hochschule für Musik und Darstellende Kunst Stuttgart. \nKosten:\nFreier Eintritt
URL:https://wandelstadt-esslingen.de/event/lesekonzett-80-jahre-kriegsende-fuer-demokratie-gegen-das-vergessen/
LOCATION:Theodor-Rothschild-Haus\, Mülbergstraße 146\, Esslingen\, 73728
CATEGORIES:Kulturveranstaltung,Live-Veranstaltung
END:VEVENT
END:VCALENDAR