BEGIN:VCALENDAR
VERSION:2.0
PRODID:-//Wandelstadt Esslingen - ECPv6.15.20//NONSGML v1.0//EN
CALSCALE:GREGORIAN
METHOD:PUBLISH
X-WR-CALNAME:Wandelstadt Esslingen
X-ORIGINAL-URL:https://wandelstadt-esslingen.de
X-WR-CALDESC:Veranstaltungen für Wandelstadt Esslingen
REFRESH-INTERVAL;VALUE=DURATION:PT1H
X-Robots-Tag:noindex
X-PUBLISHED-TTL:PT1H
BEGIN:VTIMEZONE
TZID:Europe/Berlin
BEGIN:DAYLIGHT
TZOFFSETFROM:+0100
TZOFFSETTO:+0200
TZNAME:CEST
DTSTART:20240331T010000
END:DAYLIGHT
BEGIN:STANDARD
TZOFFSETFROM:+0200
TZOFFSETTO:+0100
TZNAME:CET
DTSTART:20241027T010000
END:STANDARD
BEGIN:DAYLIGHT
TZOFFSETFROM:+0100
TZOFFSETTO:+0200
TZNAME:CEST
DTSTART:20250330T010000
END:DAYLIGHT
BEGIN:STANDARD
TZOFFSETFROM:+0200
TZOFFSETTO:+0100
TZNAME:CET
DTSTART:20251026T010000
END:STANDARD
BEGIN:DAYLIGHT
TZOFFSETFROM:+0100
TZOFFSETTO:+0200
TZNAME:CEST
DTSTART:20260329T010000
END:DAYLIGHT
BEGIN:STANDARD
TZOFFSETFROM:+0200
TZOFFSETTO:+0100
TZNAME:CET
DTSTART:20261025T010000
END:STANDARD
BEGIN:DAYLIGHT
TZOFFSETFROM:+0100
TZOFFSETTO:+0200
TZNAME:CEST
DTSTART:20270328T010000
END:DAYLIGHT
BEGIN:STANDARD
TZOFFSETFROM:+0200
TZOFFSETTO:+0100
TZNAME:CET
DTSTART:20271031T010000
END:STANDARD
END:VTIMEZONE
BEGIN:VEVENT
DTSTART;TZID=Europe/Berlin:20260325T093000
DTEND;TZID=Europe/Berlin:20260325T150000
DTSTAMP:20260422T034700
CREATED:20260309T100520Z
LAST-MODIFIED:20260309T100520Z
UID:10009203-1774431000-1774450800@wandelstadt-esslingen.de
SUMMARY:Radtour in den Frühling
DESCRIPTION:Die Winterpause ist vorbei und der Stadtseniorenrat startet mit einer ca. 39 km (340 Höhenmeter) langen Rundfahrt in die neue Fahrradsaison. Los geht es in Deizisau\, im großen Bogen um Wernau\, anschließend hinauf auf den Sulzhau und weiter nach Wellingen. Bei der Weiterfahrt in Richtung Schlierbach eröffnet sich ein wunderbares Panorama auf den Schurwald. Die Route führt nun über die Aussiedlerhöfe nach Sulpach sowie ins Filstal. Von dort geht es auf dem Radschnellweg nach Reichenbach sowie Plochingen\, über den Otto-Steg zum Bruckenwasen zurück nach Deizisau. In der Rettichbar können die Teilnehmer die Tour\, die für alle offen ist und auf eigene Gefahr erfolgt\, ausklingen lassen. Anmeldung bei Martin Schnaithmann 0711 3456245 oder m.schnaithmann@online.de \n 
URL:https://wandelstadt-esslingen.de/event/radtour-in-den-fruehling/
LOCATION:Technoland Parkplatz\, Sirnauer Str. 56\, Deizisau\, 73779
CATEGORIES:Ausflug
ATTACH;FMTTYPE=image/jpeg:https://wandelstadt-esslingen.de/wp-content/uploads/2025/08/Radtour.jpg
END:VEVENT
BEGIN:VEVENT
DTSTART;TZID=Europe/Berlin:20250910T093000
DTEND;TZID=Europe/Berlin:20250910T170000
DTSTAMP:20260422T034700
CREATED:20250829T081525Z
LAST-MODIFIED:20250829T081525Z
UID:10006480-1757496600-1757523600@wandelstadt-esslingen.de
SUMMARY:Radtour nach Nabern
DESCRIPTION:Der StadtSeniorenRat lädt zu einer 41 km langen (250 Höhenmeter) Radtour über Plochingen\, den Berghof mit einer großartigen Aussicht auf die Alb\, Bodelshofen und Kirchheim zu dem schön gelegenen Biergarten Reuschwald bei Nabern ein. Gestärkt nach der Rast führt die Tour über den Neckarradweg dann wieder zurück. Treffpunkt: 9.30 Uhr Parkplatz Technoland\, Deizisau.  Anmeldung : m.schnaithmann@online.de oder 3456245
URL:https://wandelstadt-esslingen.de/event/radtour-nach-nabern/
LOCATION:Technoland Parkplatz\, Sirnauer Str. 56\, Deizisau\, 73779
CATEGORIES:Ausflug
ATTACH;FMTTYPE=image/jpeg:https://wandelstadt-esslingen.de/wp-content/uploads/2025/08/Radtour.jpg
END:VEVENT
END:VCALENDAR