BEGIN:VCALENDAR
VERSION:2.0
PRODID:-//Wandelstadt Esslingen - ECPv6.15.20//NONSGML v1.0//EN
CALSCALE:GREGORIAN
METHOD:PUBLISH
X-WR-CALNAME:Wandelstadt Esslingen
X-ORIGINAL-URL:https://wandelstadt-esslingen.de
X-WR-CALDESC:Veranstaltungen für Wandelstadt Esslingen
REFRESH-INTERVAL;VALUE=DURATION:PT1H
X-Robots-Tag:noindex
X-PUBLISHED-TTL:PT1H
BEGIN:VTIMEZONE
TZID:Europe/Berlin
BEGIN:DAYLIGHT
TZOFFSETFROM:+0100
TZOFFSETTO:+0200
TZNAME:CEST
DTSTART:20240331T010000
END:DAYLIGHT
BEGIN:STANDARD
TZOFFSETFROM:+0200
TZOFFSETTO:+0100
TZNAME:CET
DTSTART:20241027T010000
END:STANDARD
BEGIN:DAYLIGHT
TZOFFSETFROM:+0100
TZOFFSETTO:+0200
TZNAME:CEST
DTSTART:20250330T010000
END:DAYLIGHT
BEGIN:STANDARD
TZOFFSETFROM:+0200
TZOFFSETTO:+0100
TZNAME:CET
DTSTART:20251026T010000
END:STANDARD
BEGIN:DAYLIGHT
TZOFFSETFROM:+0100
TZOFFSETTO:+0200
TZNAME:CEST
DTSTART:20260329T010000
END:DAYLIGHT
BEGIN:STANDARD
TZOFFSETFROM:+0200
TZOFFSETTO:+0100
TZNAME:CET
DTSTART:20261025T010000
END:STANDARD
BEGIN:DAYLIGHT
TZOFFSETFROM:+0100
TZOFFSETTO:+0200
TZNAME:CEST
DTSTART:20270328T010000
END:DAYLIGHT
BEGIN:STANDARD
TZOFFSETFROM:+0200
TZOFFSETTO:+0100
TZNAME:CET
DTSTART:20271031T010000
END:STANDARD
END:VTIMEZONE
BEGIN:VEVENT
DTSTART;TZID=Europe/Berlin:20260328T180000
DTEND;TZID=Europe/Berlin:20260328T230000
DTSTAMP:20260421T231229
CREATED:20260218T104451Z
LAST-MODIFIED:20260218T104524Z
UID:10008906-1774720800-1774738800@wandelstadt-esslingen.de
SUMMARY:Spielertreff
DESCRIPTION:Für Kinder ab 8 Jahren und Erwachsene\n\nViel Freude am Spielen haben die Besucher:innen des Spielertreffs. Egal ob Taktikspiel\, Reaktionsspiel oder Kreativspiel\, Gesellschaftsspiele erfreuen sich großer Beliebtheit und sind kommunikativ. Der Spiellust sind keine Grenzen gesetzt\, auch wenn bis spät in die Nacht taktiert und manchmal auch gemogelt wird. Andreas Fuchs hat wieder beliebte und neue Gesellschaftsspiele dabei. Er steht auch bei Fragen gerne zur Verfügung. \n\n\n\nPreis:\nkostenlos\n\n\nHinweis:\nohne Anmeldung. In Zusammenarbeit mit der Firma Heiges
URL:https://wandelstadt-esslingen.de/event/spielertreff/
LOCATION:Stadtbücherei Esslingen am Neckar\, Heugasse 9\, Esslingen am Neckar\, 73728
CATEGORIES:Gemütliches Treffen
END:VEVENT
BEGIN:VEVENT
DTSTART;TZID=Europe/Berlin:20260321T120000
DTEND;TZID=Europe/Berlin:20260321T153000
DTSTAMP:20260421T231229
CREATED:20260218T104313Z
LAST-MODIFIED:20260218T104313Z
UID:10008905-1774094400-1774107000@wandelstadt-esslingen.de
SUMMARY:Kleidertauschtag
DESCRIPTION:Für Erwachsene \nSeien Sie dabei\, wenn die Stadtbücherei Esslingen anlässlich des Welt-Recycling-Tags ihre erste Kleidertauschparty veranstaltet. Diese bietet die Möglichkeit bis zu sieben Kleidungsstücke mitzubringen\, während Sie beliebig viele Teile mitnehmen dürfen. \nUm allen Teilnehmenden ein positives Tauscherlebnis zu ermöglichen\, sollte die Kleidung gewaschen und frei von unangenehmen Gerüchen\, Flecken oder Schäden wie Löchern\, Rissen\, fehlenden Knöpfen oder defekten Reißverschlüssen sein. Eine erneute Tragbarkeit ohne Beeinträchtigung der Funktion sollte zumutbar sein. Badebekleidung\, Unterwäsche\, Socken und Kleidung für Kinder sind nicht zugelassen. \nBereiten Sie nicht nur sich selbst und anderen große Freude\, sondern leisten Sie dabei auch einen nachhaltigen Beitrag. Wir freuen uns auf Sie! \n\n\n\nPreis:\nEintritt frei\n\n\nHinweis:\nohne Anmeldung
URL:https://wandelstadt-esslingen.de/event/kleidertauschtag/
LOCATION:Stadtbücherei Esslingen am Neckar\, Heugasse 9\, Esslingen am Neckar\, 73728
CATEGORIES:Verkaufsveranstaltung
END:VEVENT
BEGIN:VEVENT
DTSTART;TZID=Europe/Berlin:20260218T193000
DTEND;TZID=Europe/Berlin:20260218T193000
DTSTAMP:20260421T231229
CREATED:20260127T214618Z
LAST-MODIFIED:20260127T214618Z
UID:10008839-1771443000-1771443000@wandelstadt-esslingen.de
SUMMARY:Das philosophische Café: Melancholie\, Einsamkeit\, Angst
DESCRIPTION:Die Philosophie der Gefühle schaut auch in die dunkleren seelischen Zonen. Die Melancholie hat Philosoph:innen\, Psycholog:innen und Künstler:innen immer schon fasziniert. Man kann sich an ihr wärmen\, doch Vorsicht! Einsamkeitsgefühle sind heute trotz der Allgegenwart der sozialer Netzwerke weit verbreitet. Ist Einsamkeit immer nur negativ? Gibt es einen Unterschied zwischen Einsamkeit und Alleinsein? Und was ist mit der Angst? Sie lähmt unseren Geist\, raubt uns Vertrauen und warnt uns wiederum vor realen Gefahren. Der philosophische Blick will hier noch tiefer eindringen. Wer traut sich\, mitzuschauen? \nIm philosophischen Café erzählt Philosoph und Autor Peter Vollbrecht von Themen\, die die Denker:innen seit der Antike beschäftigen\, erklärt aktuelle gesellschaftspolitische Debatten und regt die Teilnehmer:innen dazu an\, ihre eigenen Gedanken in Worte zu fassen. Zu allen Themen der Staffel hat Peter Vollbrecht Texte aus Philosophie\, Literatur und Kunstgeschichte zusammengestellt\, die als Textsammlungen zu Beginn ausgehändigt werden. \n\n\n\nKostenfrei für Kulturpass-Inhaber:innen.
URL:https://wandelstadt-esslingen.de/event/das-philosophische-cafe-melancholie-einsamkeit-angst/
LOCATION:Stadtbücherei Esslingen am Neckar\, Heugasse 9\, Esslingen am Neckar\, 73728
CATEGORIES:Demonstration,Kulturveranstaltung
END:VEVENT
BEGIN:VEVENT
DTSTART;TZID=Europe/Berlin:20251220T140000
DTEND;TZID=Europe/Berlin:20251220T140000
DTSTAMP:20260421T231229
CREATED:20251128T094920Z
LAST-MODIFIED:20251128T094941Z
UID:10007819-1766239200-1766239200@wandelstadt-esslingen.de
SUMMARY:Kurzfilme (mit Audiodeskription) für Kinder
DESCRIPTION:für Kinder ab 5 Jahren\n \nAnlässlich des deutschlandweiten KURZFILMTAGS werden am 20. Dezember fünf außergewöhnliche Kurzfilme für Kinder ab 5 Jahren gezeigt. Das junge Publikum wird durch altersgerechte Moderationen in die Filme eingeführt\, um das Verständnis und den Bezug zu den Inhalten zu fördern. Wir zeigen das Kurzfilmprogramm „Mo&Friese unterwegs: Neuland \nDas Filmprogramm steht ganz im Zeichen von Inklusion: Gemeinsam mit Kindern mit und ohne Sehbeeinträchtigung wurde eine Audiodeskription zu jedem Film erstellt. So wird das Programm barrierearm gezeigt. \nDie Teilnahme am Kurzfilmtag wird ermöglicht durch die Förderung im Rahmen des Kooperationsprogramms „Kurswechsel Kultur – Netzwerk. Richtung. Inklusion.“ der Landesvereinigung Kinder und Jugendbildung Baden-Württemberg (LKJ) und des Zentrums für Kulturelle Teilhabe Baden-Württemberg (ZfKT). Das ZfKT ist eine Einrichtung des Ministeriums für Wissenschaft\, Forschung und Kunst Baden-Württemberg. \nWeitere Informationen: https://kurzfilmtag.com/programme/mofriese-unterwegs-neuland.html \n\n\n\nPreis:\nEintritt frei\n\n\nTicket erhältlich bei:\nTicket\n\n\nHinweis:\nAnmeldung erforderlich
URL:https://wandelstadt-esslingen.de/event/kurzfilme-mit-audiodeskription-fuer-kinder/
LOCATION:Stadtbücherei Esslingen am Neckar\, Heugasse 9\, Esslingen am Neckar\, 73728
END:VEVENT
BEGIN:VEVENT
DTSTART;VALUE=DATE:20251122
DTEND;VALUE=DATE:20251214
DTSTAMP:20260421T231229
CREATED:20251023T075017Z
LAST-MODIFIED:20251023T075017Z
UID:10006700-1763769600-1765670399@wandelstadt-esslingen.de
SUMMARY:"Was heißt schon alt?" Eine Ausstellung rund ums Älterwerden
DESCRIPTION:
URL:https://wandelstadt-esslingen.de/event/was-heisst-schon-alt-eine-ausstellung-rund-ums-aelterwerden/
LOCATION:Stadtbücherei Esslingen am Neckar\, Heugasse 9\, Esslingen am Neckar\, 73728
CATEGORIES:Kulturveranstaltung
ATTACH;FMTTYPE=application/pdf:https://wandelstadt-esslingen.de/wp-content/uploads/2025/10/02_Plakat_Wanderausstellung_ansicht-1.pdf
END:VEVENT
END:VCALENDAR