BEGIN:VCALENDAR
VERSION:2.0
PRODID:-//Wandelstadt Esslingen - ECPv6.15.20//NONSGML v1.0//EN
CALSCALE:GREGORIAN
METHOD:PUBLISH
X-WR-CALNAME:Wandelstadt Esslingen
X-ORIGINAL-URL:https://wandelstadt-esslingen.de
X-WR-CALDESC:Veranstaltungen für Wandelstadt Esslingen
REFRESH-INTERVAL;VALUE=DURATION:PT1H
X-Robots-Tag:noindex
X-PUBLISHED-TTL:PT1H
BEGIN:VTIMEZONE
TZID:Europe/Berlin
BEGIN:DAYLIGHT
TZOFFSETFROM:+0100
TZOFFSETTO:+0200
TZNAME:CEST
DTSTART:20220327T010000
END:DAYLIGHT
BEGIN:STANDARD
TZOFFSETFROM:+0200
TZOFFSETTO:+0100
TZNAME:CET
DTSTART:20221030T010000
END:STANDARD
BEGIN:DAYLIGHT
TZOFFSETFROM:+0100
TZOFFSETTO:+0200
TZNAME:CEST
DTSTART:20230326T010000
END:DAYLIGHT
BEGIN:STANDARD
TZOFFSETFROM:+0200
TZOFFSETTO:+0100
TZNAME:CET
DTSTART:20231029T010000
END:STANDARD
BEGIN:DAYLIGHT
TZOFFSETFROM:+0100
TZOFFSETTO:+0200
TZNAME:CEST
DTSTART:20240331T010000
END:DAYLIGHT
BEGIN:STANDARD
TZOFFSETFROM:+0200
TZOFFSETTO:+0100
TZNAME:CET
DTSTART:20241027T010000
END:STANDARD
BEGIN:DAYLIGHT
TZOFFSETFROM:+0100
TZOFFSETTO:+0200
TZNAME:CEST
DTSTART:20250330T010000
END:DAYLIGHT
BEGIN:STANDARD
TZOFFSETFROM:+0200
TZOFFSETTO:+0100
TZNAME:CET
DTSTART:20251026T010000
END:STANDARD
BEGIN:DAYLIGHT
TZOFFSETFROM:+0100
TZOFFSETTO:+0200
TZNAME:CEST
DTSTART:20260329T010000
END:DAYLIGHT
BEGIN:STANDARD
TZOFFSETFROM:+0200
TZOFFSETTO:+0100
TZNAME:CET
DTSTART:20261025T010000
END:STANDARD
BEGIN:DAYLIGHT
TZOFFSETFROM:+0100
TZOFFSETTO:+0200
TZNAME:CEST
DTSTART:20270328T010000
END:DAYLIGHT
BEGIN:STANDARD
TZOFFSETFROM:+0200
TZOFFSETTO:+0100
TZNAME:CET
DTSTART:20271031T010000
END:STANDARD
END:VTIMEZONE
BEGIN:VEVENT
DTSTART;TZID=Europe/Berlin:20260321T100000
DTEND;TZID=Europe/Berlin:20260321T120000
DTSTAMP:20260421T230726
CREATED:20240819T152750Z
LAST-MODIFIED:20260201T184829Z
UID:10008852-1774087200-1774094400@wandelstadt-esslingen.de
SUMMARY:Öffnung der Nutzpflanzenbibliothek - Transition Town Esslingen
DESCRIPTION:Die Esslinger Nutzpflanzenbibliothek öffnet ihre Schatzkiste zur Ausleihe und Rückgabe als offenes Angebot in der Esslinger Stadtbücherei. Ihr findet uns im 1.OG in der Mitte. Jede*r kann Nutzer*in unserer Tomatenvielfalt werden und mithelfen die über 150 samenfesten Sorten zu erhalten. Eine Mitgliedschaft in der Stadtbücherei ist nicht erforderlich. Mehr Infos unter www.transition-town-es.de
URL:https://wandelstadt-esslingen.de/event/oeffnung-der-nutzpflanzenbibliothek/2026-03-21/
LOCATION:Stadtbibliothek\, Heugasse 9\, Esslingen\, Deutschland
ORGANIZER;CN="Transition Town Esslingen - Stadt im Wandel":MAILTO:kontakt@transition-town-es.de
END:VEVENT
BEGIN:VEVENT
DTSTART;TZID=Europe/Berlin:20260306T160000
DTEND;TZID=Europe/Berlin:20260306T180000
DTSTAMP:20260421T230726
CREATED:20240819T152750Z
LAST-MODIFIED:20260201T184829Z
UID:10008851-1772812800-1772820000@wandelstadt-esslingen.de
SUMMARY:Öffnung der Nutzpflanzenbibliothek - Transition Town Esslingen
DESCRIPTION:Die Esslinger Nutzpflanzenbibliothek öffnet ihre Schatzkiste zur Ausleihe und Rückgabe als offenes Angebot in der Esslinger Stadtbücherei. Ihr findet uns im 1.OG in der Mitte. Jede*r kann Nutzer*in unserer Tomatenvielfalt werden und mithelfen die über 150 samenfesten Sorten zu erhalten. Eine Mitgliedschaft in der Stadtbücherei ist nicht erforderlich. Mehr Infos unter www.transition-town-es.de
URL:https://wandelstadt-esslingen.de/event/oeffnung-der-nutzpflanzenbibliothek/2026-03-06/
LOCATION:Stadtbibliothek\, Heugasse 9\, Esslingen\, Deutschland
ORGANIZER;CN="Transition Town Esslingen - Stadt im Wandel":MAILTO:kontakt@transition-town-es.de
END:VEVENT
BEGIN:VEVENT
DTSTART;TZID=Europe/Berlin:20260224T163000
DTEND;TZID=Europe/Berlin:20260224T183000
DTSTAMP:20260421T230726
CREATED:20240819T152750Z
LAST-MODIFIED:20260201T184829Z
UID:10007201-1771950600-1771957800@wandelstadt-esslingen.de
SUMMARY:Öffnung der Nutzpflanzenbibliothek - Transition Town Esslingen
DESCRIPTION:Die Esslinger Nutzpflanzenbibliothek öffnet ihre Schatzkiste zur Ausleihe und Rückgabe als offenes Angebot in der Esslinger Stadtbücherei. Ihr findet uns im 1.OG in der Mitte. Jede*r kann Nutzer*in unserer Tomatenvielfalt werden und mithelfen die über 150 samenfesten Sorten zu erhalten. Eine Mitgliedschaft in der Stadtbücherei ist nicht erforderlich. Mehr Infos unter www.transition-town-es.de
URL:https://wandelstadt-esslingen.de/event/oeffnung-der-nutzpflanzenbibliothek/2026-02-24/
LOCATION:Stadtbibliothek\, Heugasse 9\, Esslingen\, Deutschland
ORGANIZER;CN="Transition Town Esslingen - Stadt im Wandel":MAILTO:kontakt@transition-town-es.de
END:VEVENT
BEGIN:VEVENT
DTSTART;TZID=Europe/Berlin:20251007T163000
DTEND;TZID=Europe/Berlin:20251007T183000
DTSTAMP:20260421T230726
CREATED:20240819T152750Z
LAST-MODIFIED:20260201T184829Z
UID:10006553-1759854600-1759861800@wandelstadt-esslingen.de
SUMMARY:Öffnung der Nutzpflanzenbibliothek - Transition Town Esslingen
DESCRIPTION:Die Esslinger Nutzpflanzenbibliothek öffnet ihre Schatzkiste zur Ausleihe und Rückgabe als offenes Angebot in der Esslinger Stadtbücherei. Ihr findet uns im 1.OG in der Mitte. Jede*r kann Nutzer*in unserer Tomatenvielfalt werden und mithelfen die über 150 samenfesten Sorten zu erhalten. Eine Mitgliedschaft in der Stadtbücherei ist nicht erforderlich. Mehr Infos unter www.transition-town-es.de
URL:https://wandelstadt-esslingen.de/event/oeffnung-der-nutzpflanzenbibliothek/2025-10-07/
LOCATION:Stadtbibliothek\, Heugasse 9\, Esslingen\, Deutschland
ORGANIZER;CN="Transition Town Esslingen - Stadt im Wandel":MAILTO:kontakt@transition-town-es.de
END:VEVENT
BEGIN:VEVENT
DTSTART;TZID=Europe/Berlin:20250613T193000
DTEND;TZID=Europe/Berlin:20250613T193000
DTSTAMP:20260421T230726
CREATED:20250526T153711Z
LAST-MODIFIED:20250526T153711Z
UID:10005539-1749843000-1749843000@wandelstadt-esslingen.de
SUMMARY:Queerbeet-Lesung: Alles dazwischen/darüber hinaus
DESCRIPTION:Mae Schwinghammer aus Österreich liest aus dem Debüt „Alles dazwischen\, darüber hinaus“. Darin geht es um das Aufwachsen als nicht-binäre Person – also darum\, sich nicht eindeutig als männlich oder weiblich zu identifizieren – und um die Probleme\, die damit einhergehen\, gesellschaftlich\, psychologisch\, aber auch sprachlich: Was bedeutet es\, keine Sprache für das eigene Ich zu finden? \nMaë liest in der Stadtbücherei Esslingen. Wegen der Bauarbeiten im Gebäude muss die Veranstaltung in das Zeitschriften-Café verlegt werden. \nVom 13. bis 15. Juni finden an drei Tagen drei Veranstaltungen zu queerer Literatur für verschiedene Altersgruppen statt. Die Veranstalter:innen QueerES e. V.\, Poppinski und Stadtbücherei Esslingen möchten mit diesen kostenfreien Lesungen die diverse Stadtgesellschaft sichtbar machen und den Stimmen marginalisierter Gruppen eine Bühne bieten.
URL:https://wandelstadt-esslingen.de/event/queerbeet-lesung-alles-dazwischen-darueber-hinaus/
LOCATION:Stadtbibliothek\, Heugasse 9\, Esslingen\, Deutschland
END:VEVENT
BEGIN:VEVENT
DTSTART;TZID=Europe/Berlin:20250318T170000
DTEND;TZID=Europe/Berlin:20250318T190000
DTSTAMP:20260421T230726
CREATED:20250222T213233Z
LAST-MODIFIED:20250222T213233Z
UID:10004834-1742317200-1742324400@wandelstadt-esslingen.de
SUMMARY:Nutzpflanzenbibliothek: Saatgutausleihe
DESCRIPTION:Für eine blühende Zukunft. Saatgut alter Nutzpflanzensorten und das dazugehörige Wissen sind ein unverzichtbares und erhaltenswertes Kulturerbe. Wie die Vermehrung der Pflanzen funktioniert\, wissen aber leider nur noch wenige … Damit sich das wieder ändert\, bietet der Verein Transition Town Esslingen Möglichkeiten an\, verschiedene Tomatensamen mitzunehmen und zuhause zu pflanzen. Später können neue Samen in der Bücherei zurück gegeben werden. Mit der Nutzpflanzenbibliothek leistet Transition Town Esslingen einen wertvollen Beitrag zur Förderung der Pflanzenvielfalt in der Stadt. Im 1. Stock wird der Verein zwei Stunden lang allen Fragen beantworten und vermeindliche grüne Daumen prüfen. \n 
URL:https://wandelstadt-esslingen.de/event/nutzpflanzenbibliothek-saatgutausleihe/
LOCATION:Stadtbibliothek\, Heugasse 9\, Esslingen\, Deutschland
CATEGORIES:Infoveranstaltung
ORGANIZER;CN="Transition Town Esslingen - Stadt im Wandel":MAILTO:kontakt@transition-town-es.de
END:VEVENT
BEGIN:VEVENT
DTSTART;TZID=Europe/Berlin:20250205T193000
DTEND;TZID=Europe/Berlin:20250205T210000
DTSTAMP:20260421T230726
CREATED:20250124T214743Z
LAST-MODIFIED:20250124T214743Z
UID:10004557-1738783800-1738789200@wandelstadt-esslingen.de
SUMMARY:Philosophisches Café: Menschenrechte und Menschenpflichten
DESCRIPTION:Afrikanische Charta der Menschenrechte (Banjul-Charta)\, Aleida Assmann\, Amartya Sen\n\nRechte ziehen Pflichten nach sich – der Menschenrechtsdiskurs hat sich in den letzten Jahren um diese Achse erweitert. 1997 wurde zum 50-jährigen Jubiläum die „Allgemeine Erklärung der Menschenpflichten“ verabschiedet. Auch die „Afrikanische Charta der Menschenrechte“ verlangt von den Inhabern von Rechten ein Äquivalent an Pflichten. Die Friedenspreisträgerin Aleida Assmann ist der festen Ansicht\, dass ein produktives menschliches Zusammenleben nur unter Anerkennung gemeinsamer Pflichten möglich ist. Weitere Impulse für unsere Diskussionen im philosophischen Café beziehen wir vom bengalisch-amerikanischen Nobelpreisträger Amartya Sen.
URL:https://wandelstadt-esslingen.de/event/philosophisches-cafe-menschenrechte-und-menschenpflichten/
LOCATION:Stadtbibliothek\, Heugasse 9\, Esslingen\, Deutschland
CATEGORIES:Kulturveranstaltung
ORGANIZER;CN="Volkshochschule Esslingen":MAILTO:info@vhs-esslingen.de
END:VEVENT
BEGIN:VEVENT
DTSTART;TZID=Europe/Berlin:20241119T170000
DTEND;TZID=Europe/Berlin:20241119T190000
DTSTAMP:20260421T230726
CREATED:20240819T152750Z
LAST-MODIFIED:20260201T184829Z
UID:10003969-1732035600-1732042800@wandelstadt-esslingen.de
SUMMARY:Öffnung der Nutzpflanzenbibliothek - Transition Town Esslingen
DESCRIPTION:Die Esslinger Nutzpflanzenbibliothek öffnet ihre Schatzkiste zur Ausleihe und Rückgabe als offenes Angebot in der Esslinger Stadtbücherei. Ihr findet uns im 1.OG in der Mitte. Jede*r kann Nutzer*in unserer Tomatenvielfalt werden und mithelfen die über 150 samenfesten Sorten zu erhalten. Eine Mitgliedschaft in der Stadtbücherei ist nicht erforderlich. Mehr Infos unter www.transition-town-es.de
URL:https://wandelstadt-esslingen.de/event/oeffnung-der-nutzpflanzenbibliothek/2024-11-19/
LOCATION:Stadtbibliothek\, Heugasse 9\, Esslingen\, Deutschland
ORGANIZER;CN="Transition Town Esslingen - Stadt im Wandel":MAILTO:kontakt@transition-town-es.de
END:VEVENT
BEGIN:VEVENT
DTSTART;TZID=Europe/Berlin:20240305T173000
DTEND;TZID=Europe/Berlin:20240305T190000
DTSTAMP:20260421T230726
CREATED:20240127T222858Z
LAST-MODIFIED:20240127T222858Z
UID:10002241-1709659800-1709665200@wandelstadt-esslingen.de
SUMMARY:Nutzpflanzenbibliothek
DESCRIPTION:Die Nutzpflanzenbibliothek hat Wurzeln geschlagen! Transition Town Esslingen ist zurück und bietet im 1. Obergeschoss der Esslinger Stadtbücherei im Pfleghof wieder Saatgut an.   \nAn drei Terminen im Frühjahr können hier Saatgut verschiedener Tomatenarten ausgeliehen oder zurückgebracht werden. Transition Town Esslingen steht außerdem für viele Fragen und Pläuschchen über Urban Gardening\, Saatgutbibliotheken und fehlende grüne Daumen bereit.
URL:https://wandelstadt-esslingen.de/event/nutzpflanzenbibliothek-2/2024-03-05/
LOCATION:Stadtbibliothek\, Heugasse 9\, Esslingen\, Deutschland
ORGANIZER;CN="Transition Town Esslingen - Stadt im Wandel":MAILTO:kontakt@transition-town-es.de
END:VEVENT
BEGIN:VEVENT
DTSTART;TZID=Europe/Berlin:20240224T100000
DTEND;TZID=Europe/Berlin:20240224T120000
DTSTAMP:20260421T230726
CREATED:20240127T222858Z
LAST-MODIFIED:20240127T222858Z
UID:10002240-1708768800-1708776000@wandelstadt-esslingen.de
SUMMARY:Nutzpflanzenbibliothek
DESCRIPTION:Die Nutzpflanzenbibliothek hat Wurzeln geschlagen! Transition Town Esslingen ist zurück und bietet im 1. Obergeschoss der Esslinger Stadtbücherei im Pfleghof wieder Saatgut an.   \nAn drei Terminen im Frühjahr können hier Saatgut verschiedener Tomatenarten ausgeliehen oder zurückgebracht werden. Transition Town Esslingen steht außerdem für viele Fragen und Pläuschchen über Urban Gardening\, Saatgutbibliotheken und fehlende grüne Daumen bereit.
URL:https://wandelstadt-esslingen.de/event/nutzpflanzenbibliothek-2/2024-02-24/
LOCATION:Stadtbibliothek\, Heugasse 9\, Esslingen\, Deutschland
ORGANIZER;CN="Transition Town Esslingen - Stadt im Wandel":MAILTO:kontakt@transition-town-es.de
END:VEVENT
BEGIN:VEVENT
DTSTART;TZID=Europe/Berlin:20240203T100000
DTEND;TZID=Europe/Berlin:20240203T120000
DTSTAMP:20260421T230726
CREATED:20240127T222858Z
LAST-MODIFIED:20240127T222858Z
UID:10002239-1706954400-1706961600@wandelstadt-esslingen.de
SUMMARY:Nutzpflanzenbibliothek
DESCRIPTION:Die Nutzpflanzenbibliothek hat Wurzeln geschlagen! Transition Town Esslingen ist zurück und bietet im 1. Obergeschoss der Esslinger Stadtbücherei im Pfleghof wieder Saatgut an.   \nAn drei Terminen im Frühjahr können hier Saatgut verschiedener Tomatenarten ausgeliehen oder zurückgebracht werden. Transition Town Esslingen steht außerdem für viele Fragen und Pläuschchen über Urban Gardening\, Saatgutbibliotheken und fehlende grüne Daumen bereit.
URL:https://wandelstadt-esslingen.de/event/nutzpflanzenbibliothek-2/2024-02-03/
LOCATION:Stadtbibliothek\, Heugasse 9\, Esslingen\, Deutschland
ORGANIZER;CN="Transition Town Esslingen - Stadt im Wandel":MAILTO:kontakt@transition-town-es.de
END:VEVENT
BEGIN:VEVENT
DTSTART;TZID=Europe/Berlin:20230910T130000
DTEND;TZID=Europe/Berlin:20230910T170000
DTSTAMP:20260421T230726
CREATED:20230804T040905Z
LAST-MODIFIED:20230804T041056Z
UID:10001735-1694350800-1694365200@wandelstadt-esslingen.de
SUMMARY:Bibliothek der Zukunft
DESCRIPTION:Am Sonntag\, 10. September\, findet der Tag des offenen Denkmals statt. Aus Anlass seines zehnjährigen Bestehens wagt der Förderverein einen Blick in die BIBLIOTHEK DER ZUKUNFT. In unserer Stadtbücherei im Bebenhäuser Pfleghof präsentieren wir von 13-17 Uhr ganz viele und attraktive Sachen: VR-Brille\, 3D-Drucker\, Indoor-Drohne\, Bibliothek der Dinge\, Vorlesezelt\, eine fröhliche Fotoecke\, eine Mitmach-Nähmaschine u.v.a. mehr. Außerdem wird das Reparatur-Café vertreten sein. Alle Infos sind dem beigefügten Flyer zu entnehmen\, den ein Neumitglied des Fördervereins für uns mit viel Liebe zum Detail gestaltet hat. Dafür gilt unser herzlicher Dank! \n  \nFür diese Bibliothek der Zukunft braucht unsere Stadtbücherei mehr Platz. Dafür wurde von der Stadt vor Jahren das Nachbargebäude\, die Heugasse 11\, gekauft. Leider hat der Gemeinderat immer noch nicht entschieden\, dass dieses Gebäude möglichst bald für die Erweiterung der Stadtbücherei hergerichtet werden soll. Damit sich alle Interessierten ein Bild vom aktuellen Zustand machen können\, gibt es am Denkmaltag von 12-17 Uhr stündlich Führungen durch das Haus. \n  \nKommen Sie am 10. September selbst in den Bebenhäuser Pfleghof und nehmen Sie an einer Führung durch die Heugasse 11 teil. Zeigen Sie Ihr Interesse an einer zukunftsfähigen Stadtbücherei Esslingen.
URL:https://wandelstadt-esslingen.de/event/bibliothek-der-zukunft/
LOCATION:Stadtbibliothek\, Heugasse 9\, Esslingen\, Deutschland
ATTACH;FMTTYPE=image/png:https://wandelstadt-esslingen.de/wp-content/uploads/2023/08/Flyer_U1.png
END:VEVENT
END:VCALENDAR