BEGIN:VCALENDAR
VERSION:2.0
PRODID:-//Wandelstadt Esslingen - ECPv6.15.20//NONSGML v1.0//EN
CALSCALE:GREGORIAN
METHOD:PUBLISH
X-ORIGINAL-URL:https://wandelstadt-esslingen.de
X-WR-CALDESC:Veranstaltungen für Wandelstadt Esslingen
REFRESH-INTERVAL;VALUE=DURATION:PT1H
X-Robots-Tag:noindex
X-PUBLISHED-TTL:PT1H
BEGIN:VTIMEZONE
TZID:Europe/Berlin
BEGIN:DAYLIGHT
TZOFFSETFROM:+0100
TZOFFSETTO:+0200
TZNAME:CEST
DTSTART:20230326T010000
END:DAYLIGHT
BEGIN:STANDARD
TZOFFSETFROM:+0200
TZOFFSETTO:+0100
TZNAME:CET
DTSTART:20231029T010000
END:STANDARD
BEGIN:DAYLIGHT
TZOFFSETFROM:+0100
TZOFFSETTO:+0200
TZNAME:CEST
DTSTART:20240331T010000
END:DAYLIGHT
BEGIN:STANDARD
TZOFFSETFROM:+0200
TZOFFSETTO:+0100
TZNAME:CET
DTSTART:20241027T010000
END:STANDARD
BEGIN:DAYLIGHT
TZOFFSETFROM:+0100
TZOFFSETTO:+0200
TZNAME:CEST
DTSTART:20250330T010000
END:DAYLIGHT
BEGIN:STANDARD
TZOFFSETFROM:+0200
TZOFFSETTO:+0100
TZNAME:CET
DTSTART:20251026T010000
END:STANDARD
BEGIN:DAYLIGHT
TZOFFSETFROM:+0100
TZOFFSETTO:+0200
TZNAME:CEST
DTSTART:20260329T010000
END:DAYLIGHT
BEGIN:STANDARD
TZOFFSETFROM:+0200
TZOFFSETTO:+0100
TZNAME:CET
DTSTART:20261025T010000
END:STANDARD
END:VTIMEZONE
BEGIN:VEVENT
DTSTART;TZID=Europe/Berlin:20251205T153000
DTEND;TZID=Europe/Berlin:20251205T153000
DTSTAMP:20260421T233322
CREATED:20250627T213609Z
LAST-MODIFIED:20250627T213901Z
UID:10005728-1764948600-1764948600@wandelstadt-esslingen.de
SUMMARY:Drum Circle
DESCRIPTION:Die Runde wächst Stück für Stück und wir freuen uns über jeden Teilnehmer. Von Jung bis Alt\, mit und ohne Vorerfahrungen sind Alle willkommen\, die Freude haben am Rhythmus\, am gemeinsamen Musizieren und Improvisieren oder einfach Lust haben mal etwas Neues auszuprobieren und die Kraft der Musik zu erleben. Es ist einfach jedes Mal ein sehr schönes Miteinander.j
URL:https://wandelstadt-esslingen.de/event/drum-circle-2/2025-12-05/
LOCATION:Seniorenresidenz Charlottenhof\, Plochinger Straße 21-27\, Esslingen\, 73730
CATEGORIES:Kulturveranstaltung
ATTACH;FMTTYPE=image/jpeg:https://wandelstadt-esslingen.de/wp-content/uploads/2025/06/DrumCirlce.jpg
ORGANIZER;CN="Musik und Bewegung Kerstin Br%C3%A4utigam":MAILTO:k.b.MusikundBewegung@gmx.de
END:VEVENT
BEGIN:VEVENT
DTSTART;TZID=Europe/Berlin:20251107T153000
DTEND;TZID=Europe/Berlin:20251107T153000
DTSTAMP:20260421T233322
CREATED:20250627T213609Z
LAST-MODIFIED:20250627T213901Z
UID:10005727-1762529400-1762529400@wandelstadt-esslingen.de
SUMMARY:Drum Circle
DESCRIPTION:Die Runde wächst Stück für Stück und wir freuen uns über jeden Teilnehmer. Von Jung bis Alt\, mit und ohne Vorerfahrungen sind Alle willkommen\, die Freude haben am Rhythmus\, am gemeinsamen Musizieren und Improvisieren oder einfach Lust haben mal etwas Neues auszuprobieren und die Kraft der Musik zu erleben. Es ist einfach jedes Mal ein sehr schönes Miteinander.j
URL:https://wandelstadt-esslingen.de/event/drum-circle-2/2025-11-07/
LOCATION:Seniorenresidenz Charlottenhof\, Plochinger Straße 21-27\, Esslingen\, 73730
CATEGORIES:Kulturveranstaltung
ATTACH;FMTTYPE=image/jpeg:https://wandelstadt-esslingen.de/wp-content/uploads/2025/06/DrumCirlce.jpg
ORGANIZER;CN="Musik und Bewegung Kerstin Br%C3%A4utigam":MAILTO:k.b.MusikundBewegung@gmx.de
END:VEVENT
BEGIN:VEVENT
DTSTART;TZID=Europe/Berlin:20251017T153000
DTEND;TZID=Europe/Berlin:20251017T153000
DTSTAMP:20260421T233322
CREATED:20250627T213609Z
LAST-MODIFIED:20250627T213901Z
UID:10005726-1760715000-1760715000@wandelstadt-esslingen.de
SUMMARY:Drum Circle
DESCRIPTION:Die Runde wächst Stück für Stück und wir freuen uns über jeden Teilnehmer. Von Jung bis Alt\, mit und ohne Vorerfahrungen sind Alle willkommen\, die Freude haben am Rhythmus\, am gemeinsamen Musizieren und Improvisieren oder einfach Lust haben mal etwas Neues auszuprobieren und die Kraft der Musik zu erleben. Es ist einfach jedes Mal ein sehr schönes Miteinander.j
URL:https://wandelstadt-esslingen.de/event/drum-circle-2/2025-10-17/
LOCATION:Seniorenresidenz Charlottenhof\, Plochinger Straße 21-27\, Esslingen\, 73730
CATEGORIES:Kulturveranstaltung
ATTACH;FMTTYPE=image/jpeg:https://wandelstadt-esslingen.de/wp-content/uploads/2025/06/DrumCirlce.jpg
ORGANIZER;CN="Musik und Bewegung Kerstin Br%C3%A4utigam":MAILTO:k.b.MusikundBewegung@gmx.de
END:VEVENT
BEGIN:VEVENT
DTSTART;TZID=Europe/Berlin:20250912T153000
DTEND;TZID=Europe/Berlin:20250912T153000
DTSTAMP:20260421T233322
CREATED:20250627T213609Z
LAST-MODIFIED:20250627T213901Z
UID:10005725-1757691000-1757691000@wandelstadt-esslingen.de
SUMMARY:Drum Circle
DESCRIPTION:Die Runde wächst Stück für Stück und wir freuen uns über jeden Teilnehmer. Von Jung bis Alt\, mit und ohne Vorerfahrungen sind Alle willkommen\, die Freude haben am Rhythmus\, am gemeinsamen Musizieren und Improvisieren oder einfach Lust haben mal etwas Neues auszuprobieren und die Kraft der Musik zu erleben. Es ist einfach jedes Mal ein sehr schönes Miteinander.j
URL:https://wandelstadt-esslingen.de/event/drum-circle-2/2025-09-12/
LOCATION:Seniorenresidenz Charlottenhof\, Plochinger Straße 21-27\, Esslingen\, 73730
CATEGORIES:Kulturveranstaltung
ATTACH;FMTTYPE=image/jpeg:https://wandelstadt-esslingen.de/wp-content/uploads/2025/06/DrumCirlce.jpg
ORGANIZER;CN="Musik und Bewegung Kerstin Br%C3%A4utigam":MAILTO:k.b.MusikundBewegung@gmx.de
END:VEVENT
BEGIN:VEVENT
DTSTART;TZID=Europe/Berlin:20250808T153000
DTEND;TZID=Europe/Berlin:20250808T153000
DTSTAMP:20260421T233322
CREATED:20250627T213609Z
LAST-MODIFIED:20250627T213901Z
UID:10005724-1754667000-1754667000@wandelstadt-esslingen.de
SUMMARY:Drum Circle
DESCRIPTION:Die Runde wächst Stück für Stück und wir freuen uns über jeden Teilnehmer. Von Jung bis Alt\, mit und ohne Vorerfahrungen sind Alle willkommen\, die Freude haben am Rhythmus\, am gemeinsamen Musizieren und Improvisieren oder einfach Lust haben mal etwas Neues auszuprobieren und die Kraft der Musik zu erleben. Es ist einfach jedes Mal ein sehr schönes Miteinander.j
URL:https://wandelstadt-esslingen.de/event/drum-circle-2/2025-08-08/
LOCATION:Seniorenresidenz Charlottenhof\, Plochinger Straße 21-27\, Esslingen\, 73730
CATEGORIES:Kulturveranstaltung
ATTACH;FMTTYPE=image/jpeg:https://wandelstadt-esslingen.de/wp-content/uploads/2025/06/DrumCirlce.jpg
ORGANIZER;CN="Musik und Bewegung Kerstin Br%C3%A4utigam":MAILTO:k.b.MusikundBewegung@gmx.de
END:VEVENT
BEGIN:VEVENT
DTSTART;TZID=Europe/Berlin:20250711T153000
DTEND;TZID=Europe/Berlin:20250711T153000
DTSTAMP:20260421T233322
CREATED:20250627T213609Z
LAST-MODIFIED:20250627T213901Z
UID:10005723-1752247800-1752247800@wandelstadt-esslingen.de
SUMMARY:Drum Circle
DESCRIPTION:Die Runde wächst Stück für Stück und wir freuen uns über jeden Teilnehmer. Von Jung bis Alt\, mit und ohne Vorerfahrungen sind Alle willkommen\, die Freude haben am Rhythmus\, am gemeinsamen Musizieren und Improvisieren oder einfach Lust haben mal etwas Neues auszuprobieren und die Kraft der Musik zu erleben. Es ist einfach jedes Mal ein sehr schönes Miteinander.j
URL:https://wandelstadt-esslingen.de/event/drum-circle-2/2025-07-11/
LOCATION:Seniorenresidenz Charlottenhof\, Plochinger Straße 21-27\, Esslingen\, 73730
CATEGORIES:Kulturveranstaltung
ATTACH;FMTTYPE=image/jpeg:https://wandelstadt-esslingen.de/wp-content/uploads/2025/06/DrumCirlce.jpg
ORGANIZER;CN="Musik und Bewegung Kerstin Br%C3%A4utigam":MAILTO:k.b.MusikundBewegung@gmx.de
END:VEVENT
BEGIN:VEVENT
DTSTART;TZID=Europe/Berlin:20241206T153000
DTEND;TZID=Europe/Berlin:20241206T153000
DTSTAMP:20260421T233322
CREATED:20240828T172450Z
LAST-MODIFIED:20240828T172450Z
UID:10003987-1733499000-1733499000@wandelstadt-esslingen.de
SUMMARY:Drum Circle
DESCRIPTION:in der Seniorenresidenz Charlottenhof\n– Rhythmus verbindet – Ein Trommelerlebnis zum Mitmachen \nTermine: \n\n6. September\n18. Oktober\n8. November\n6. Dezember\n\nJeweils 15.30 Uhr im Festsaal \nWir machen Musik mit Trommeln und Percussion-Instrumenten.\nGanz spontan und ohne Leistungsanspruch.\nJeder kann mitmachen\, denn es werden keine Vorerfahrungen benötigt. Von Jung bis Alt sind alle herzlich willkommen. \nEin Ort für Begegnungen und musikalisches Miteinander!
URL:https://wandelstadt-esslingen.de/event/drum-circle/2024-12-06/
LOCATION:Seniorenresidenz Charlottenhof\, Plochinger Straße 21-27\, Esslingen\, 73730
CATEGORIES:Gemütliches Treffen,Kulturveranstaltung
END:VEVENT
BEGIN:VEVENT
DTSTART;TZID=Europe/Berlin:20241108T153000
DTEND;TZID=Europe/Berlin:20241108T153000
DTSTAMP:20260421T233322
CREATED:20240828T172450Z
LAST-MODIFIED:20240828T172450Z
UID:10003986-1731079800-1731079800@wandelstadt-esslingen.de
SUMMARY:Drum Circle
DESCRIPTION:in der Seniorenresidenz Charlottenhof\n– Rhythmus verbindet – Ein Trommelerlebnis zum Mitmachen \nTermine: \n\n6. September\n18. Oktober\n8. November\n6. Dezember\n\nJeweils 15.30 Uhr im Festsaal \nWir machen Musik mit Trommeln und Percussion-Instrumenten.\nGanz spontan und ohne Leistungsanspruch.\nJeder kann mitmachen\, denn es werden keine Vorerfahrungen benötigt. Von Jung bis Alt sind alle herzlich willkommen. \nEin Ort für Begegnungen und musikalisches Miteinander!
URL:https://wandelstadt-esslingen.de/event/drum-circle/2024-11-08/
LOCATION:Seniorenresidenz Charlottenhof\, Plochinger Straße 21-27\, Esslingen\, 73730
CATEGORIES:Gemütliches Treffen,Kulturveranstaltung
END:VEVENT
BEGIN:VEVENT
DTSTART;TZID=Europe/Berlin:20241018T153000
DTEND;TZID=Europe/Berlin:20241018T153000
DTSTAMP:20260421T233322
CREATED:20240828T172450Z
LAST-MODIFIED:20240828T172450Z
UID:10003985-1729265400-1729265400@wandelstadt-esslingen.de
SUMMARY:Drum Circle
DESCRIPTION:in der Seniorenresidenz Charlottenhof\n– Rhythmus verbindet – Ein Trommelerlebnis zum Mitmachen \nTermine: \n\n6. September\n18. Oktober\n8. November\n6. Dezember\n\nJeweils 15.30 Uhr im Festsaal \nWir machen Musik mit Trommeln und Percussion-Instrumenten.\nGanz spontan und ohne Leistungsanspruch.\nJeder kann mitmachen\, denn es werden keine Vorerfahrungen benötigt. Von Jung bis Alt sind alle herzlich willkommen. \nEin Ort für Begegnungen und musikalisches Miteinander!
URL:https://wandelstadt-esslingen.de/event/drum-circle/2024-10-18/
LOCATION:Seniorenresidenz Charlottenhof\, Plochinger Straße 21-27\, Esslingen\, 73730
CATEGORIES:Gemütliches Treffen,Kulturveranstaltung
END:VEVENT
BEGIN:VEVENT
DTSTART;TZID=Europe/Berlin:20240906T153000
DTEND;TZID=Europe/Berlin:20240906T153000
DTSTAMP:20260421T233322
CREATED:20240828T172450Z
LAST-MODIFIED:20240828T172450Z
UID:10003984-1725636600-1725636600@wandelstadt-esslingen.de
SUMMARY:Drum Circle
DESCRIPTION:in der Seniorenresidenz Charlottenhof\n– Rhythmus verbindet – Ein Trommelerlebnis zum Mitmachen \nTermine: \n\n6. September\n18. Oktober\n8. November\n6. Dezember\n\nJeweils 15.30 Uhr im Festsaal \nWir machen Musik mit Trommeln und Percussion-Instrumenten.\nGanz spontan und ohne Leistungsanspruch.\nJeder kann mitmachen\, denn es werden keine Vorerfahrungen benötigt. Von Jung bis Alt sind alle herzlich willkommen. \nEin Ort für Begegnungen und musikalisches Miteinander!
URL:https://wandelstadt-esslingen.de/event/drum-circle/2024-09-06/
LOCATION:Seniorenresidenz Charlottenhof\, Plochinger Straße 21-27\, Esslingen\, 73730
CATEGORIES:Gemütliches Treffen,Kulturveranstaltung
END:VEVENT
END:VCALENDAR