BEGIN:VCALENDAR
VERSION:2.0
PRODID:-//Wandelstadt Esslingen - ECPv6.15.20//NONSGML v1.0//EN
CALSCALE:GREGORIAN
METHOD:PUBLISH
X-WR-CALNAME:Wandelstadt Esslingen
X-ORIGINAL-URL:https://wandelstadt-esslingen.de
X-WR-CALDESC:Veranstaltungen für Wandelstadt Esslingen
REFRESH-INTERVAL;VALUE=DURATION:PT1H
X-Robots-Tag:noindex
X-PUBLISHED-TTL:PT1H
BEGIN:VTIMEZONE
TZID:Europe/Berlin
BEGIN:DAYLIGHT
TZOFFSETFROM:+0100
TZOFFSETTO:+0200
TZNAME:CEST
DTSTART:20240331T010000
END:DAYLIGHT
BEGIN:STANDARD
TZOFFSETFROM:+0200
TZOFFSETTO:+0100
TZNAME:CET
DTSTART:20241027T010000
END:STANDARD
BEGIN:DAYLIGHT
TZOFFSETFROM:+0100
TZOFFSETTO:+0200
TZNAME:CEST
DTSTART:20250330T010000
END:DAYLIGHT
BEGIN:STANDARD
TZOFFSETFROM:+0200
TZOFFSETTO:+0100
TZNAME:CET
DTSTART:20251026T010000
END:STANDARD
BEGIN:DAYLIGHT
TZOFFSETFROM:+0100
TZOFFSETTO:+0200
TZNAME:CEST
DTSTART:20260329T010000
END:DAYLIGHT
BEGIN:STANDARD
TZOFFSETFROM:+0200
TZOFFSETTO:+0100
TZNAME:CET
DTSTART:20261025T010000
END:STANDARD
END:VTIMEZONE
BEGIN:VEVENT
DTSTART;TZID=Europe/Berlin:20250716T093000
DTEND;TZID=Europe/Berlin:20250716T170000
DTSTAMP:20260422T012753
CREATED:20250702T141917Z
LAST-MODIFIED:20250702T141917Z
UID:10006025-1752658200-1752685200@wandelstadt-esslingen.de
SUMMARY:Radtour auf den Schurwald
DESCRIPTION:Der StadtSeniorenRat lädt zu einer 42 km lange Radtour (510 Höhenmeter) über Reichenbach auf den Schurwald ein. Zunächst geht es durch das Esslinger Entennest und Plochingen ziemlich eben nach Reichenbach. Dort folgt der erste Anstieg nach Thomashardt. Auf einem kurzen Stück des Kaisersträßles und der Abfahrt von Hohengehren nach Baach können sich die Radler ein wenig erholen bis es zum Anstieg vom Baacher Tal nach Aichschieß geht. Der Rest der Strecke bis zur Mittagseinkehr in der Pizzeria beim Tennisclub Esslingen und die anschließende Abfahrt ins Neckartal kann dann entspannt genossen werden. Die Tour ist auch bei großer Hitze gut zu fahren\, da sie überwiegend im Wald verläuft. Allerdings erfordert sie kräftige Beine oder ein Pedelec. Abfahrt: 9.30 Uhr am Richard-Hirschmann Eisstadion in Esslingen. Anmeldung: m.schnaithmann@online.de\, Tel. 0711 3456245
URL:https://wandelstadt-esslingen.de/event/radtour-auf-den-schurwald/
LOCATION:Schurwald
CATEGORIES:Ausflug
ATTACH;FMTTYPE=image/jpeg:https://wandelstadt-esslingen.de/wp-content/uploads/2025/05/Logo-SSR.jpg
END:VEVENT
END:VCALENDAR