BEGIN:VCALENDAR
VERSION:2.0
PRODID:-//Wandelstadt Esslingen - ECPv6.15.20//NONSGML v1.0//EN
CALSCALE:GREGORIAN
METHOD:PUBLISH
X-WR-CALNAME:Wandelstadt Esslingen
X-ORIGINAL-URL:https://wandelstadt-esslingen.de
X-WR-CALDESC:Veranstaltungen für Wandelstadt Esslingen
REFRESH-INTERVAL;VALUE=DURATION:PT1H
X-Robots-Tag:noindex
X-PUBLISHED-TTL:PT1H
BEGIN:VTIMEZONE
TZID:Europe/Berlin
BEGIN:DAYLIGHT
TZOFFSETFROM:+0100
TZOFFSETTO:+0200
TZNAME:CEST
DTSTART:20240331T010000
END:DAYLIGHT
BEGIN:STANDARD
TZOFFSETFROM:+0200
TZOFFSETTO:+0100
TZNAME:CET
DTSTART:20241027T010000
END:STANDARD
BEGIN:DAYLIGHT
TZOFFSETFROM:+0100
TZOFFSETTO:+0200
TZNAME:CEST
DTSTART:20250330T010000
END:DAYLIGHT
BEGIN:STANDARD
TZOFFSETFROM:+0200
TZOFFSETTO:+0100
TZNAME:CET
DTSTART:20251026T010000
END:STANDARD
BEGIN:DAYLIGHT
TZOFFSETFROM:+0100
TZOFFSETTO:+0200
TZNAME:CEST
DTSTART:20260329T010000
END:DAYLIGHT
BEGIN:STANDARD
TZOFFSETFROM:+0200
TZOFFSETTO:+0100
TZNAME:CET
DTSTART:20261025T010000
END:STANDARD
END:VTIMEZONE
BEGIN:VEVENT
DTSTART;TZID=Europe/Berlin:20250724T173000
DTEND;TZID=Europe/Berlin:20250724T190000
DTSTAMP:20260422T005200
CREATED:20250627T220514Z
LAST-MODIFIED:20250627T220514Z
UID:10005732-1753378200-1753383600@wandelstadt-esslingen.de
SUMMARY:Geh-Café: Unterwegs mit der Stabsstelle Nachhaltigkeit und Klimaschutz
DESCRIPTION:Esslingen zu Fuß entdecken: Bei einem geführten Spaziergang durch die Stadt lernen Sie Esslingen aus ganz anderen Perspektiven kennen. Zum gemütlichen Ausklang laden wir Sie zu Getränken und einem Snack ein. \nAm 24. Juli steht der Rundgang unter dem Motto „Hitzevorsorge und Klimaanpassung in Esslingen“. Denn der Klimawandel führt dazu\, dass die Anzahl der Hitzetage und Tropennächte weiter steigen wird. Was das für Esslingen bedeutet und was die Stadt unternimmt\, um die Innenstadt auch in Zukunft lebenswert zu gestalten\, erfahren Sie auf diesem Spaziergang mit Dr. Katja Walther\, Leiterin der Stabsstelle Nachhaltigkeit und Klimaschutz. \nTreffpunkt: Trinkwasserbrunnen am Schelztorturm\nAusklang: Villa Merkel \nUm eine Anmeldung zur Veranstaltung per Mail unter klimaschutz@esslingen.de wird gebeten. \n\n\n\n\n\n\nPreisKostenfrei
URL:https://wandelstadt-esslingen.de/event/geh-cafe-unterwegs-mit-der-stabsstelle-nachhaltigkeit-und-klimaschutz/
LOCATION:Schelztortum\, Schelztorstr. 2\, Esslingen am Neckar\, 73728
CATEGORIES:Ausflug,Gemütliches Treffen,Infoveranstaltung
END:VEVENT
BEGIN:VEVENT
DTSTART;TZID=Europe/Berlin:20250721T170000
DTEND;TZID=Europe/Berlin:20250721T183000
DTSTAMP:20260422T005200
CREATED:20250627T215728Z
LAST-MODIFIED:20250627T220242Z
UID:10005731-1753117200-1753122600@wandelstadt-esslingen.de
SUMMARY:Geh-Café: Unterwegs mit dem Grünflächenamt
DESCRIPTION:Esslingen zu Fuß entdecken: Bei einem geführten Spaziergang durch die Stadt lernen Sie Esslingen aus ganz anderen Perspektiven kennen. Zum gemütlichen Ausklang laden wir Sie zu Getränken und einem Snack ein. \nAm 21. Juli auf dem Programm: Gärtners Lust und Last – ein Streifzug durch einige prominente Esslinger Grünanlagen mit Matthias Scheider\, dem Leiter des Grünflächenamtes. Dabei geht er ganz verschiedenen Fragen nach\, wie beispielsweise welche Pflanzenarten sind zukunftstauglich? Was bedeutet die Verkehrssicherungspflicht? Wie viele Bäume pflanzt die Stadt? \nTreffpunkt: Trinkwasserbrunnen in der Maille\nAusklang: Villa Merkel \nUm eine Anmeldung zur Veranstaltung per Mail unter klimaschutz@esslingen.de wird gebeten.
URL:https://wandelstadt-esslingen.de/event/geh-cafe-unterwegs-mit-dem-gruenflaechenamt/
LOCATION:Schelztortum\, Schelztorstr. 2\, Esslingen am Neckar\, 73728
CATEGORIES:Ausflug,Gemütliches Treffen
END:VEVENT
END:VCALENDAR