BEGIN:VCALENDAR
VERSION:2.0
PRODID:-//Wandelstadt Esslingen - ECPv6.15.20//NONSGML v1.0//EN
CALSCALE:GREGORIAN
METHOD:PUBLISH
X-ORIGINAL-URL:https://wandelstadt-esslingen.de
X-WR-CALDESC:Veranstaltungen für Wandelstadt Esslingen
REFRESH-INTERVAL;VALUE=DURATION:PT1H
X-Robots-Tag:noindex
X-PUBLISHED-TTL:PT1H
BEGIN:VTIMEZONE
TZID:Europe/Berlin
BEGIN:DAYLIGHT
TZOFFSETFROM:+0100
TZOFFSETTO:+0200
TZNAME:CEST
DTSTART:20230326T010000
END:DAYLIGHT
BEGIN:STANDARD
TZOFFSETFROM:+0200
TZOFFSETTO:+0100
TZNAME:CET
DTSTART:20231029T010000
END:STANDARD
BEGIN:DAYLIGHT
TZOFFSETFROM:+0100
TZOFFSETTO:+0200
TZNAME:CEST
DTSTART:20240331T010000
END:DAYLIGHT
BEGIN:STANDARD
TZOFFSETFROM:+0200
TZOFFSETTO:+0100
TZNAME:CET
DTSTART:20241027T010000
END:STANDARD
BEGIN:DAYLIGHT
TZOFFSETFROM:+0100
TZOFFSETTO:+0200
TZNAME:CEST
DTSTART:20250330T010000
END:DAYLIGHT
BEGIN:STANDARD
TZOFFSETFROM:+0200
TZOFFSETTO:+0100
TZNAME:CET
DTSTART:20251026T010000
END:STANDARD
END:VTIMEZONE
BEGIN:VEVENT
DTSTART;TZID=Europe/Berlin:20241022T190000
DTEND;TZID=Europe/Berlin:20241022T203000
DTSTAMP:20260423T010733
CREATED:20240822T060617Z
LAST-MODIFIED:20240822T060617Z
UID:10003973-1729623600-1729629000@wandelstadt-esslingen.de
SUMMARY:Wie schaff ich das? Auskommen mit dem Einkommen...
DESCRIPTION:Auskommen mit dem Einkommen\, sicheres Onlineshopping\, Umgang mit dem Haushaltsgeld\, Wege aus finanziellen Schwierigkeiten\, gute Praxis für das Taschengeld\, Versicherungen und Verträge… \nAll das sind Themen\, die in Familien und Haushalten zu schwierigen Situationen und Notlagen führen können.\nDas Quartierszentrum Lukaskirche und das Diakonische Beratungszentrum Esslingen bieten zu diesen Themen die Veranstal-tungsreihe „Wendepunkt“ mit den Berate-rinnen des Kreisdiakonieverbands Lena Stumpp und Bettina Knapp.\nSie geben Hilfestellungen\, Hinweise und Tipps\, für den Umgang mit dem Einkommen oder finanziellen Herausforderungen. \nWo? Quartierszentrum Lukaskirche – Königsallee 6 in Weil\nWann? jeweils dienstags 19.00 bis 20.30 Uhr \n18.06. Was soll ich beachten beim Onlineshopping? + Wie handhabe ich Taschengeld?\n23.07. Umgang mit finanziellen Schwierigkeiten\n24.09. Haushaltsplanung – Auskommen mit dem Einkommen\n22.10. Versicherungen und Verträge \nWenn Sie lieber eine persönliche Beratung möchten\, wenden Sie sich bitte an Quartiersmanager Kurt Hilsenbeck oder direkt an das Diakonische Beratungszentrum Berliner Straße 27\, Esslingen.\nTel. 0711 3421-570
URL:https://wandelstadt-esslingen.de/event/wie-schaff-ich-das-auskommen-mit-dem-einkommen/2024-10-22/
LOCATION:Quartierszentrum Lukaskirche\, Königsallee 6\, Esslingen\, Deutschland
END:VEVENT
BEGIN:VEVENT
DTSTART;TZID=Europe/Berlin:20240924T190000
DTEND;TZID=Europe/Berlin:20240924T203000
DTSTAMP:20260423T010733
CREATED:20240822T060617Z
LAST-MODIFIED:20240822T060617Z
UID:10003972-1727204400-1727209800@wandelstadt-esslingen.de
SUMMARY:Wie schaff ich das? Auskommen mit dem Einkommen...
DESCRIPTION:Auskommen mit dem Einkommen\, sicheres Onlineshopping\, Umgang mit dem Haushaltsgeld\, Wege aus finanziellen Schwierigkeiten\, gute Praxis für das Taschengeld\, Versicherungen und Verträge… \nAll das sind Themen\, die in Familien und Haushalten zu schwierigen Situationen und Notlagen führen können.\nDas Quartierszentrum Lukaskirche und das Diakonische Beratungszentrum Esslingen bieten zu diesen Themen die Veranstal-tungsreihe „Wendepunkt“ mit den Berate-rinnen des Kreisdiakonieverbands Lena Stumpp und Bettina Knapp.\nSie geben Hilfestellungen\, Hinweise und Tipps\, für den Umgang mit dem Einkommen oder finanziellen Herausforderungen. \nWo? Quartierszentrum Lukaskirche – Königsallee 6 in Weil\nWann? jeweils dienstags 19.00 bis 20.30 Uhr \n18.06. Was soll ich beachten beim Onlineshopping? + Wie handhabe ich Taschengeld?\n23.07. Umgang mit finanziellen Schwierigkeiten\n24.09. Haushaltsplanung – Auskommen mit dem Einkommen\n22.10. Versicherungen und Verträge \nWenn Sie lieber eine persönliche Beratung möchten\, wenden Sie sich bitte an Quartiersmanager Kurt Hilsenbeck oder direkt an das Diakonische Beratungszentrum Berliner Straße 27\, Esslingen.\nTel. 0711 3421-570
URL:https://wandelstadt-esslingen.de/event/wie-schaff-ich-das-auskommen-mit-dem-einkommen/2024-09-24/
LOCATION:Quartierszentrum Lukaskirche\, Königsallee 6\, Esslingen\, Deutschland
END:VEVENT
END:VCALENDAR