BEGIN:VCALENDAR
VERSION:2.0
PRODID:-//Wandelstadt Esslingen - ECPv6.15.20//NONSGML v1.0//EN
CALSCALE:GREGORIAN
METHOD:PUBLISH
X-WR-CALNAME:Wandelstadt Esslingen
X-ORIGINAL-URL:https://wandelstadt-esslingen.de
X-WR-CALDESC:Veranstaltungen für Wandelstadt Esslingen
REFRESH-INTERVAL;VALUE=DURATION:PT1H
X-Robots-Tag:noindex
X-PUBLISHED-TTL:PT1H
BEGIN:VTIMEZONE
TZID:Europe/Berlin
BEGIN:DAYLIGHT
TZOFFSETFROM:+0100
TZOFFSETTO:+0200
TZNAME:CEST
DTSTART:20230326T010000
END:DAYLIGHT
BEGIN:STANDARD
TZOFFSETFROM:+0200
TZOFFSETTO:+0100
TZNAME:CET
DTSTART:20231029T010000
END:STANDARD
BEGIN:DAYLIGHT
TZOFFSETFROM:+0100
TZOFFSETTO:+0200
TZNAME:CEST
DTSTART:20240331T010000
END:DAYLIGHT
BEGIN:STANDARD
TZOFFSETFROM:+0200
TZOFFSETTO:+0100
TZNAME:CET
DTSTART:20241027T010000
END:STANDARD
BEGIN:DAYLIGHT
TZOFFSETFROM:+0100
TZOFFSETTO:+0200
TZNAME:CEST
DTSTART:20250330T010000
END:DAYLIGHT
BEGIN:STANDARD
TZOFFSETFROM:+0200
TZOFFSETTO:+0100
TZNAME:CET
DTSTART:20251026T010000
END:STANDARD
BEGIN:DAYLIGHT
TZOFFSETFROM:+0100
TZOFFSETTO:+0200
TZNAME:CEST
DTSTART:20260329T010000
END:DAYLIGHT
BEGIN:STANDARD
TZOFFSETFROM:+0200
TZOFFSETTO:+0100
TZNAME:CET
DTSTART:20261025T010000
END:STANDARD
END:VTIMEZONE
BEGIN:VEVENT
DTSTART;TZID=Europe/Berlin:20250820T093000
DTEND;TZID=Europe/Berlin:20250820T170000
DTSTAMP:20260421T220238
CREATED:20250804T083753Z
LAST-MODIFIED:20250804T083753Z
UID:10006119-1755682200-1755709200@wandelstadt-esslingen.de
SUMMARY:Mit dem Rad die Heimat erkunden
DESCRIPTION:Der Stadtseniorenrat lädt auch Nichtmitglieder zu einer kostenlosen\,  rund 40 km lange Radtour (270 Höhenmeter) nach Möhringen ein. Von Berkheim geht es  durch Ruit\, vorbei an Heumaden und Sillenbuch zum höchsten Punkt in Degerloch. Von hier aus führt die Strecke leicht abfallend weiter nach Möhringen und durch Plieningen ins Körschtal bis Denkendorf. Die Tour endet nach einem Anstieg  in Köngen mit der Mittagseinkehr in der Rettichbar. Abfahrt: 9.30 Uhr an der Osterfeldhalle Berkheim. Anmeldung:m.schnaithmann@online.de\,Tel. 0711 3456245
URL:https://wandelstadt-esslingen.de/event/mit-dem-rad-die-heimat-erkunden/
LOCATION:Osterfeldhalle\, Köngener Straße 51\, Esslingen am Neckar\, 73734\, Deutschland
CATEGORIES:Ausflug
ATTACH;FMTTYPE=image/jpeg:https://wandelstadt-esslingen.de/wp-content/uploads/2025/05/Logo-SSR.jpg
END:VEVENT
BEGIN:VEVENT
DTSTART;TZID=Europe/Berlin:20240502T173000
DTEND;TZID=Europe/Berlin:20240502T173000
DTSTAMP:20260421T220238
CREATED:20240429T151618Z
LAST-MODIFIED:20240429T151759Z
UID:10002854-1714671000-1714671000@wandelstadt-esslingen.de
SUMMARY:Kundgebung für Deomratie und Menschenrechte
DESCRIPTION:In Esslingen ruft ein breites Bündnis am Donnerstag dieser Woche zu einer Kundgebung für Demokratie und Menschenrechte auf. Anlass ist eine Veranstaltung der rechtsextremen AfD in der Osterfeldhalle. \nAm 9. Juni kandidiert die AfD erstmals für den Esslinger Gemeinderat. Wir sagen: Esslingen ist besser dran ohne sie. Als Redner in der Osterfeldhalle hat die AfD auch Markus Frohnmaier und Marc Jongen angekündigt. Frohnmaier\, MdB und Mitbegründer der eindeutig rechtsextremen AfD-Jugendorganisation Junge Alternative\, ist unter anderem berüchtigt für sein Zitat: \n„Wenn wir kommen\, dann wird aufgeräumt\, dann wird ausgemistet\,…“. Sollte die AfD an die Macht kommen\, fordert er\, das Bundesverfassungsgericht mit parteitreuen Richtern zu besetzen. Jongen setzt Flüchtlinge mit Parasiten gleich\, die auf Kosten ihrer „Wirtsgesellschaften“ leben. Das ist widerlich. \nSolche Scharfmacher haben in unserer Stadt nichts zu suchen! Wir wollen keine Partei\, die hetzt: gegen Geflüchtete\, Erwerbslose und alle\, die nicht in ihr völkisch-nationalistisches Weltbild passen. Wir wollen keine Partei\, die vorgibt für die kleinen Leute da zu sein\, sich in ihrem Programm aber klar gegen Arbeitnehmer*innenrechte\, soziale Sicherheit oder eine gerechte Steuerpolitik positioniert. \nDas berühmte: „Nie wieder!“\, das wir aus unserer Geschichte gelernt haben\, ist jetzt! \nWIR SIND DIE BRANDMAUER!\nKommen Sie zur Kundgebung\, treten Sie ein für die Stärkung unserer Demokratie und gegen Hass und Hetze! Lassen Sie uns dieser Partei zeigen: Sie ist in Esslingen nicht willkommen.
URL:https://wandelstadt-esslingen.de/event/kundgebung-fuer-deomratie-und-menschenrechte/
LOCATION:Osterfeldhalle\, Köngener Straße 51\, Esslingen am Neckar\, 73734\, Deutschland
ATTACH;FMTTYPE=image/png:https://wandelstadt-esslingen.de/wp-content/uploads/2024/04/240502_Sharepic_Esslingen.png
END:VEVENT
BEGIN:VEVENT
DTSTART;TZID=Europe/Berlin:20240423T190000
DTEND;TZID=Europe/Berlin:20240423T190000
DTSTAMP:20260421T220238
CREATED:20240405T070705Z
LAST-MODIFIED:20240405T070705Z
UID:10002838-1713898800-1713898800@wandelstadt-esslingen.de
SUMMARY:Einwohnerversammlung Berkheim
DESCRIPTION:Die Einwohnerversammlungen wurden 2023 neu konzipiert und modernisiert. Über eine Beteiligungsplattform können Sie \n\n\nThemenvorschläge für die Einwohnerversammlungen bereits im Vorfeld einreichen\nüber die eingereichten\, thematisch zusammengefassten Vorschläge online abstimmen\nIhre Kandidatur für den Bürgerausschuss einreichen\nonline für Ihre Kandidatin\, Ihren Kandidaten abstimmen\n\nZeitplan und Beteiligung \nThemen vorschlagen und wählen\nAuf die Tagesordnung kommen die drei Themen\, die hier die meisten Stimmen erhalten. \nThemen vorschlagen\n29. Februar bis 7. März\njeweils 12 Uhr \nThemen abstimmen\n8. bis 15. März\njeweils 12 Uhr \nKandidieren\n8. bis 22. März\njeweils 12 Uhr \nBürgerausschuss-Wahl\n11. April\, 12 Uhr bis\n21. April\, 18 Uhr \nWahl vor Ort\nVon 18 Uhr bis 18:45 Uhr können Sie vor der Veranstaltung noch wählen! Bringen Sie dazu einen gültigen Ausweis mit.
URL:https://wandelstadt-esslingen.de/event/einwohnerversammlung-berkheim/
LOCATION:Osterfeldhalle\, Köngener Straße 51\, Esslingen am Neckar\, 73734\, Deutschland
END:VEVENT
END:VCALENDAR