BEGIN:VCALENDAR
VERSION:2.0
PRODID:-//Wandelstadt Esslingen - ECPv6.15.20//NONSGML v1.0//EN
CALSCALE:GREGORIAN
METHOD:PUBLISH
X-WR-CALNAME:Wandelstadt Esslingen
X-ORIGINAL-URL:https://wandelstadt-esslingen.de
X-WR-CALDESC:Veranstaltungen für Wandelstadt Esslingen
REFRESH-INTERVAL;VALUE=DURATION:PT1H
X-Robots-Tag:noindex
X-PUBLISHED-TTL:PT1H
BEGIN:VTIMEZONE
TZID:Europe/Berlin
BEGIN:DAYLIGHT
TZOFFSETFROM:+0100
TZOFFSETTO:+0200
TZNAME:CEST
DTSTART:20230326T010000
END:DAYLIGHT
BEGIN:STANDARD
TZOFFSETFROM:+0200
TZOFFSETTO:+0100
TZNAME:CET
DTSTART:20231029T010000
END:STANDARD
BEGIN:DAYLIGHT
TZOFFSETFROM:+0100
TZOFFSETTO:+0200
TZNAME:CEST
DTSTART:20240331T010000
END:DAYLIGHT
BEGIN:STANDARD
TZOFFSETFROM:+0200
TZOFFSETTO:+0100
TZNAME:CET
DTSTART:20241027T010000
END:STANDARD
BEGIN:DAYLIGHT
TZOFFSETFROM:+0100
TZOFFSETTO:+0200
TZNAME:CEST
DTSTART:20250330T010000
END:DAYLIGHT
BEGIN:STANDARD
TZOFFSETFROM:+0200
TZOFFSETTO:+0100
TZNAME:CET
DTSTART:20251026T010000
END:STANDARD
END:VTIMEZONE
BEGIN:VEVENT
DTSTART;TZID=Europe/Berlin:20241106T180000
DTEND;TZID=Europe/Berlin:20241106T193000
DTSTAMP:20260422T042135
CREATED:20241024T213527Z
LAST-MODIFIED:20241024T213527Z
UID:10004401-1730916000-1730921400@wandelstadt-esslingen.de
SUMMARY:"Genießen statt Wegwerfen" - Lebensmittelverschwendung stoppen
DESCRIPTION:twa 12 Millionen Tonnen Lebensmittel landen in Deutschland jährlich im Müll. Haushalte tragen einen großen Anteil an diesen Müllmengen. Diese Verschwendung kostet Geld\, verbraucht unnötig Rohstoffe\, ist klimaschädigend und ethisch problematisch. Der Vortrag gibt eine Einführung in das Thema Lebensmittelverschwendung\, zeigt\, wo Lebensmittelverluste entstehen und erläutert\, was jeder Einzelne dagegen tun kann. Dazu gehören Tipps zu Hygiene\, zur Lagerung und Umgang mit Lebensmitteln im Haushalt sowie der richtige Umgang mit Mindesthaltbarkeits- und Verbrauchsdatum. \nGefördert durch das Ministerium für Ernährung\, Ländlicher Raum und Verbraucherschutz Baden-Württemberg im Rahmen des Projekts „Ernährungsbildung für Familien und Erwachsene in Baden-Württemberg“.
URL:https://wandelstadt-esslingen.de/event/geniessen-statt-wegwerfen-lebensmittelverschwendung-stoppen/
LOCATION:online
ORGANIZER;CN="Volkshochschule Esslingen":MAILTO:info@vhs-esslingen.de
END:VEVENT
BEGIN:VEVENT
DTSTART;TZID=Europe/Berlin:20241023T180000
DTEND;TZID=Europe/Berlin:20241023T193000
DTSTAMP:20260422T042135
CREATED:20240926T193816Z
LAST-MODIFIED:20240926T193816Z
UID:10004037-1729706400-1729711800@wandelstadt-esslingen.de
SUMMARY:Der ökologische Fußabdruck unserer Ernährung
DESCRIPTION:Klimawandel\, Wasserknappheit und Flächenverbrauch sind zentrale Umweltprobleme\, die eng mit unserer Ernährung verbunden sind. Der Vortrag thematisiert die ökologischen Auswirkungen unseres Nahrungskonsums und die Möglichkeiten\, wie wir als Verbraucher:innen negative Umweltauswirkungen reduzieren können. Neben dem CO2-Fußabdruck werden insbesondere der Wasser- und Flächenfußabdruck verschiedener Lebensmittel betrachtet. Dabei werden die Lebenszyklen der Lebensmittel von der landwirtschaftlichen Produktion bis hin zur Einkaufsfahrt analysiert\, einschließlich der Bedeutung von Regionalität\, Saisonalität und Ernährungsweise. \nGefördert durch das Ministerium für Ernährung\, Ländlicher Raum und Verbraucherschutz Baden-Württemberg im Rahmen des Projekts „Ernährungsbildung für Familien und Erwachsene in Baden-Württemberg“
URL:https://wandelstadt-esslingen.de/event/der-oekologische-fussabdruck-unserer-ernaehrung/
LOCATION:online
ORGANIZER;CN="Volkshochschule Esslingen":MAILTO:info@vhs-esslingen.de
END:VEVENT
BEGIN:VEVENT
DTSTART;TZID=Europe/Berlin:20241009T180000
DTEND;TZID=Europe/Berlin:20241009T193000
DTSTAMP:20260422T042135
CREATED:20240926T194656Z
LAST-MODIFIED:20240926T194656Z
UID:10004038-1728496800-1728502200@wandelstadt-esslingen.de
SUMMARY:Von „Mag ich nicht“ zu „Mega Lecker“ – Saisonal & regional essen leicht und lecker gemacht
DESCRIPTION:Klimawandel\, Wasserknappheit und Flächenverbrauch sind zentrale Umweltprobleme\, die eng mit unserer Ernährung verbunden sind. Der Vortrag thematisiert die ökologischen Auswirkungen unseres Nahrungskonsums und die Möglichkeiten\, wie wir als Verbraucher:innen negative Umweltauswirkungen reduzieren können. Neben dem CO2-Fußabdruck werden insbesondere der Wasser- und Flächenfußabdruck verschiedener Lebensmittel betrachtet. Dabei werden die Lebenszyklen der Lebensmittel von der landwirtschaftlichen Produktion bis hin zur Einkaufsfahrt analysiert\, einschließlich der Bedeutung von Regionalität\, Saisonalität und Ernährungsweise. \nGefördert durch das Ministerium für Ernährung\, Ländlicher Raum und Verbraucherschutz Baden-Württemberg im Rahmen des Projekts „Ernährungsbildung für Familien und Erwachsene in Baden-Württemberg“
URL:https://wandelstadt-esslingen.de/event/von-mag-ich-nicht-zu-mega-lecker-saisonal-regional-essen-leicht-und-lecker-gemacht/
LOCATION:online
CATEGORIES:Infoveranstaltung
ORGANIZER;CN="Volkshochschule Esslingen":MAILTO:info@vhs-esslingen.de
END:VEVENT
BEGIN:VEVENT
DTSTART;TZID=Europe/Berlin:20241006T160000
DTEND;TZID=Europe/Berlin:20241006T171500
DTSTAMP:20260422T042135
CREATED:20240926T200453Z
LAST-MODIFIED:20240926T200453Z
UID:10004042-1728230400-1728234900@wandelstadt-esslingen.de
SUMMARY:Vegane Ernährung - Mythen\, Vorteile und Risiken
DESCRIPTION:In diesem kurzweiligen Vortrag werden einige klassische Vorurteile über die rein pflanzliche Ernährung auf wissenschaftlicher Basis beleuchtet und Vorteile den möglichen Risiken gegenübergestellt. Darüber hinaus werden die klassischen Fragen beantwortet\, die immer wieder gestellt werden\, z.B.: Woher bekomme ich mein Protein? Brauche ich Nahrungsergänzungsmittel? Ist eine vegane Ernährung sinnvoll? Außerdem werden hilfreiche Tipps zur praktischen Umsetzung gegeben und Alternativen zu tierischen Produkten beim Kochen und Backen aufgezeigt.
URL:https://wandelstadt-esslingen.de/event/vegane-ernaehrung-mythen-vorteile-und-risiken/
LOCATION:online
CATEGORIES:Infoveranstaltung
ORGANIZER;CN="Volkshochschule Esslingen":MAILTO:info@vhs-esslingen.de
END:VEVENT
BEGIN:VEVENT
DTSTART;TZID=Europe/Berlin:20240702T120000
DTEND;TZID=Europe/Berlin:20240702T120000
DTSTAMP:20260422T042135
CREATED:20240623T133631Z
LAST-MODIFIED:20240623T133631Z
UID:10003052-1719921600-1719921600@wandelstadt-esslingen.de
SUMMARY:Nicht mehr ganz dicht? – Moderne Fenster und Türen
DESCRIPTION:Kostenlose Online-Vorträge \n\n\nAuch im Sommer 2024 geben wir alles\, um die Energiewende voran zu treiben.\nIn den kostenfreien Online-Vorträgen bietet die Energieberatung der Verbraucherzentrale Baden-Württemberg einen Rundumblick über interessante Themen. \n\n\nDie Anmeldung und weitere Informationen finden Sie unter: https://www.verbraucherzentrale-bawue.de/energie/onlineseminare-der-energieberatung-59522
URL:https://wandelstadt-esslingen.de/event/nicht-mehr-ganz-dicht-moderne-fenster-und-tueren/
LOCATION:online
CATEGORIES:Infoveranstaltung
ORGANIZER;CN="Klimaschutzagentur des Landkreises Esslingen gGmbH":MAILTO:info@ksa-es.de
END:VEVENT
BEGIN:VEVENT
DTSTART;TZID=Europe/Berlin:20240702T100000
DTEND;TZID=Europe/Berlin:20240702T100000
DTSTAMP:20260422T042135
CREATED:20240623T133824Z
LAST-MODIFIED:20240623T133824Z
UID:10003053-1719914400-1719914400@wandelstadt-esslingen.de
SUMMARY:Wie gelingt der Heizungstausch?
DESCRIPTION:Kostenlose Online-Vorträge \n\n\nAuch im Sommer 2024 geben wir alles\, um die Energiewende voran zu treiben.\nIn den kostenfreien Online-Vorträgen bietet die Energieberatung der Verbraucherzentrale Baden-Württemberg einen Rundumblick über interessante Themen. \n\n\nDie Anmeldung und weitere Informationen finden Sie unter: https://www.verbraucherzentrale-bawue.de/energie/onlineseminare-der-energieberatung-59522
URL:https://wandelstadt-esslingen.de/event/wie-gelingt-der-heizungstausch/
LOCATION:online
CATEGORIES:Infoveranstaltung
ORGANIZER;CN="Klimaschutzagentur des Landkreises Esslingen gGmbH":MAILTO:info@ksa-es.de
END:VEVENT
BEGIN:VEVENT
DTSTART;TZID=Europe/Berlin:20240413T080000
DTEND;TZID=Europe/Berlin:20240413T170000
DTSTAMP:20260422T042135
CREATED:20240413T124616Z
LAST-MODIFIED:20240413T124616Z
UID:10002841-1712995200-1713027600@wandelstadt-esslingen.de
SUMMARY:QueerES Großes Orga Treffen
DESCRIPTION:Bei unserem großen Organisations-Treffen diskutieren wir die Erfolge der Untergruppen\, potenzielle Verbesserungen und den aktuellen Stand verschiedener Aktionen\, wie etwa unserem CSD. \nDieses Mal findet das Treffen online statt. Den Link dazu erhaltet ihr auf Anfrage. \nWir freuen uns über neue Teilnehmer!
URL:https://wandelstadt-esslingen.de/event/queeres-grosses-orga-treffen/
LOCATION:online
CATEGORIES:Beteiligung,Vernetzungsveranstaltung
END:VEVENT
BEGIN:VEVENT
DTSTART;TZID=Europe/Berlin:20240312T190000
DTEND;TZID=Europe/Berlin:20240312T203000
DTSTAMP:20260422T042135
CREATED:20240225T163354Z
LAST-MODIFIED:20240225T163354Z
UID:10002731-1710270000-1710275400@wandelstadt-esslingen.de
SUMMARY:Mini-Kurs "Vegan Basics"
DESCRIPTION:Hier bist du goldrichtig\, wenn du mehr auf regionale und faire Pflanzenpower setzten möchtest! \nEs ist völlig egal\, ob du vegan\, vegetarisch oder mischköstlich isst – du hast in jedem Fall einen Mehrwert\, wenn du weißt\, was dir gut tut. Ganz entspannt und unkompliziert.
URL:https://wandelstadt-esslingen.de/event/mini-kurs-vegan-basics/
LOCATION:online
CATEGORIES:Infoveranstaltung
END:VEVENT
BEGIN:VEVENT
DTSTART;TZID=Europe/Berlin:20240214T120000
DTEND;TZID=Europe/Berlin:20240214T123000
DTSTAMP:20260422T042135
CREATED:20240123T112350Z
LAST-MODIFIED:20240123T112415Z
UID:10002234-1707912000-1707913800@wandelstadt-esslingen.de
SUMMARY:Energiesparhäppchen – Energiesparen am Mittag
DESCRIPTION:Die Veranstaltung ist eine Kooperation der Verbraucherzentrale BW und der rea BW (Verband der regionalen Energie- und Klimaschutzagenturen Baden-Württemberg) sowie ihrem Netzwerk aus den regionalen Energie- und Klimaschutzagenturen vor Ort. \nSteigende Energiekosten bringen viele an Ihre Belastungsgrenzen.\nViele Verbraucher:innen fragen sich nun\, wie Energie effektiv eingespart werden kann. \nIm Energiesparhäppchen am Mittag\, wollen wir Ihnen in einem Kurzvortrag Tipps und Tricks zeigen wie Sie z.B. an Ihrem Arbeitsplatz oder auch zu Hause leicht und schnell Energie einsparen können.\nPerfekt für die Mittagspause. \nIn diesem kostenlosen Online Vortrag zeigt Ihnen\, die Energieberaterin Maren Mittelbach\, wie Sie mit einfachen Mitteln Energie einsparen können. \nMelden Sie sich hier zum Online-Seminar an und nehmen Sie bequem von zuhause aus teil. Die Teilnahme ist kostenlos. \nHinweis: Sofern Sie im Online-Seminar anonym bleiben wollen\, können Sie sich mit E-Mail-Adresse und einem Nickname\, bzw. Pseudonym anmelden. Der Name\, den Sie bei der Anmeldung eingeben\, wird während des Online-Seminars in der Teilnehmerliste und im Chat eingeblendet.
URL:https://wandelstadt-esslingen.de/event/energiesparhaeppchen-energiesparen-am-mittag/
LOCATION:online
CATEGORIES:Infoveranstaltung
ATTACH;FMTTYPE=image/png:https://wandelstadt-esslingen.de/wp-content/uploads/2024/01/verbraucherzentrale_klimaschutzagentur.png
ORGANIZER;CN="Klimaschutzagentur des Landkreises Esslingen gGmbH":MAILTO:info@ksa-es.de
END:VEVENT
BEGIN:VEVENT
DTSTART;TZID=Europe/Berlin:20240208T120000
DTEND;TZID=Europe/Berlin:20240208T133000
DTSTAMP:20260422T042135
CREATED:20240123T112219Z
LAST-MODIFIED:20240123T112219Z
UID:10002233-1707393600-1707399000@wandelstadt-esslingen.de
SUMMARY:Wir klären auf – Heizen mit erneuerbaren Energien und die 65%
DESCRIPTION:Die Veranstaltung ist eine Kooperation der Verbraucherzentrale BW und der rea BW (Verband der regionalen Energie- und Klimaschutzagenturen Baden-Württemberg) sowie ihrem Netzwerk aus den regionalen Energie- und Klimaschutzagenturen vor Ort. \nDie Energiepreise haben sich in den vergangenen Monaten mehr als verdoppelt und auch das Fortschreiten des Klimawandels legt nahe\, möglichst auf Öl und Gas zu verzichten. Heizen mit Erneuerbaren Energien wird nicht nur kostengünstiger und schont das Klima\, sondern macht Hauseigentümer:innen auch unabhängig von fossilen Brennstoffen. \nIn diesem Online-Vortrag beantwortet die Energieberaterin Birgit Groh Fragen wie: Welche Heizung ist für mein Haus geeignet\, wenn der Ölkessel raus muss? Ist es nicht günstiger den Energiebedarf durch Dämmung zu senken\, als für Brennstoffe zu bezahlen? Welche Fördermittel gibt es derzeit für die Heizungsumstellung – und reichen die erneuerbaren Energien überhaupt für alle Häuser? \nEbenfalls wird angesprochen was die Nachricht aus Berlin bedeutet\, dass ab 2024 zu 65% mit erneuerbaren Energien geheizt werden soll. \nMelden Sie sich über das Anmeldeformular zum Online-Seminar an und nehmen Sie bequem von zuhause aus teil. Die Teilnahme ist kostenlos. \nHinweis: Sofern Sie im Online-Seminar anonym bleiben wollen\, können Sie sich mit E-Mail-Adresse und einem Nickname\, bzw. Pseudonym anmelden. Der Name\, den Sie bei der Anmeldung eingeben\, wird während des Online-Seminars nur den Moderator:innen angezeigt.
URL:https://wandelstadt-esslingen.de/event/wir-klaeren-auf-heizen-mit-erneuerbaren-energien-und-die-65-2/
LOCATION:online
CATEGORIES:Infoveranstaltung
ATTACH;FMTTYPE=image/png:https://wandelstadt-esslingen.de/wp-content/uploads/2024/01/verbraucherzentrale_klimaschutzagentur.png
ORGANIZER;CN="Klimaschutzagentur des Landkreises Esslingen gGmbH":MAILTO:info@ksa-es.de
END:VEVENT
BEGIN:VEVENT
DTSTART;TZID=Europe/Berlin:20240123T080000
DTEND;TZID=Europe/Berlin:20240123T170000
DTSTAMP:20260422T042135
CREATED:20240123T112003Z
LAST-MODIFIED:20240123T112003Z
UID:10002232-1705996800-1706029200@wandelstadt-esslingen.de
SUMMARY:Heizung optimieren
DESCRIPTION:Die Veranstaltung ist eine Kooperation der Verbraucherzentrale BW und der rea BW (Verband der regionalen Energie- und Klimaschutzagenturen Baden-Württemberg) sowie ihrem Netzwerk aus den regionalen Energie- und Klimaschutzagenturen vor Ort. \nEtwa 85 Prozent des Energieverbrauchs eines Hauses wird für das Heizen und die Warmwassererzeugung aufgewendet. In vielen Heizungsanlagen schlummert großes Einsparpotenzial. Häufig kann der Brennstoff viel effizienter genutzt werden\, wenn alle Komponenten der Heizung besser aufeinander abgestimmt sind. \nWelche Möglichkeiten zur Optimierung konkret bestehen und wie man praktisch vorgeht\, erklärt Energieberaterin Birgit Groh in diesem Online-Vortrag. Sie erfahren außerdem\, was man bereits jetzt tun kann damit man gut auf die nächste Heiztechnologie vorbereitet ist. \nMelden Sie sich über das Anmeldeformular zum Online-Seminar an und nehmen Sie bequem von zuhause aus teil. Die Teilnahme ist kostenlos. \nHinweis: Sofern Sie im Online-Seminar anonym bleiben wollen\, können Sie sich mit E-Mail-Adresse und einem Nickname\, bzw. Pseudonym anmelden. Der Name\, den Sie bei der Anmeldung eingeben\, wird während des Online-Seminars nur den Moderator:innen angezeigt.
URL:https://wandelstadt-esslingen.de/event/heizung-optimieren-2/
LOCATION:online
CATEGORIES:Infoveranstaltung
ATTACH;FMTTYPE=image/png:https://wandelstadt-esslingen.de/wp-content/uploads/2024/01/verbraucherzentrale_klimaschutzagentur.png
ORGANIZER;CN="Klimaschutzagentur des Landkreises Esslingen gGmbH":MAILTO:info@ksa-es.de
END:VEVENT
END:VCALENDAR