BEGIN:VCALENDAR
VERSION:2.0
PRODID:-//Wandelstadt Esslingen - ECPv6.15.20//NONSGML v1.0//EN
CALSCALE:GREGORIAN
METHOD:PUBLISH
X-ORIGINAL-URL:https://wandelstadt-esslingen.de
X-WR-CALDESC:Veranstaltungen für Wandelstadt Esslingen
REFRESH-INTERVAL;VALUE=DURATION:PT1H
X-Robots-Tag:noindex
X-PUBLISHED-TTL:PT1H
BEGIN:VTIMEZONE
TZID:Europe/Berlin
BEGIN:DAYLIGHT
TZOFFSETFROM:+0100
TZOFFSETTO:+0200
TZNAME:CEST
DTSTART:20240331T010000
END:DAYLIGHT
BEGIN:STANDARD
TZOFFSETFROM:+0200
TZOFFSETTO:+0100
TZNAME:CET
DTSTART:20241027T010000
END:STANDARD
BEGIN:DAYLIGHT
TZOFFSETFROM:+0100
TZOFFSETTO:+0200
TZNAME:CEST
DTSTART:20250330T010000
END:DAYLIGHT
BEGIN:STANDARD
TZOFFSETFROM:+0200
TZOFFSETTO:+0100
TZNAME:CET
DTSTART:20251026T010000
END:STANDARD
BEGIN:DAYLIGHT
TZOFFSETFROM:+0100
TZOFFSETTO:+0200
TZNAME:CEST
DTSTART:20260329T010000
END:DAYLIGHT
BEGIN:STANDARD
TZOFFSETFROM:+0200
TZOFFSETTO:+0100
TZNAME:CET
DTSTART:20261025T010000
END:STANDARD
BEGIN:DAYLIGHT
TZOFFSETFROM:+0100
TZOFFSETTO:+0200
TZNAME:CEST
DTSTART:20270328T010000
END:DAYLIGHT
BEGIN:STANDARD
TZOFFSETFROM:+0200
TZOFFSETTO:+0100
TZNAME:CET
DTSTART:20271031T010000
END:STANDARD
END:VTIMEZONE
BEGIN:VEVENT
DTSTART;TZID=Europe/Berlin:20260416T163000
DTEND;TZID=Europe/Berlin:20260416T183000
DTSTAMP:20260422T013254
CREATED:20260402T101820Z
LAST-MODIFIED:20260402T101820Z
UID:10009317-1776357000-1776364200@wandelstadt-esslingen.de
SUMMARY:Fit auf dem Smartphone- kostenloser Kurs
DESCRIPTION:Schülerinnen und Schüler des Mörike-Gymnasiums sind wieder am Start\, um im persönlichen Gespräch alle Fragen rund um die vielfältige Nutzung des Smartphones zu beantworten. Smartphones helfen Seniorinnen und Senioren vernetzt\, informiert\, sicher und selbständig zu sein. Learning by doing lautet die Devise und die jungen Expertinnen und Experten der 9. und 10. Klassen freuen sich auf regen Besuch. Anmeldung erwünscht bei bjoern.beyer@esslingen.de oder 0711 3512 2182
URL:https://wandelstadt-esslingen.de/event/fit-auf-dem-smartphone-kostenloser-kurs/
LOCATION:Mörike-Gymnasium\, Neckarstr. 38\, 73728 Esslingen
ATTACH;FMTTYPE=image/jpeg:https://wandelstadt-esslingen.de/wp-content/uploads/2026/04/Smartphone-neu.jpg
END:VEVENT
BEGIN:VEVENT
DTSTART;TZID=Europe/Berlin:20260312T163000
DTEND;TZID=Europe/Berlin:20260312T183000
DTSTAMP:20260422T013254
CREATED:20260221T102848Z
LAST-MODIFIED:20260221T102848Z
UID:10009121-1773333000-1773340200@wandelstadt-esslingen.de
SUMMARY:Kostenloser Smartphone-Kurs
DESCRIPTION:Schülerinnen und Schüler des Mörike-Gymnasiums beantworten im persönlichen Gespräch alle Fragen rund um die vielfältige Nutzung des Smartphones. Learning by doing lautet die Devise von 16.30 bis 18.30 Uhr für Seniorinnen und Senioren\, die fit auf dem Smartphone werden wollen. Anmeldung bei bjoern.beyer@esslingen.de oder 0711 3512 2182
URL:https://wandelstadt-esslingen.de/event/kostenloser-smartphone-kurs-3/
LOCATION:Mörike-Gymnasium\, Neckarstr. 38\, 73728 Esslingen
CATEGORIES:Infoveranstaltung
ATTACH;FMTTYPE=image/jpeg:https://wandelstadt-esslingen.de/wp-content/uploads/2025/05/Offener-Treff-Smartphone-scaled.jpg
END:VEVENT
BEGIN:VEVENT
DTSTART;TZID=Europe/Berlin:20260212T163000
DTEND;TZID=Europe/Berlin:20260212T183000
DTSTAMP:20260422T013254
CREATED:20260202T094820Z
LAST-MODIFIED:20260202T094820Z
UID:10008856-1770913800-1770921000@wandelstadt-esslingen.de
SUMMARY:Kostenloser Smartphone-Kurs
DESCRIPTION:Schülerinnen und Schüler des Mörike-Gymnasiums laden alle herzlich ein\, um im persönlichen Gespräch Fragen rund um die vielfältige Nutzung des Smartphones zu beantworten. Learning by doing lautet die Devise und die jungen Expertinnen und Experten freuen sich auf regen Besuch von Seniorinnen und Senioren\, die fit auf dem Smartphone werden wollen. Anmeldung bei bjoern.beyer@esslingen.de oder 0711 3512 2182 \n 
URL:https://wandelstadt-esslingen.de/event/kostenloser-smartphone-kurs-2/
LOCATION:Mörike-Gymnasium\, Neckarstr. 38\, 73728 Esslingen
ATTACH;FMTTYPE=image/jpeg:https://wandelstadt-esslingen.de/wp-content/uploads/2025/05/Offener-Treff-Smartphone-scaled.jpg
END:VEVENT
BEGIN:VEVENT
DTSTART;TZID=Europe/Berlin:20251204T163000
DTEND;TZID=Europe/Berlin:20251204T183000
DTSTAMP:20260422T013254
CREATED:20251121T102238Z
LAST-MODIFIED:20251121T102238Z
UID:10007221-1764865800-1764873000@wandelstadt-esslingen.de
SUMMARY:Kostenloser Smartphone-Kurs
DESCRIPTION:Schülerinnen und Schüler des Mörike-Gymnasiums sind wieder am Start\, um im persönlichen Gespräch alle Fragen rund um die vielfältige Nutzung des Smartphones zu beantworten. Learning by doing lautet die Devise und die jungen Expertinnen und Experten der 9. und 10. Klassen freuen sich auf Ihren Besuch im Raum H. 1.07\, Anmeldung erwünscht bei bjoern.beyer@esslingen.de oder 0711 3512 2182
URL:https://wandelstadt-esslingen.de/event/kostenloser-smartphone-kurs/
LOCATION:Mörike-Gymnasium\, Neckarstr. 38\, 73728 Esslingen
CATEGORIES:Infoveranstaltung
ATTACH;FMTTYPE=image/jpeg:https://wandelstadt-esslingen.de/wp-content/uploads/2025/05/Offener-Treff-Smartphone-scaled.jpg
END:VEVENT
BEGIN:VEVENT
DTSTART;TZID=Europe/Berlin:20251113T163000
DTEND;TZID=Europe/Berlin:20251113T183000
DTSTAMP:20260422T013254
CREATED:20251022T140310Z
LAST-MODIFIED:20251022T140310Z
UID:10006696-1763051400-1763058600@wandelstadt-esslingen.de
SUMMARY:Smartphone-Kurs für Seniorinnen und Senioren
DESCRIPTION:Dank des Engagements der Schülerinnen und Schüler des Mörike-Gmnasiums freuen wir uns vom StadtSeniorenRat wieder einen kostenlosen Smartphone-Kurs anbieten zu können. Nutzen Sie die Chance\, im direkten \, persönlichen Gespräch alle Ihre Fragen rund um die digitale Welt los zu werden: Wie komme ich ins Internet? Wie lade ich Apps herunter? Wie stelle ich Kontakt zur Familie und Freunden her \, speichere Fotos ab und verschicke diese? Wie buche ich einen Arzt- oder einen Behördentermin? Wie kaufe ich ein DB- Ticket oder eine Konzertkarte? Und noch viele\, viele Fragen mehr rund um das Smartphone werden die jungen Expertinnen und Experten gerne beantworten. Learning by doing lautet die Devise.\nAnmeldung: bjoern.beyer@esslingen.de oder Tel.: 3512 2182 \n 
URL:https://wandelstadt-esslingen.de/event/smartphone-kurs-fuer-seniorinnen-und-senioren/
LOCATION:Mörike-Gymnasium\, Neckarstr. 38\, 73728 Esslingen
ATTACH;FMTTYPE=image/jpeg:https://wandelstadt-esslingen.de/wp-content/uploads/2025/05/Offener-Treff-Smartphone-scaled.jpg
END:VEVENT
BEGIN:VEVENT
DTSTART;TZID=Europe/Berlin:20250723T163000
DTEND;TZID=Europe/Berlin:20250723T183000
DTSTAMP:20260422T013254
CREATED:20250712T135404Z
LAST-MODIFIED:20250712T135404Z
UID:10006048-1753288200-1753295400@wandelstadt-esslingen.de
SUMMARY:Kostenloser Smartphone-Kurs von Preisträgern
DESCRIPTION:Schülerinnen und Schüler des Mörike-Gymnasiums beantworten zum letzten Mal vor den Sommerferien im persönlichen Gespräch Ihre Fragen rund um die vielfältige Nutzung des Smartphones. Learning by doing lautet die Devise des vom StadtSeniorenRat initiierten Kurses für Seniorinnen und Senioren. Die jungen Expertinnen und Experten der 9. und 10. Klassen wurden übrigens vor kurzem für ihr Engagement mit dem Schulsozialpreis der Stadt Esslingen ausgezeichnet. Wir freuen uns gemeinsam auf Ihren Besuch im Mörike-Gymnasium\, Raum H. 1.07. Anmeldung erwünscht bei bjoern.beyer@esslingen.de oder 0711 3512 2182.
URL:https://wandelstadt-esslingen.de/event/kostenloser-smartphone-kurs-von-preistraegern/
LOCATION:Mörike-Gymnasium\, Neckarstr. 38\, 73728 Esslingen
CATEGORIES:Infoveranstaltung
ATTACH;FMTTYPE=image/jpeg:https://wandelstadt-esslingen.de/wp-content/uploads/2025/05/Offener-Treff-Smartphone-scaled.jpg
END:VEVENT
BEGIN:VEVENT
DTSTART;TZID=Europe/Berlin:20250626T163000
DTEND;TZID=Europe/Berlin:20250626T183000
DTSTAMP:20260422T013254
CREATED:20250612T082715Z
LAST-MODIFIED:20250612T082715Z
UID:10005647-1750955400-1750962600@wandelstadt-esslingen.de
SUMMARY:Kostenloser Smartphone-Kurs für Senioren
DESCRIPTION:Schülerinnen und Schüler des Mörike-Gymnasiums sind wieder am Start\, um im persönlichen Gespräch alle Fragen rund um die vielfältige Nutzung des Smartphones zu beantworten. Learning by doing lautet die Devise und die jungen Expertinnen und Experten der 9. und 10. Klassen freuen sich auf regen Besuch im Raum H. 1.07\, Anmeldung erwünscht bei bjoern.beyer@esslingen.de oder 0711 3512 2182
URL:https://wandelstadt-esslingen.de/event/kostenloser-smartphone-kurs-fuer-senioren-2/
LOCATION:Mörike-Gymnasium\, Neckarstr. 38\, 73728 Esslingen
CATEGORIES:Infoveranstaltung
ATTACH;FMTTYPE=image/jpeg:https://wandelstadt-esslingen.de/wp-content/uploads/2025/05/Offener-Treff-Smartphone-scaled.jpg
END:VEVENT
BEGIN:VEVENT
DTSTART;TZID=Europe/Berlin:20250522T163000
DTEND;TZID=Europe/Berlin:20250522T180000
DTSTAMP:20260422T013254
CREATED:20250516T104717Z
LAST-MODIFIED:20250516T104717Z
UID:10005400-1747931400-1747936800@wandelstadt-esslingen.de
SUMMARY:Kostenloser Smartphone-Kurs für Senioren
DESCRIPTION:Schülerinnen und Schüler des Mörike-Gymnasiums sind wieder am Start\, um im persönlichen Gespräch alle Fragen rund um die vielfältige Nutzung des Smartphones zu beantworten. Learning by doing lautet die Devise und die jungen Expertinnen und Experten der 9. und 10. Klassen freuen sich auf regen Besuch im Raum H. 1.07\, Anmeldung erwünscht bei bjoern.beyer@esslingen.de oder 0711 3512 2182
URL:https://wandelstadt-esslingen.de/event/kostenloser-smartphone-kurs-fuer-senioren/
LOCATION:Mörike-Gymnasium\, Neckarstr. 38\, 73728 Esslingen
CATEGORIES:Infoveranstaltung
ATTACH;FMTTYPE=image/jpeg:https://wandelstadt-esslingen.de/wp-content/uploads/2025/05/Offener-Treff-Smartphone-scaled.jpg
END:VEVENT
END:VCALENDAR