BEGIN:VCALENDAR
VERSION:2.0
PRODID:-//Wandelstadt Esslingen - ECPv6.15.20//NONSGML v1.0//EN
CALSCALE:GREGORIAN
METHOD:PUBLISH
X-WR-CALNAME:Wandelstadt Esslingen
X-ORIGINAL-URL:https://wandelstadt-esslingen.de
X-WR-CALDESC:Veranstaltungen für Wandelstadt Esslingen
REFRESH-INTERVAL;VALUE=DURATION:PT1H
X-Robots-Tag:noindex
X-PUBLISHED-TTL:PT1H
BEGIN:VTIMEZONE
TZID:Europe/Berlin
BEGIN:DAYLIGHT
TZOFFSETFROM:+0100
TZOFFSETTO:+0200
TZNAME:CEST
DTSTART:20240331T010000
END:DAYLIGHT
BEGIN:STANDARD
TZOFFSETFROM:+0200
TZOFFSETTO:+0100
TZNAME:CET
DTSTART:20241027T010000
END:STANDARD
BEGIN:DAYLIGHT
TZOFFSETFROM:+0100
TZOFFSETTO:+0200
TZNAME:CEST
DTSTART:20250330T010000
END:DAYLIGHT
BEGIN:STANDARD
TZOFFSETFROM:+0200
TZOFFSETTO:+0100
TZNAME:CET
DTSTART:20251026T010000
END:STANDARD
BEGIN:DAYLIGHT
TZOFFSETFROM:+0100
TZOFFSETTO:+0200
TZNAME:CEST
DTSTART:20260329T010000
END:DAYLIGHT
BEGIN:STANDARD
TZOFFSETFROM:+0200
TZOFFSETTO:+0100
TZNAME:CET
DTSTART:20261025T010000
END:STANDARD
BEGIN:DAYLIGHT
TZOFFSETFROM:+0100
TZOFFSETTO:+0200
TZNAME:CEST
DTSTART:20270328T010000
END:DAYLIGHT
BEGIN:STANDARD
TZOFFSETFROM:+0200
TZOFFSETTO:+0100
TZNAME:CET
DTSTART:20271031T010000
END:STANDARD
END:VTIMEZONE
BEGIN:VEVENT
DTSTART;TZID=Europe/Berlin:20260312T180000
DTEND;TZID=Europe/Berlin:20260312T180000
DTSTAMP:20260422T195531
CREATED:20260224T162734Z
LAST-MODIFIED:20260224T162734Z
UID:10009136-1773338400-1773338400@wandelstadt-esslingen.de
SUMMARY:Iftar für Frauen
DESCRIPTION:Fastenbrechen Erleben Sie einen besonderen Abend: Wir laden zu einem gemeinsamen Iﬅar nur für Frauen ein. Lasst uns zusammen essen\, Vielfalt feiern und ein Zeichen für Solidarität und gegen Rassismus setzen. Wir freuen uns auf den Austausch mit anderen Frauen im geschützten Rahmen. Diese Veranstaltung bietet die Möglichkeit\, neue Kontakte zu knüpfen und gemeinsam ein vielfältiges Buﬀet zu genießen. Jede Teilnehmerin trägt mit einem kleinen Beitrag zum Essen dazu bei\, damit wir ein buntes und abwechslungsreiches Festessen erleben können. Wichtig : Bitte für das Buﬀet unbedingt eine Kleinigkeit zum Essen mitbringen. So können wir alles teilen und gemeinsam ein vielfältiges Festmahl genießen. Lasst uns zusammenkommen und zeigen\, wie stark Vielfalt verbindet! Veranstaltungsort : Mensa Herderschule\, Schorndorfer Straße 22/1\, 73730 Esslingen am Neckar
URL:https://wandelstadt-esslingen.de/event/iftar-fuer-frauen/
LOCATION:Mensa Herderschule\, Schorndorfer Straße 22/1\, Esslingen am Neckar\, 73730\, Deutschland
END:VEVENT
BEGIN:VEVENT
DTSTART;TZID=Europe/Berlin:20250321T180000
DTEND;TZID=Europe/Berlin:20250321T180000
DTSTAMP:20260422T195531
CREATED:20250223T070925Z
LAST-MODIFIED:20250223T071017Z
UID:10004839-1742580000-1742580000@wandelstadt-esslingen.de
SUMMARY:Frauen feiern Vielfalt
DESCRIPTION:Fastenbrechen am Internationalen Tag gegen Rassismus \nAnlässlich des Internationalen Tags gegen Rassismus laden wir herzlich zu einem besonderen Abend ein: einem gemeinsamen Iftar nur für Frauen. Lasst uns zusammen essen\, Vielfalt feiern und ein Zeichen für Solidarität und gegen Rassismus setzen. \nWir freuen uns auf den Austausch mit anderen Frauen in geschütztem Rahmen. Diese Veranstaltung bietet die Möglichkeit\, neue Kontakte zu knüpfen und gemeinsam ein vielfältiges Buffet zu genießen. Jede Teilnehmerin trägt mit einem kleinen Beitrag zum Essen dazu bei\, dass wir ein buntes und abwechslungsreiches Festessen erleben können. \nWichtig: Bitte für das Buffet unbedingt eine Kleinigkeit zum Essen mitbringen. So können wir alles teilen und gemeinsam ein vielfältiges Festmahl genießen. Lasst uns zusammenkommen und zeigen\, wie stark Vielfalt verbindet! \nVeranstaltungsort Mensa Herderschule\, Schorndorfer Straße 22/1\, 73730 Esslingen am Neckar \n\n\n\n\n\n\n\nPreis \nkostenlos
URL:https://wandelstadt-esslingen.de/event/frauen-feiern-vielfalt/
LOCATION:Mensa Herderschule\, Schorndorfer Straße 22/1\, Esslingen am Neckar\, 73730\, Deutschland
END:VEVENT
END:VCALENDAR