BEGIN:VCALENDAR
VERSION:2.0
PRODID:-//Wandelstadt Esslingen - ECPv6.15.20//NONSGML v1.0//EN
CALSCALE:GREGORIAN
METHOD:PUBLISH
X-WR-CALNAME:Wandelstadt Esslingen
X-ORIGINAL-URL:https://wandelstadt-esslingen.de
X-WR-CALDESC:Veranstaltungen für Wandelstadt Esslingen
REFRESH-INTERVAL;VALUE=DURATION:PT1H
X-Robots-Tag:noindex
X-PUBLISHED-TTL:PT1H
BEGIN:VTIMEZONE
TZID:Europe/Berlin
BEGIN:DAYLIGHT
TZOFFSETFROM:+0100
TZOFFSETTO:+0200
TZNAME:CEST
DTSTART:20220327T010000
END:DAYLIGHT
BEGIN:STANDARD
TZOFFSETFROM:+0200
TZOFFSETTO:+0100
TZNAME:CET
DTSTART:20221030T010000
END:STANDARD
BEGIN:DAYLIGHT
TZOFFSETFROM:+0100
TZOFFSETTO:+0200
TZNAME:CEST
DTSTART:20230326T010000
END:DAYLIGHT
BEGIN:STANDARD
TZOFFSETFROM:+0200
TZOFFSETTO:+0100
TZNAME:CET
DTSTART:20231029T010000
END:STANDARD
BEGIN:DAYLIGHT
TZOFFSETFROM:+0100
TZOFFSETTO:+0200
TZNAME:CEST
DTSTART:20240331T010000
END:DAYLIGHT
BEGIN:STANDARD
TZOFFSETFROM:+0200
TZOFFSETTO:+0100
TZNAME:CET
DTSTART:20241027T010000
END:STANDARD
BEGIN:DAYLIGHT
TZOFFSETFROM:+0100
TZOFFSETTO:+0200
TZNAME:CEST
DTSTART:20250330T010000
END:DAYLIGHT
BEGIN:STANDARD
TZOFFSETFROM:+0200
TZOFFSETTO:+0100
TZNAME:CET
DTSTART:20251026T010000
END:STANDARD
BEGIN:DAYLIGHT
TZOFFSETFROM:+0100
TZOFFSETTO:+0200
TZNAME:CEST
DTSTART:20260329T010000
END:DAYLIGHT
BEGIN:STANDARD
TZOFFSETFROM:+0200
TZOFFSETTO:+0100
TZNAME:CET
DTSTART:20261025T010000
END:STANDARD
END:VTIMEZONE
BEGIN:VEVENT
DTSTART;TZID=Europe/Berlin:20250515T150000
DTEND;TZID=Europe/Berlin:20250515T170000
DTSTAMP:20260421T234731
CREATED:20250329T050120Z
LAST-MODIFIED:20250329T050120Z
UID:10005005-1747321200-1747328400@wandelstadt-esslingen.de
SUMMARY:Gesprächskreis Aktuelles Zeitgeschehen
DESCRIPTION:Jeden Donnerstag von 15 : 00 – 17 : 00 Uhr\nOffener Treff – Gesprächskreis Aktuelles Zeitgeschehen\n In lockerer Runde und in einer Atmosphäre der gegenseitigen Toleranz und\ndes Respekts tauschen wir unsere Meinungen und Fragen hinsichtlich aktueller\nThemen (Politik\, Gesellschaft etc.) aus\, wobei wir offen für jedes Alter und jede\nKultur sind.\nVerschiedene Referent:innen und Gastteilnehmende klären zudem in unregel\nmäßigen Abständen zu speziellen Themen auf. Ebenso fließen Haltungen und\nMeinungen verschiedenster Alters- und Bevölkerungsgruppen ein.\nDiskutieren Sie mit uns – wir freuen uns auf Sie!\n Kontakt:\n Matthias Pallmert\,  gaz@mgh-es.de\nOrt: Mehrgenerationen- und Bürgerhaus\, Weilstr. 8
URL:https://wandelstadt-esslingen.de/event/gespraechskreis-aktuelles-zeitgeschehen/2025-05-15/
LOCATION:Mehrgenerationenhaus Esslingen\, Weilstraße 8\, Esslingen
END:VEVENT
BEGIN:VEVENT
DTSTART;TZID=Europe/Berlin:20250508T150000
DTEND;TZID=Europe/Berlin:20250508T170000
DTSTAMP:20260421T234731
CREATED:20250329T050120Z
LAST-MODIFIED:20250329T050120Z
UID:10005004-1746716400-1746723600@wandelstadt-esslingen.de
SUMMARY:Gesprächskreis Aktuelles Zeitgeschehen
DESCRIPTION:Jeden Donnerstag von 15 : 00 – 17 : 00 Uhr\nOffener Treff – Gesprächskreis Aktuelles Zeitgeschehen\n In lockerer Runde und in einer Atmosphäre der gegenseitigen Toleranz und\ndes Respekts tauschen wir unsere Meinungen und Fragen hinsichtlich aktueller\nThemen (Politik\, Gesellschaft etc.) aus\, wobei wir offen für jedes Alter und jede\nKultur sind.\nVerschiedene Referent:innen und Gastteilnehmende klären zudem in unregel\nmäßigen Abständen zu speziellen Themen auf. Ebenso fließen Haltungen und\nMeinungen verschiedenster Alters- und Bevölkerungsgruppen ein.\nDiskutieren Sie mit uns – wir freuen uns auf Sie!\n Kontakt:\n Matthias Pallmert\,  gaz@mgh-es.de\nOrt: Mehrgenerationen- und Bürgerhaus\, Weilstr. 8
URL:https://wandelstadt-esslingen.de/event/gespraechskreis-aktuelles-zeitgeschehen/2025-05-08/
LOCATION:Mehrgenerationenhaus Esslingen\, Weilstraße 8\, Esslingen
END:VEVENT
BEGIN:VEVENT
DTSTART;TZID=Europe/Berlin:20250501T150000
DTEND;TZID=Europe/Berlin:20250501T170000
DTSTAMP:20260421T234731
CREATED:20250329T050120Z
LAST-MODIFIED:20250329T050120Z
UID:10005003-1746111600-1746118800@wandelstadt-esslingen.de
SUMMARY:Gesprächskreis Aktuelles Zeitgeschehen
DESCRIPTION:Jeden Donnerstag von 15 : 00 – 17 : 00 Uhr\nOffener Treff – Gesprächskreis Aktuelles Zeitgeschehen\n In lockerer Runde und in einer Atmosphäre der gegenseitigen Toleranz und\ndes Respekts tauschen wir unsere Meinungen und Fragen hinsichtlich aktueller\nThemen (Politik\, Gesellschaft etc.) aus\, wobei wir offen für jedes Alter und jede\nKultur sind.\nVerschiedene Referent:innen und Gastteilnehmende klären zudem in unregel\nmäßigen Abständen zu speziellen Themen auf. Ebenso fließen Haltungen und\nMeinungen verschiedenster Alters- und Bevölkerungsgruppen ein.\nDiskutieren Sie mit uns – wir freuen uns auf Sie!\n Kontakt:\n Matthias Pallmert\,  gaz@mgh-es.de\nOrt: Mehrgenerationen- und Bürgerhaus\, Weilstr. 8
URL:https://wandelstadt-esslingen.de/event/gespraechskreis-aktuelles-zeitgeschehen/2025-05-01/
LOCATION:Mehrgenerationenhaus Esslingen\, Weilstraße 8\, Esslingen
END:VEVENT
BEGIN:VEVENT
DTSTART;TZID=Europe/Berlin:20250424T150000
DTEND;TZID=Europe/Berlin:20250424T170000
DTSTAMP:20260421T234731
CREATED:20250329T050120Z
LAST-MODIFIED:20250329T050120Z
UID:10005002-1745506800-1745514000@wandelstadt-esslingen.de
SUMMARY:Gesprächskreis Aktuelles Zeitgeschehen
DESCRIPTION:Jeden Donnerstag von 15 : 00 – 17 : 00 Uhr\nOffener Treff – Gesprächskreis Aktuelles Zeitgeschehen\n In lockerer Runde und in einer Atmosphäre der gegenseitigen Toleranz und\ndes Respekts tauschen wir unsere Meinungen und Fragen hinsichtlich aktueller\nThemen (Politik\, Gesellschaft etc.) aus\, wobei wir offen für jedes Alter und jede\nKultur sind.\nVerschiedene Referent:innen und Gastteilnehmende klären zudem in unregel\nmäßigen Abständen zu speziellen Themen auf. Ebenso fließen Haltungen und\nMeinungen verschiedenster Alters- und Bevölkerungsgruppen ein.\nDiskutieren Sie mit uns – wir freuen uns auf Sie!\n Kontakt:\n Matthias Pallmert\,  gaz@mgh-es.de\nOrt: Mehrgenerationen- und Bürgerhaus\, Weilstr. 8
URL:https://wandelstadt-esslingen.de/event/gespraechskreis-aktuelles-zeitgeschehen/2025-04-24/
LOCATION:Mehrgenerationenhaus Esslingen\, Weilstraße 8\, Esslingen
END:VEVENT
BEGIN:VEVENT
DTSTART;TZID=Europe/Berlin:20250417T150000
DTEND;TZID=Europe/Berlin:20250417T170000
DTSTAMP:20260421T234731
CREATED:20250329T050120Z
LAST-MODIFIED:20250329T050120Z
UID:10005001-1744902000-1744909200@wandelstadt-esslingen.de
SUMMARY:Gesprächskreis Aktuelles Zeitgeschehen
DESCRIPTION:Jeden Donnerstag von 15 : 00 – 17 : 00 Uhr\nOffener Treff – Gesprächskreis Aktuelles Zeitgeschehen\n In lockerer Runde und in einer Atmosphäre der gegenseitigen Toleranz und\ndes Respekts tauschen wir unsere Meinungen und Fragen hinsichtlich aktueller\nThemen (Politik\, Gesellschaft etc.) aus\, wobei wir offen für jedes Alter und jede\nKultur sind.\nVerschiedene Referent:innen und Gastteilnehmende klären zudem in unregel\nmäßigen Abständen zu speziellen Themen auf. Ebenso fließen Haltungen und\nMeinungen verschiedenster Alters- und Bevölkerungsgruppen ein.\nDiskutieren Sie mit uns – wir freuen uns auf Sie!\n Kontakt:\n Matthias Pallmert\,  gaz@mgh-es.de\nOrt: Mehrgenerationen- und Bürgerhaus\, Weilstr. 8
URL:https://wandelstadt-esslingen.de/event/gespraechskreis-aktuelles-zeitgeschehen/2025-04-17/
LOCATION:Mehrgenerationenhaus Esslingen\, Weilstraße 8\, Esslingen
END:VEVENT
BEGIN:VEVENT
DTSTART;TZID=Europe/Berlin:20250415T190000
DTEND;TZID=Europe/Berlin:20250415T190000
DTSTAMP:20260421T234731
CREATED:20250329T051637Z
LAST-MODIFIED:20250329T051726Z
UID:10005185-1744743600-1744743600@wandelstadt-esslingen.de
SUMMARY:Energieabend zum Thema „E-Auto – ein Faktencheck“
DESCRIPTION:„E-Auto – ein Faktencheck“ \nDie Regionalgruppe Esslingen veranstaltet am 15.04. um 19 Uhr im\nMehrgenerationenhaus einen Energieabend zum Thema „E-Auto – ein Faktencheck“. \nWohin bewegen wir uns in der Verkehrswende? Welchen Beitrag kann die\nElektromobilität leisten? Wie viele E-Pkw und Ladesäulen gibt es im\nLandkreis Esslingen? Wo finde ich passende Informationen für mich als\nPrivatperson? Diese Fragen wird uns Carolin Heer\, Mobilitätsmanagerin im\nAmt für ÖPNV und Mobilität im Landratsamt Esslingen beantworten. Sie\nwird das Thema Elektromobilität und Ladeinfrastruktur in die\nVerkehrswende einordnen und die relevanten Zielsetzungen – von der\nBundes- bis zur Landkreisebene – vorstellen. \nThomas Nording von der Regionalgruppe Esslingen wird die Argumente\, die\nin der öffentlichen Diskussion kreisen wie z. B. zu geringe Reichweite\nund lange Ladezeiten\, schlechte Ladeinfrastruktur\, Risiken wie\nvorzeitige Batteriealterung und Vorbehalte hinsichtlich hoher\nCO2-Emission bei der Produktion auf den Prüfstand stellen. Doch die\nrapide technologische Weiterentwicklung der E-Autos und die zunehmende\nLangzeiterfahrung wie beispielsweise der Batterielebensdauer zeigt auch\,\ndass manches nie so kritisch war wie befürchtet. Der Vortrag soll einen\nÜberblick über den aktuellen Stand der Technik geben und damit die\nEntscheidung pro E-Auto erleichtern. \nBitte um Anmeldung unter: energie@klimagerechtigkeit-esslingen.de
URL:https://wandelstadt-esslingen.de/event/energieabend-zum-thema-e-auto-ein-faktencheck/
LOCATION:Mehrgenerationenhaus Esslingen\, Weilstraße 8\, Esslingen
ATTACH;FMTTYPE=image/jpeg:https://wandelstadt-esslingen.de/wp-content/uploads/2025/03/Energieabend-15.04.25.jpg
ORGANIZER;CN="B%C3%BCndnis f%C3%BCr Klimagerechtigkeit Esslingen":MAILTO:info@klimagerechtigkeit-esslingen.de
END:VEVENT
BEGIN:VEVENT
DTSTART;TZID=Europe/Berlin:20250410T150000
DTEND;TZID=Europe/Berlin:20250410T170000
DTSTAMP:20260421T234731
CREATED:20250329T050120Z
LAST-MODIFIED:20250329T050120Z
UID:10005000-1744297200-1744304400@wandelstadt-esslingen.de
SUMMARY:Gesprächskreis Aktuelles Zeitgeschehen
DESCRIPTION:Jeden Donnerstag von 15 : 00 – 17 : 00 Uhr\nOffener Treff – Gesprächskreis Aktuelles Zeitgeschehen\n In lockerer Runde und in einer Atmosphäre der gegenseitigen Toleranz und\ndes Respekts tauschen wir unsere Meinungen und Fragen hinsichtlich aktueller\nThemen (Politik\, Gesellschaft etc.) aus\, wobei wir offen für jedes Alter und jede\nKultur sind.\nVerschiedene Referent:innen und Gastteilnehmende klären zudem in unregel\nmäßigen Abständen zu speziellen Themen auf. Ebenso fließen Haltungen und\nMeinungen verschiedenster Alters- und Bevölkerungsgruppen ein.\nDiskutieren Sie mit uns – wir freuen uns auf Sie!\n Kontakt:\n Matthias Pallmert\,  gaz@mgh-es.de\nOrt: Mehrgenerationen- und Bürgerhaus\, Weilstr. 8
URL:https://wandelstadt-esslingen.de/event/gespraechskreis-aktuelles-zeitgeschehen/2025-04-10/
LOCATION:Mehrgenerationenhaus Esslingen\, Weilstraße 8\, Esslingen
END:VEVENT
BEGIN:VEVENT
DTSTART;TZID=Europe/Berlin:20250403T150000
DTEND;TZID=Europe/Berlin:20250403T170000
DTSTAMP:20260421T234731
CREATED:20250329T050120Z
LAST-MODIFIED:20250329T050120Z
UID:10004999-1743692400-1743699600@wandelstadt-esslingen.de
SUMMARY:Gesprächskreis Aktuelles Zeitgeschehen
DESCRIPTION:Jeden Donnerstag von 15 : 00 – 17 : 00 Uhr\nOffener Treff – Gesprächskreis Aktuelles Zeitgeschehen\n In lockerer Runde und in einer Atmosphäre der gegenseitigen Toleranz und\ndes Respekts tauschen wir unsere Meinungen und Fragen hinsichtlich aktueller\nThemen (Politik\, Gesellschaft etc.) aus\, wobei wir offen für jedes Alter und jede\nKultur sind.\nVerschiedene Referent:innen und Gastteilnehmende klären zudem in unregel\nmäßigen Abständen zu speziellen Themen auf. Ebenso fließen Haltungen und\nMeinungen verschiedenster Alters- und Bevölkerungsgruppen ein.\nDiskutieren Sie mit uns – wir freuen uns auf Sie!\n Kontakt:\n Matthias Pallmert\,  gaz@mgh-es.de\nOrt: Mehrgenerationen- und Bürgerhaus\, Weilstr. 8
URL:https://wandelstadt-esslingen.de/event/gespraechskreis-aktuelles-zeitgeschehen/2025-04-03/
LOCATION:Mehrgenerationenhaus Esslingen\, Weilstraße 8\, Esslingen
END:VEVENT
BEGIN:VEVENT
DTSTART;TZID=Europe/Berlin:20250323T143000
DTEND;TZID=Europe/Berlin:20250323T163000
DTSTAMP:20260421T234731
CREATED:20230225T222050Z
LAST-MODIFIED:20260418T103504Z
UID:10004387-1742740200-1742747400@wandelstadt-esslingen.de
SUMMARY:Transition Town Schenk- und Tauschbörse für Saatgut\, Pflanzen und Co 
DESCRIPTION:Zweimal im Jahr findet die Transition Town Schenk- und Tauschbörse für Saatgut\, Pflanzen und Co in der Pliensauvorstadt statt. Zwischen 14.30 Uhr und 16.30 Uhr könnt Ihr unter dem Dach des Bürgerhauses in der Weilstraße Pflanzen für draußen und drinnen\, sowie Saatgut tauschen und verschenken. Der Eintritt ist frei\, keine Anmeldung notwendig. Das Pflanzenmaterial bitte gut verpackt in Töpfen oder Tütchen mitbringen. \nAuch die Esslinger Nutzpflanzenbibliothek hat geöffnet und gibt kostenfrei Saatgut für mittlerweile über 100 verschiedene samenfeste\, das heißt selbst vermehrbare\, Tomatensorten in allen Farben und Formen aus. Das Projekt leistet mithilfe der Esslinger Gärtner*innen einen Beitrag zum Erhalt der Tomatenvielfalt und regt zur Wiederaneignung des Wissens zur eigenen Saatgutvermehrung an. \nWir richten zweimal jährlich diese Veranstaltung aus mit dem Ziel die Hobby-Gärtner*innen Esslingens und aus der Umgebung miteinander in Kontakt zu bringen und Menschen für das Gärtnern zu begeistern. Wer einen Garten hat\, kennt das: schnell ist die Pflanze zu groß\, man kann Ableger gewinnen oder man hat zu viel ausgesät. Aber auch Menschen\, die noch wenig Erfahrung mit dem Gärtnern haben sind herzlich willkommen\, bekommen Inspiration für Experimente mit ihrem grünen Daumen und praktische Tipps von erfahrenen Gärtner*innen gleich dazu. Einfach vorbeischauen\, Ideen und Pflanzen mitnehmen.
URL:https://wandelstadt-esslingen.de/event/schenk-und-tauschboerse-fuer-saatgut-pflanzen-und-co-2/2025-03-23/
LOCATION:Mehrgenerationenhaus Esslingen\, Weilstraße 8\, Esslingen
ORGANIZER;CN="Transition Town Esslingen - Stadt im Wandel":MAILTO:kontakt@transition-town-es.de
END:VEVENT
BEGIN:VEVENT
DTSTART;TZID=Europe/Berlin:20240917T190000
DTEND;TZID=Europe/Berlin:20240917T210000
DTSTAMP:20260421T234731
CREATED:20240811T093523Z
LAST-MODIFIED:20240831T152423Z
UID:10003915-1726599600-1726606800@wandelstadt-esslingen.de
SUMMARY:Energieabend - Fernwärme-Anschluss
DESCRIPTION:Energieabend am 17. September 2024 um 19 Uhr im Mehrgenerationenhaus in ES-Pliensauvorstadt. \nAn diesem Abend geht es darum\, was Fern- und Nahwärme sind und welche Vorteile sie bieten\, wo die SWE in Esslingen aktuell Fernwärme liefert (inklusive einer Kartenübersicht)\, sowie wie Sie mit wenigen Klicks auf der Homepage prüfen können\, ob Ihr Haus bereits an das Fernwärmenetz angeschlossen werden kann. \nAnmeldung bitte unter: energie@klimagerechtigkeit-esslingen.de
URL:https://wandelstadt-esslingen.de/event/energieabend-fernwaerme-anschluss/
LOCATION:Mehrgenerationenhaus Esslingen\, Weilstraße 8\, Esslingen
ATTACH;FMTTYPE=image/jpeg:https://wandelstadt-esslingen.de/wp-content/uploads/2024/08/Energieabend.jpg
ORGANIZER;CN="Regionalgruppe Esslingen der Teckwerke B%C3%BCrgerenergie":MAILTO:esslingen@teckwerke.de
END:VEVENT
BEGIN:VEVENT
DTSTART;TZID=Europe/Berlin:20240516T193000
DTEND;TZID=Europe/Berlin:20240516T193000
DTSTAMP:20260421T234731
CREATED:20240429T084645Z
LAST-MODIFIED:20240429T084916Z
UID:10002847-1715887800-1715887800@wandelstadt-esslingen.de
SUMMARY:Vortrag "Populismus in der Flüchtlingspolitik"
DESCRIPTION:Populismus in der Flüchtlingspolitik\nWieso Abschreckung nicht funktioniert\nVortrag und Diskussion mit Dr. Anja Bartel Soziologin\, Politikwissenschaftlerin\, Leitung der Geschäftsstelle beim Flüchtlingsrat Baden-Württemberg e. V. \nDonnerstag\, 16. Mai 2024 um 19:30 Uhr im Mehrgenerationen- und Bürgerhaus Esslingen-Pliensauvorstadt\, Weilstr. 8 / Saal \n„Größtmögliche Abschreckung“ durch Abschottung\, Ausgrenzung und Schikane wird immer mehr zur Leitlinie in der aktuellen flüchtlingspolitischen Debatte. Vor sich hergetrieben von der AfD liefern sich die Parteien im Bund und in den Ländern einen Wettkampf mit immer brutaleren Vorschlägen zur Abschreckung geflüchteter Menschen und zur Einschränkung ihrer Lebensmöglichkeiten in Deutschland: Migrationsabkommen mit Autokraten aushandeln\, Menschen an den europäischen Außengrenzen einsperren\, Bezahlkarten einführen\, Sozialleistungen senken\, Arbeitszwang verhängen – je drastischer die Mittel\, desto populärer. In der Debatte geht es immer mehr um die Eindämmung der wahlweise als „irregulär“ oder „illegal“ bezeichneten Migration.\nDie Referentin benennt populistische Narrative und dekonstruiert Vorschläge der aktuellen Flüchtlingspolitik.\nDer Abend ist ein Beitrag zur Meinungsbildung im Vorfeld der Kommunal- und Europawahlen im Juni. \nVeranstaltende: Offene Aktionsgruppe Migration & Integration Esslingen\, Caritas Fils-Neckar-Alb\, Kreisdiakonieverband Esslingen
URL:https://wandelstadt-esslingen.de/event/vortrag-populismus-in-der-fluechtlingspolitik/
LOCATION:Mehrgenerationenhaus Esslingen\, Weilstraße 8\, Esslingen
ATTACH;FMTTYPE=image/jpeg:https://wandelstadt-esslingen.de/wp-content/uploads/2024/04/Populismus-Fluechtlingspolitik.jpg
END:VEVENT
BEGIN:VEVENT
DTSTART;TZID=Europe/Berlin:20240414T143000
DTEND;TZID=Europe/Berlin:20240414T163000
DTSTAMP:20260421T234731
CREATED:20230225T222050Z
LAST-MODIFIED:20260418T103504Z
UID:10000706-1713105000-1713112200@wandelstadt-esslingen.de
SUMMARY:Transition Town Schenk- und Tauschbörse für Saatgut\, Pflanzen und Co 
DESCRIPTION:Zweimal im Jahr findet die Transition Town Schenk- und Tauschbörse für Saatgut\, Pflanzen und Co in der Pliensauvorstadt statt. Zwischen 14.30 Uhr und 16.30 Uhr könnt Ihr unter dem Dach des Bürgerhauses in der Weilstraße Pflanzen für draußen und drinnen\, sowie Saatgut tauschen und verschenken. Der Eintritt ist frei\, keine Anmeldung notwendig. Das Pflanzenmaterial bitte gut verpackt in Töpfen oder Tütchen mitbringen. \nAuch die Esslinger Nutzpflanzenbibliothek hat geöffnet und gibt kostenfrei Saatgut für mittlerweile über 100 verschiedene samenfeste\, das heißt selbst vermehrbare\, Tomatensorten in allen Farben und Formen aus. Das Projekt leistet mithilfe der Esslinger Gärtner*innen einen Beitrag zum Erhalt der Tomatenvielfalt und regt zur Wiederaneignung des Wissens zur eigenen Saatgutvermehrung an. \nWir richten zweimal jährlich diese Veranstaltung aus mit dem Ziel die Hobby-Gärtner*innen Esslingens und aus der Umgebung miteinander in Kontakt zu bringen und Menschen für das Gärtnern zu begeistern. Wer einen Garten hat\, kennt das: schnell ist die Pflanze zu groß\, man kann Ableger gewinnen oder man hat zu viel ausgesät. Aber auch Menschen\, die noch wenig Erfahrung mit dem Gärtnern haben sind herzlich willkommen\, bekommen Inspiration für Experimente mit ihrem grünen Daumen und praktische Tipps von erfahrenen Gärtner*innen gleich dazu. Einfach vorbeischauen\, Ideen und Pflanzen mitnehmen.
URL:https://wandelstadt-esslingen.de/event/schenk-und-tauschboerse-fuer-saatgut-pflanzen-und-co-2/2024-04-14/
LOCATION:Mehrgenerationenhaus Esslingen\, Weilstraße 8\, Esslingen
ORGANIZER;CN="Transition Town Esslingen - Stadt im Wandel":MAILTO:kontakt@transition-town-es.de
END:VEVENT
BEGIN:VEVENT
DTSTART;TZID=Europe/Berlin:20240402T183000
DTEND;TZID=Europe/Berlin:20240402T210000
DTSTAMP:20260421T234731
CREATED:20240205T223636Z
LAST-MODIFIED:20240329T204254Z
UID:10002256-1712082600-1712091600@wandelstadt-esslingen.de
SUMMARY:Esslingen aufs Rad-Treffen
DESCRIPTION:Themen diesmal: Radschnellweg\, unsere Aktionen in 2023 und anderes.
URL:https://wandelstadt-esslingen.de/event/esslingen-aufs-rad-treffen/
LOCATION:Mehrgenerationenhaus Esslingen\, Weilstraße 8\, Esslingen
END:VEVENT
BEGIN:VEVENT
DTSTART;TZID=Europe/Berlin:20240220T190000
DTEND;TZID=Europe/Berlin:20240220T210000
DTSTAMP:20260421T234731
CREATED:20240123T110102Z
LAST-MODIFIED:20240123T111239Z
UID:10002230-1708455600-1708462800@wandelstadt-esslingen.de
SUMMARY:Kommunale Wärmeplanung in Esslingen
DESCRIPTION:Wie wird die zukünftige Wärmeversorgung Esslingens in den verschiedenen Stadtteilen gestaltet sein? Dazu hat die Stadt nun eine Strategie vorgelegt. Steffen Petruch von der Energieagentur Kreis Ludwigsburg und aktiv im Bündnis für Klimagerechtigkeit Esslingen bewertet sie. \nDie Regionalgruppe Esslingen der Teckwerke Bürgerenergie lädt ein zum nächsten Energieabend am 20. Februar um 19 Uhr im Mehrgenerationenhaus in der Pliensauvorstadt\, zum Thema „Kommunale Wärmeplanung in Esslingen“. \nFoto:Thomas Breher Pixabay
URL:https://wandelstadt-esslingen.de/event/kommunale-waermeplanung-in-esslingen/
LOCATION:Mehrgenerationenhaus Esslingen\, Weilstraße 8\, Esslingen
CATEGORIES:Infoveranstaltung
ATTACH;FMTTYPE=image/jpeg:https://wandelstadt-esslingen.de/wp-content/uploads/2024/01/kommunale-waermeplanung_Thomas-Breher-Pixabay.jpg
END:VEVENT
BEGIN:VEVENT
DTSTART;TZID=Europe/Berlin:20231122T190000
DTEND;TZID=Europe/Berlin:20231122T210000
DTSTAMP:20260421T234731
CREATED:20231027T045735Z
LAST-MODIFIED:20231027T045735Z
UID:10002106-1700679600-1700686800@wandelstadt-esslingen.de
SUMMARY:Mitgliederversammlung der Initiative für gesunde Luft
DESCRIPTION:
URL:https://wandelstadt-esslingen.de/event/mitgliederversammlung-der-initiative-fuer-gesunde-luft/
LOCATION:Mehrgenerationenhaus Esslingen\, Weilstraße 8\, Esslingen
ORGANIZER;CN="Initiative f%C3%BCr gesunde Luft in%C2%A0Ballungsgebieten":MAILTO:info@feinstaub-esslingen.de
END:VEVENT
BEGIN:VEVENT
DTSTART;TZID=Europe/Berlin:20230718T193000
DTEND;TZID=Europe/Berlin:20230718T210000
DTSTAMP:20260421T234731
CREATED:20230630T114252Z
LAST-MODIFIED:20230630T114252Z
UID:10001720-1689708600-1689714000@wandelstadt-esslingen.de
SUMMARY:Energieabend
DESCRIPTION:Tipps und Infos zu Photovoltaik auf Dach und Balkon\nDie Regionalgruppe Esslingen der Teckwerke Bürgerenergie lädt ein zum nächsten Energieabend am \n18. Juli um 19 – 21 Uhr\nins Mehrgenerationenhaus Weilstr. 8 in der Pliensauvorstadt. \n– Sie überlegen sich die Kraft der Sonne zu nutzen und fragen sich ob eine PV-Anlage sinnvoll\nist und eine lohnende Investition?\n– Sie haben einen Balkon und wollen ein Balkonkraftwerk installieren?\nTipps und Infos aus der Praxis geben Ihnen unsere Bürgersolarberater an diesem Abend.\nUm besser planen zu können bitten wir um Anmeldung unter:\nenergie@klimagerechtigkeit-esslingen.de
URL:https://wandelstadt-esslingen.de/event/energieabend-3/
LOCATION:Mehrgenerationenhaus Esslingen\, Weilstraße 8\, Esslingen
END:VEVENT
BEGIN:VEVENT
DTSTART;TZID=Europe/Berlin:20230512T180000
DTEND;TZID=Europe/Berlin:20230512T200000
DTSTAMP:20260421T234731
CREATED:20230424T101043Z
LAST-MODIFIED:20230424T101227Z
UID:10001060-1683914400-1683921600@wandelstadt-esslingen.de
SUMMARY:An der eigenen Zukunft beteiligen
DESCRIPTION:zum nächsten Energieabend lädt die Regionalgruppe Esslingen der Teckwerke Bürgerenergie\, das Bündnis für Klimagerechtigkeit und die Parents for Future Esslingen herzlich ein. \nWir treffen uns am \n12. Mai um 18 – 20:00 Uhr\nim Mehrgenerationenhaus Pliensauvorstadt\, Weilstr. 8  \nDie Welt ist mit drei existentiellen Krisen konfrontiert und weitermachen wie bisher ist keine Option. Wir befinden uns in einem gewaltigen Transformationsprozess in dem sich die Frage stellt: wie können wir uns an der eigenen Zukunft beteiligen? Wie können wir die Energiewende mitgestalten? Wieso „Bürgerenergie“ und wieso „Genossenschaft? \nFür diesen Abend konnten wir Prof. Dr.-Ing. Pedro da Silva\, Vorstand der Teckwerke Bürgerenergie\, gewinnen\, der unter anderem über die Bürgerbeteiligung in einer Genossenschaft\, über nachhaltiges Wirtschaften und die Mitgestaltung in der Energiewende referieren wird. \nMit der Bitte um Anmeldung unter: energie@klimagerechtigkeit-esslingen.de
URL:https://wandelstadt-esslingen.de/event/an-der-eigenen-zukunft-beteiligen/
LOCATION:Mehrgenerationenhaus Esslingen\, Weilstraße 8\, Esslingen
ATTACH;FMTTYPE=image/jpeg:https://wandelstadt-esslingen.de/wp-content/uploads/2023/04/Bildschirm­foto-2023-04-24-um-11.48.03-Kopie-2-scaled.jpg
ORGANIZER;CN="B%C3%BCndnis f%C3%BCr Klimagerechtigkeit Esslingen":MAILTO:info@klimagerechtigkeit-esslingen.de
END:VEVENT
END:VCALENDAR