BEGIN:VCALENDAR
VERSION:2.0
PRODID:-//Wandelstadt Esslingen - ECPv6.15.20//NONSGML v1.0//EN
CALSCALE:GREGORIAN
METHOD:PUBLISH
X-WR-CALNAME:Wandelstadt Esslingen
X-ORIGINAL-URL:https://wandelstadt-esslingen.de
X-WR-CALDESC:Veranstaltungen für Wandelstadt Esslingen
REFRESH-INTERVAL;VALUE=DURATION:PT1H
X-Robots-Tag:noindex
X-PUBLISHED-TTL:PT1H
BEGIN:VTIMEZONE
TZID:Europe/Berlin
BEGIN:DAYLIGHT
TZOFFSETFROM:+0100
TZOFFSETTO:+0200
TZNAME:CEST
DTSTART:20230326T010000
END:DAYLIGHT
BEGIN:STANDARD
TZOFFSETFROM:+0200
TZOFFSETTO:+0100
TZNAME:CET
DTSTART:20231029T010000
END:STANDARD
BEGIN:DAYLIGHT
TZOFFSETFROM:+0100
TZOFFSETTO:+0200
TZNAME:CEST
DTSTART:20240331T010000
END:DAYLIGHT
BEGIN:STANDARD
TZOFFSETFROM:+0200
TZOFFSETTO:+0100
TZNAME:CET
DTSTART:20241027T010000
END:STANDARD
BEGIN:DAYLIGHT
TZOFFSETFROM:+0100
TZOFFSETTO:+0200
TZNAME:CEST
DTSTART:20250330T010000
END:DAYLIGHT
BEGIN:STANDARD
TZOFFSETFROM:+0200
TZOFFSETTO:+0100
TZNAME:CET
DTSTART:20251026T010000
END:STANDARD
END:VTIMEZONE
BEGIN:VEVENT
DTSTART;TZID=Europe/Berlin:20240309T093000
DTEND;TZID=Europe/Berlin:20240309T133000
DTSTAMP:20260421T234730
CREATED:20240127T225535Z
LAST-MODIFIED:20240127T225905Z
UID:10002246-1709976600-1709991000@wandelstadt-esslingen.de
SUMMARY:ZuZule: Workshop "Ich mach mich vegan(er)" - 3 Termine á 4 Stunden
DESCRIPTION:Was kann ich\, wenn ich mich pflanzlich ernähren möchte\, denn überhaupt noch essen? Welchen Mehrwert hat eine pflanzliche Ernährung für mich persönlich und so Viele(s) um mich herum? Wie esse ich gesund und lecker ohne tierische Produkte? Diesen und weiteren Fragen rund um das Thema pflanzliche Ernährung und vegane Lebensweise gehen wir offen und ehrlich und mit viel Freude im Workshop nach. Wir werden außerdem vegane Lebensmittel testen\, kleine Mahlzeiten zubereiten (und natürlich essen :-) ) sowie im gemeinsamen Austausch eine gute und inspirierende Zeit haben\, um Deinen Alltag zukünftig vegan(er) zu gestalten.\nBring Deine Erfahrungen\, Wünsche und Fragen mit – Wir freuen uns auf Dich! \nTeilnehmer*innen: 8-12 Personen \nTermin 1: Sa. 9.3.24 9:30-13.30 Uhr \nTermin 2: Fr. 15.3.24 17:30-21:30 Uhr \nTermin 3: Sa. 23.3.24 9:30-13:30 Uhr \nGemütliches ANKOMMEN jeweils 15 min vor Beginn. \nGesamt: 99 Euro pro Person zzgl. ca. 15 Euro Auslagen für Lebensmittel \nIm Mehrgenerationen- und Bürgerhaus Pliensauvorstadt\, Weilstr. 8 – 73734 Esslingen am Neckar \nWir bitten um frühzeitige Anmeldung. Möglichst bis 3.3.24 an zuzule@mail.de \nWenn der Workshop ausgebucht ist\, gibt es eine Warteliste für weitere Workshops\, die im Laufe des Jahres folgen :-)
URL:https://wandelstadt-esslingen.de/event/zuzule-workshop-ich-mach-mich-veganer-3-termine-a-4-stunden/2024-03-09/
LOCATION:Mehrgenerationen- und Bürgerhaus Pliensauvorstadt\, Weilstr. 8\, Esslingen am Neckar\, Baden Württemberg\, 73734\, Deutschland
ORGANIZER;CN="ZuZule":MAILTO:zuzule@mail.de
END:VEVENT
END:VCALENDAR