BEGIN:VCALENDAR
VERSION:2.0
PRODID:-//Wandelstadt Esslingen - ECPv6.15.20//NONSGML v1.0//EN
CALSCALE:GREGORIAN
METHOD:PUBLISH
X-ORIGINAL-URL:https://wandelstadt-esslingen.de
X-WR-CALDESC:Veranstaltungen für Wandelstadt Esslingen
REFRESH-INTERVAL;VALUE=DURATION:PT1H
X-Robots-Tag:noindex
X-PUBLISHED-TTL:PT1H
BEGIN:VTIMEZONE
TZID:Europe/Berlin
BEGIN:DAYLIGHT
TZOFFSETFROM:+0100
TZOFFSETTO:+0200
TZNAME:CEST
DTSTART:20230326T010000
END:DAYLIGHT
BEGIN:STANDARD
TZOFFSETFROM:+0200
TZOFFSETTO:+0100
TZNAME:CET
DTSTART:20231029T010000
END:STANDARD
BEGIN:DAYLIGHT
TZOFFSETFROM:+0100
TZOFFSETTO:+0200
TZNAME:CEST
DTSTART:20240331T010000
END:DAYLIGHT
BEGIN:STANDARD
TZOFFSETFROM:+0200
TZOFFSETTO:+0100
TZNAME:CET
DTSTART:20241027T010000
END:STANDARD
BEGIN:DAYLIGHT
TZOFFSETFROM:+0100
TZOFFSETTO:+0200
TZNAME:CEST
DTSTART:20250330T010000
END:DAYLIGHT
BEGIN:STANDARD
TZOFFSETFROM:+0200
TZOFFSETTO:+0100
TZNAME:CET
DTSTART:20251026T010000
END:STANDARD
BEGIN:DAYLIGHT
TZOFFSETFROM:+0100
TZOFFSETTO:+0200
TZNAME:CEST
DTSTART:20260329T010000
END:DAYLIGHT
BEGIN:STANDARD
TZOFFSETFROM:+0200
TZOFFSETTO:+0100
TZNAME:CET
DTSTART:20261025T010000
END:STANDARD
END:VTIMEZONE
BEGIN:VEVENT
DTSTART;TZID=Europe/Berlin:20250321T190000
DTEND;TZID=Europe/Berlin:20250321T190000
DTSTAMP:20260421T222510
CREATED:20250223T071233Z
LAST-MODIFIED:20250223T071252Z
UID:10004840-1742583600-1742583600@wandelstadt-esslingen.de
SUMMARY:Frauen in Belarus - Starke Impulse für Veränderung eines autokratischen Regimes
DESCRIPTION:Vortrag und Diskussion \nIm Sommer 2020 schrieben die Frauen in Belarus Geschichte. Als die Präsidentschaftswahlen anstanden\, wurden sie zu Symbolfiguren des friedlichen Protests gegen das autokratische Regime von Alexander Lukaschenko. An der Spitze standen drei beeindruckende Frauen: die Lehrerin Swetlana Tichanowskaja\, die Musikerin Maria Kalesnikava (Haecker-Preisträgerin 2022) und die IT-Managerin Veronika Zepkalo. Sie gaben den Protesten ein sichtbares\, mutiges Gesicht und mit Blumen in den Händen und Herzsymbolen in der Luft forderten sie Freiheit und Gerechtigkeit. Viele der mutigen Frauen wurden verhaftet\, ins Exil getrieben. \nMaria Kalesnikava sitzt heute noch unter erbärmlichen Bedingungen im Gefängnis. Über die Rolle der Frauen im belarussischen Protest\, ihre Kraft\, die sie entfalten und die aktuelle politische Situation\, spricht Iryna Chalip\, eine bekannte belarussische Journalistin\, die heute mit ihrer Familie im Exil lebt. \nReferentin Iryna Chalip \n\n\n\n\n\n\n\nHinweis \nOhne Anmeldung\, Teilnahme kostenlos\n\n\n\nPräsentiert von West-Ost-Gesellschaft Esslingen und Amnesty International Deutschland e. V.\, Gruppe Esslingen
URL:https://wandelstadt-esslingen.de/event/frauen-in-belarus-starke-impulse-fuer-veraenderung-eines-autokratischen-regimes/
LOCATION:Mehrgenerationen- und Bürgerhaus Pliensauvorstadt\, Weilstr. 8\, Esslingen am Neckar\, Baden Württemberg\, 73734\, Deutschland
END:VEVENT
BEGIN:VEVENT
DTSTART;TZID=Europe/Berlin:20250318T190000
DTEND;TZID=Europe/Berlin:20250318T210000
DTSTAMP:20260421T222510
CREATED:20241229T163553Z
LAST-MODIFIED:20241229T163559Z
UID:10004524-1742324400-1742331600@wandelstadt-esslingen.de
SUMMARY:Treffen der Regionalgruppe Esslingen der Teckwerke Bürgerenergie
DESCRIPTION:
URL:https://wandelstadt-esslingen.de/event/treffen-der-regionalgruppe-esslingen-der-teckwerke-buergerenergie-2/
LOCATION:Mehrgenerationen- und Bürgerhaus Pliensauvorstadt\, Weilstr. 8\, Esslingen am Neckar\, Baden Württemberg\, 73734\, Deutschland
END:VEVENT
BEGIN:VEVENT
DTSTART;TZID=Europe/Berlin:20250317T190000
DTEND;TZID=Europe/Berlin:20250317T210000
DTSTAMP:20260421T222510
CREATED:20250223T085849Z
LAST-MODIFIED:20250223T085849Z
UID:10004848-1742238000-1742245200@wandelstadt-esslingen.de
SUMMARY:Hefezopf am Abend – ein Nachbarschaftstreff!
DESCRIPTION:Mit dem „Hefezopf am Abend“ im Mehrgenerationen Bürgerhaus ist eine Plattform entstanden\, an der\nauch Menschen teilnehmen können\, die tagsüber keine Zeit haben. Hier lernen\nsich vor allem neue Bewohner:innen kennen und tauschen sich mit Pliensauvorstädter:\ninnen über die vielfältigen Themen zum Leben im Stadtteil und der Stadt\naus. Zu den Abenden werden unregelmäßig auch Akteur:innen aus dem Stadtteil\neingeladen
URL:https://wandelstadt-esslingen.de/event/hefezopf-am-abend-ein-nachbarschaftstreff/2025-03-17/
LOCATION:Mehrgenerationen- und Bürgerhaus Pliensauvorstadt\, Weilstr. 8\, Esslingen am Neckar\, Baden Württemberg\, 73734\, Deutschland
ORGANIZER;CN="F%C3%B6rderverein Pliensauvorstadt e.V.":MAILTO:fv@fv-pvs.de
END:VEVENT
BEGIN:VEVENT
DTSTART;TZID=Europe/Berlin:20250218T190000
DTEND;TZID=Europe/Berlin:20250218T210000
DTSTAMP:20260421T222510
CREATED:20241229T163415Z
LAST-MODIFIED:20250202T093324Z
UID:10004523-1739905200-1739912400@wandelstadt-esslingen.de
SUMMARY:Öffentlicher Energieabend der Regionalgruppe Esslingen
DESCRIPTION:PV-Strom für (Ver-)Mieter & Eigentümer?!
URL:https://wandelstadt-esslingen.de/event/oeffentlicher-energieabend-der-regionalgruppe-esslingen/
LOCATION:Mehrgenerationen- und Bürgerhaus Pliensauvorstadt\, Weilstr. 8\, Esslingen am Neckar\, Baden Württemberg\, 73734\, Deutschland
CATEGORIES:Infoveranstaltung
ORGANIZER;CN="Regionalgruppe Esslingen der Teckwerke B%C3%BCrgerenergie":MAILTO:esslingen@teckwerke.de
END:VEVENT
BEGIN:VEVENT
DTSTART;TZID=Europe/Berlin:20250121T190000
DTEND;TZID=Europe/Berlin:20250121T210000
DTSTAMP:20260421T222510
CREATED:20241229T163048Z
LAST-MODIFIED:20241229T163137Z
UID:10004522-1737486000-1737493200@wandelstadt-esslingen.de
SUMMARY:Treffen der Regionalgruppe Esslingen der Teckwerke Bürgerenergie
DESCRIPTION:
URL:https://wandelstadt-esslingen.de/event/treffen-der-regionalgruppe-esslingen-der-teckwerke-buergerenergie/
LOCATION:Mehrgenerationen- und Bürgerhaus Pliensauvorstadt\, Weilstr. 8\, Esslingen am Neckar\, Baden Württemberg\, 73734\, Deutschland
ORGANIZER;CN="Regionalgruppe Esslingen der Teckwerke B%C3%BCrgerenergie":MAILTO:esslingen@teckwerke.de
END:VEVENT
BEGIN:VEVENT
DTSTART;TZID=Europe/Berlin:20241119T190000
DTEND;TZID=Europe/Berlin:20241119T210000
DTSTAMP:20260421T222510
CREATED:20241101T080753Z
LAST-MODIFIED:20241101T150656Z
UID:10004407-1732042800-1732050000@wandelstadt-esslingen.de
SUMMARY:Energieabend: Ist Ihr Haus fit für die Zulunft?
DESCRIPTION:Die Regionalgruppe Esslingen der Teckwerke Bürgerenergie lädt Sie \nherzlich ein zu unserem nächsten Energieabend am 19. November um 19 Uhr\nim Mehrgenerationenhaus in Esslingen-Pliensauvorstadt.\nBis 2040 soll klimaneutral erzeugte Wärme für alle Wohngebäude zur\nVerfügung stehen – über Wärmenetze\, die mit Umweltwärme gespeist werden\,\noder durch Wärmepumpen\, die mit Ökostrom betrieben werden. Lohnt es sich\nda überhaupt noch\, das eigene Haus energetisch zu sanieren? Und macht es\nökologisch Sinn? Immerhin müssen Dämmstoffe und neue Fenster ja auch\nerst einmal mit Energieeinsatz produziert werden. Prof. Markus Binder\nzeigt\, wie wirtschaftliche und im Hinblick auf den Klimaschutz sinnvolle\nLösungen aussehen können – und welche Vorteile über die reine\nEnergieeinsparung hinaus es hat\, das eigene Haus fit für die Zukunft zu\nmachen.\nIm zweiten Teil der Veranstaltung zeigt und erklärt uns Dr. Petra\nKnupfer wie ihr Haus aus den 30er Jahren energetisch saniert und zum\nNiedrigenergiehaus umgebaut wurde. Sie erläutert uns die Maßnahmen\, die\nim Rahmen der Sanierung erfolgten\, wie Dämmung von Hauswänden\,\nKellerdecke\, Fußbodenheizung bzw. Wandheizung. Es wurden neue Fenster\nmit 3fach-Verglasung eingebaut sowie Solarthermie für\nHeisswasser/Heizung kombiniert mit Gas-Brennwert-Heizung. Das Fazit bzw.\ndie Vorteile der energetischen Sanierung zum Niedrigenergiehaus erfahren\nSie an unserem Energieabend. \nWir freuen uns auf Ihr Kommen und bitten um Anmeldung unter:\nenergie@klimagerechtigkeit-esslingen.de
URL:https://wandelstadt-esslingen.de/event/energieabend-ist-ihr-haus-fit-fuer-die-zulunft/
LOCATION:Mehrgenerationen- und Bürgerhaus Pliensauvorstadt\, Weilstr. 8\, Esslingen am Neckar\, Baden Württemberg\, 73734\, Deutschland
CATEGORIES:Infoveranstaltung
ORGANIZER;CN="Regionalgruppe Esslingen der Teckwerke B%C3%BCrgerenergie":MAILTO:esslingen@teckwerke.de
END:VEVENT
BEGIN:VEVENT
DTSTART;TZID=Europe/Berlin:20241022T173000
DTEND;TZID=Europe/Berlin:20241022T203000
DTSTAMP:20260421T222510
CREATED:20240929T081400Z
LAST-MODIFIED:20240929T085404Z
UID:10004058-1729618200-1729629000@wandelstadt-esslingen.de
SUMMARY:Klimaschutz kann jede:r
DESCRIPTION:Wie Klimaschutz und Nachhaltigkeit ins Engagement integriert werden können?\nDer Klimawandel und Maßnahmen dazu sind in aller Munde. Das Thema kann für den Einen oder die Andere auch überfordernd sein. Nachhaltigkeit sowie Ressourcenschonung auf ehrenamtliche Tätigkeiten „runter zu brechen“ und konkret zu machen\, das ist das Ziel dieser Veranstaltung.\nAn diesem Abend erfahren Sie\, wie Sie Themen der Nachhaltigkeit auch in Ihrem Engagement sowie im privaten Bereich einbauen können. \nAuch kulinarisch wird es spannend werden! Es werden ein leckere „Probiererle“ serviert werden\, die ein Beispiel für eine nachhaltige Verpflegung für Ihre zukünftigen Feste und Veranstaltungen darlegen sollen \nWir gehen gemeinsam folgenden Fragen nach: \n\nWie können bürgerschaftliche Angebote und Veranstaltungen klimafreundlich(er) und nachhaltig(er) geplant und umgesetzt werden?\nWie vermeide ich Müll?\nWie kann ich das Buffet nachhaltig und lecker gestalten?\n\nKlimaschutz und Nachhaltigkeit gehen auch ohne erhobenen Zeigefinger\, sondern mit viel Spaß & Freude! Conny Mangold und Sven Teufel von ZuZule unterstützen Sie gerne dabei und führen Sie durch den Abend. \nZuZule – Zusammen Zukunft leben ist eine gemeinnützige Organisation aus Esslingen\, die es sich zur Aufgabe gemacht hat\, Projekte und Räume zu schaffen\, bei denen gemeinsam Ansätze und Lösungen für eine nachhaltige und lebenswerte Zukunft für Mensch\, Tier und Umwelt gefunden werden.\nwww.zuzule.net \n\nDienstag\, 22. Oktober 2024\, 17:30 bis 20:30 Uhr\nMehrgenerationen- und Bürgerhaus (Saal)\nWeilstraße 8\, Esslingen\nReferentin: Sven Teufel\, Cornelia Mangold (ZuZule – Zusammen Zukunft leben)\nZahl der Teilnehmenden: max. 12 Personen\nAnmeldeschluss: 16. Oktober 2024\n\nDie Anmeldung erfolgt über die Adresse:www.esslingen.de/fobi-anmeldung
URL:https://wandelstadt-esslingen.de/event/klimaschutz-kann-jeder/
LOCATION:Mehrgenerationen- und Bürgerhaus Pliensauvorstadt\, Weilstr. 8\, Esslingen am Neckar\, Baden Württemberg\, 73734\, Deutschland
CATEGORIES:Beteiligung
ORGANIZER;CN="ZuZule":MAILTO:zuzule@mail.de
END:VEVENT
BEGIN:VEVENT
DTSTART;TZID=Europe/Berlin:20241015T190000
DTEND;TZID=Europe/Berlin:20241015T210000
DTSTAMP:20260421T222510
CREATED:20241011T155448Z
LAST-MODIFIED:20241011T155448Z
UID:10004190-1729018800-1729026000@wandelstadt-esslingen.de
SUMMARY:Treffen Regionalgruppe Esslingen
DESCRIPTION:
URL:https://wandelstadt-esslingen.de/event/treffen-regionalgruppe-esslingen/
LOCATION:Mehrgenerationen- und Bürgerhaus Pliensauvorstadt\, Weilstr. 8\, Esslingen am Neckar\, Baden Württemberg\, 73734\, Deutschland
ORGANIZER;CN="Regionalgruppe Esslingen der Teckwerke B%C3%BCrgerenergie":MAILTO:esslingen@teckwerke.de
END:VEVENT
BEGIN:VEVENT
DTSTART;TZID=Europe/Berlin:20240618T190000
DTEND;TZID=Europe/Berlin:20240618T210000
DTSTAMP:20260421T222510
CREATED:20240524T160640Z
LAST-MODIFIED:20240524T160917Z
UID:10003015-1718737200-1718744400@wandelstadt-esslingen.de
SUMMARY:„Heizungsgesetz“ – Pflichten und Chancen
DESCRIPTION:Kaum ein anderes Gesetz hat im vergangenen Jahr für vergleichbar viel\nAufregung gesorgt wie das neue Gebäudeenergiegesetz (GEG)\, besser\nbekannt als Heizungsgesetz. Ziel des Gesetzes ist es\, den Umstieg auf\nerneuerbare Energien beim Heizen und damit den Klimaschutz\nvoranzubringen. Was sieht das GEG im Einzelnen vor? Welche Förderungen\ngibt es und wo beantragt man sie? \nDiese und weitere Fragen beantwortet die Klimaschutzagentur des\nLandkreises Esslingen in Zusammenarbeit mit der Regionalgruppe Esslingen\nder Teckwerke Bürgerenergie am 18.06.24 um 19 Uhr im Mehrgenerationen-\nund Bürgerhaus in der Pliensauvorstadt. \nBitte um Anmeldung unter: energie@klimagerechtigkeit-esslingen.de \nFoto: pixabay / globalenergiesystems \nDi. 18. Jun. um 19:00 bis 21:00 Uhr \nWeilstraße\, 8\, 73734\, Esslingen am Neckar
URL:https://wandelstadt-esslingen.de/event/heizungsgesetz-pflichten-und-chancen/
LOCATION:Mehrgenerationen- und Bürgerhaus Pliensauvorstadt\, Weilstr. 8\, Esslingen am Neckar\, Baden Württemberg\, 73734\, Deutschland
ATTACH;FMTTYPE=image/jpeg:https://wandelstadt-esslingen.de/wp-content/uploads/2024/05/signal-2024-05-22-182051_002.jpeg
ORGANIZER;CN="Regionalgruppe Esslingen der Teckwerke B%C3%BCrgerenergie":MAILTO:esslingen@teckwerke.de
END:VEVENT
BEGIN:VEVENT
DTSTART;TZID=Europe/Berlin:20240416T190000
DTEND;TZID=Europe/Berlin:20240416T210000
DTSTAMP:20260421T222510
CREATED:20240327T165953Z
LAST-MODIFIED:20240327T165953Z
UID:10002766-1713294000-1713301200@wandelstadt-esslingen.de
SUMMARY:„PV jetzt – so günstig wie noch nie!“
DESCRIPTION:Wie der Titel schon sagt\, ist die Marktsituation für die Beschaffung einer PV-Anlage für das eigene Haus momentan sehr günstig. Das wollen wir an verschiedenen Komponenten des Systems aufzeigen und damit Leute\, die vielleicht schon länger darüber nachdenken\, eine solche Anlage zu installieren ermuntern\, jetzt zur Tat zu schreiten.\nUm mehr darüber zu erfahren\, laden wir Sie zu unserem Energieabend am \n16. April um 19 Uhr im Mehrgenerationenhaus\, Weilstr. 8\, ein. \nAnmeldung unter: energie@klimagerechtigkeit-esslingen.de \nIn dem Vortrag werden wir Tipps für die Umsetzung geben. Das beginnt mit der Spezifikation des Konzeptes\, also Klärung der eigenen Ziele\, Ermittlung der möglichen Größe der Anlage und Ausrüstungsumfang – z. B. hinsichtlich Batteriespeicher\, Notstromversorgung\, etc.. Dann geht es um die Ausführung der Anfrage an die Fachbetriebe und schließlich um die Bewertung der Angebote wie Ertrags- / Wirtschaftlichkeitsberechnungen. Ziel ist es\, schnell zu qualifizierten und möglichst vergleichbaren Angeboten zu kommen\, um anschließend beauftragen zu können.\nDie Regionalgruppe Esslingen der Teckwerke Bürgerenergie bietet in Kooperation mit der Klimaschutzagentur des Landkreises Esslingen wöchentlich kostengünstige Beratungen rund um die Solarenergie an. Termine unter:\nwww.ksa-es.de/pv-erstberatung
URL:https://wandelstadt-esslingen.de/event/pv-jetzt-so-guenstig-wie-noch-nie/
LOCATION:Mehrgenerationen- und Bürgerhaus Pliensauvorstadt\, Weilstr. 8\, Esslingen am Neckar\, Baden Württemberg\, 73734\, Deutschland
ATTACH;FMTTYPE=image/jpeg:https://wandelstadt-esslingen.de/wp-content/uploads/2024/03/Energieabend-16.04.24.jpg
END:VEVENT
BEGIN:VEVENT
DTSTART;TZID=Europe/Berlin:20240323T093000
DTEND;TZID=Europe/Berlin:20240323T133000
DTSTAMP:20260421T222510
CREATED:20240127T225535Z
LAST-MODIFIED:20240127T225905Z
UID:10002248-1711186200-1711200600@wandelstadt-esslingen.de
SUMMARY:ZuZule: Workshop "Ich mach mich vegan(er)" - 3 Termine á 4 Stunden
DESCRIPTION:Was kann ich\, wenn ich mich pflanzlich ernähren möchte\, denn überhaupt noch essen? Welchen Mehrwert hat eine pflanzliche Ernährung für mich persönlich und so Viele(s) um mich herum? Wie esse ich gesund und lecker ohne tierische Produkte? Diesen und weiteren Fragen rund um das Thema pflanzliche Ernährung und vegane Lebensweise gehen wir offen und ehrlich und mit viel Freude im Workshop nach. Wir werden außerdem vegane Lebensmittel testen\, kleine Mahlzeiten zubereiten (und natürlich essen :-) ) sowie im gemeinsamen Austausch eine gute und inspirierende Zeit haben\, um Deinen Alltag zukünftig vegan(er) zu gestalten.\nBring Deine Erfahrungen\, Wünsche und Fragen mit – Wir freuen uns auf Dich! \nTeilnehmer*innen: 8-12 Personen \nTermin 1: Sa. 9.3.24 9:30-13.30 Uhr \nTermin 2: Fr. 15.3.24 17:30-21:30 Uhr \nTermin 3: Sa. 23.3.24 9:30-13:30 Uhr \nGemütliches ANKOMMEN jeweils 15 min vor Beginn. \nGesamt: 99 Euro pro Person zzgl. ca. 15 Euro Auslagen für Lebensmittel \nIm Mehrgenerationen- und Bürgerhaus Pliensauvorstadt\, Weilstr. 8 – 73734 Esslingen am Neckar \nWir bitten um frühzeitige Anmeldung. Möglichst bis 3.3.24 an zuzule@mail.de \nWenn der Workshop ausgebucht ist\, gibt es eine Warteliste für weitere Workshops\, die im Laufe des Jahres folgen :-)
URL:https://wandelstadt-esslingen.de/event/zuzule-workshop-ich-mach-mich-veganer-3-termine-a-4-stunden/2024-03-23/
LOCATION:Mehrgenerationen- und Bürgerhaus Pliensauvorstadt\, Weilstr. 8\, Esslingen am Neckar\, Baden Württemberg\, 73734\, Deutschland
ORGANIZER;CN="ZuZule":MAILTO:zuzule@mail.de
END:VEVENT
BEGIN:VEVENT
DTSTART;TZID=Europe/Berlin:20240315T173000
DTEND;TZID=Europe/Berlin:20240315T213000
DTSTAMP:20260421T222510
CREATED:20240127T225535Z
LAST-MODIFIED:20240127T225905Z
UID:10002247-1710523800-1710538200@wandelstadt-esslingen.de
SUMMARY:ZuZule: Workshop "Ich mach mich vegan(er)" - 3 Termine á 4 Stunden
DESCRIPTION:Was kann ich\, wenn ich mich pflanzlich ernähren möchte\, denn überhaupt noch essen? Welchen Mehrwert hat eine pflanzliche Ernährung für mich persönlich und so Viele(s) um mich herum? Wie esse ich gesund und lecker ohne tierische Produkte? Diesen und weiteren Fragen rund um das Thema pflanzliche Ernährung und vegane Lebensweise gehen wir offen und ehrlich und mit viel Freude im Workshop nach. Wir werden außerdem vegane Lebensmittel testen\, kleine Mahlzeiten zubereiten (und natürlich essen :-) ) sowie im gemeinsamen Austausch eine gute und inspirierende Zeit haben\, um Deinen Alltag zukünftig vegan(er) zu gestalten.\nBring Deine Erfahrungen\, Wünsche und Fragen mit – Wir freuen uns auf Dich! \nTeilnehmer*innen: 8-12 Personen \nTermin 1: Sa. 9.3.24 9:30-13.30 Uhr \nTermin 2: Fr. 15.3.24 17:30-21:30 Uhr \nTermin 3: Sa. 23.3.24 9:30-13:30 Uhr \nGemütliches ANKOMMEN jeweils 15 min vor Beginn. \nGesamt: 99 Euro pro Person zzgl. ca. 15 Euro Auslagen für Lebensmittel \nIm Mehrgenerationen- und Bürgerhaus Pliensauvorstadt\, Weilstr. 8 – 73734 Esslingen am Neckar \nWir bitten um frühzeitige Anmeldung. Möglichst bis 3.3.24 an zuzule@mail.de \nWenn der Workshop ausgebucht ist\, gibt es eine Warteliste für weitere Workshops\, die im Laufe des Jahres folgen :-)
URL:https://wandelstadt-esslingen.de/event/zuzule-workshop-ich-mach-mich-veganer-3-termine-a-4-stunden/2024-03-15/
LOCATION:Mehrgenerationen- und Bürgerhaus Pliensauvorstadt\, Weilstr. 8\, Esslingen am Neckar\, Baden Württemberg\, 73734\, Deutschland
ORGANIZER;CN="ZuZule":MAILTO:zuzule@mail.de
END:VEVENT
BEGIN:VEVENT
DTSTART;TZID=Europe/Berlin:20240309T093000
DTEND;TZID=Europe/Berlin:20240309T133000
DTSTAMP:20260421T222510
CREATED:20240127T225535Z
LAST-MODIFIED:20240127T225905Z
UID:10002246-1709976600-1709991000@wandelstadt-esslingen.de
SUMMARY:ZuZule: Workshop "Ich mach mich vegan(er)" - 3 Termine á 4 Stunden
DESCRIPTION:Was kann ich\, wenn ich mich pflanzlich ernähren möchte\, denn überhaupt noch essen? Welchen Mehrwert hat eine pflanzliche Ernährung für mich persönlich und so Viele(s) um mich herum? Wie esse ich gesund und lecker ohne tierische Produkte? Diesen und weiteren Fragen rund um das Thema pflanzliche Ernährung und vegane Lebensweise gehen wir offen und ehrlich und mit viel Freude im Workshop nach. Wir werden außerdem vegane Lebensmittel testen\, kleine Mahlzeiten zubereiten (und natürlich essen :-) ) sowie im gemeinsamen Austausch eine gute und inspirierende Zeit haben\, um Deinen Alltag zukünftig vegan(er) zu gestalten.\nBring Deine Erfahrungen\, Wünsche und Fragen mit – Wir freuen uns auf Dich! \nTeilnehmer*innen: 8-12 Personen \nTermin 1: Sa. 9.3.24 9:30-13.30 Uhr \nTermin 2: Fr. 15.3.24 17:30-21:30 Uhr \nTermin 3: Sa. 23.3.24 9:30-13:30 Uhr \nGemütliches ANKOMMEN jeweils 15 min vor Beginn. \nGesamt: 99 Euro pro Person zzgl. ca. 15 Euro Auslagen für Lebensmittel \nIm Mehrgenerationen- und Bürgerhaus Pliensauvorstadt\, Weilstr. 8 – 73734 Esslingen am Neckar \nWir bitten um frühzeitige Anmeldung. Möglichst bis 3.3.24 an zuzule@mail.de \nWenn der Workshop ausgebucht ist\, gibt es eine Warteliste für weitere Workshops\, die im Laufe des Jahres folgen :-)
URL:https://wandelstadt-esslingen.de/event/zuzule-workshop-ich-mach-mich-veganer-3-termine-a-4-stunden/2024-03-09/
LOCATION:Mehrgenerationen- und Bürgerhaus Pliensauvorstadt\, Weilstr. 8\, Esslingen am Neckar\, Baden Württemberg\, 73734\, Deutschland
ORGANIZER;CN="ZuZule":MAILTO:zuzule@mail.de
END:VEVENT
END:VCALENDAR