BEGIN:VCALENDAR
VERSION:2.0
PRODID:-//Wandelstadt Esslingen - ECPv6.15.20//NONSGML v1.0//EN
CALSCALE:GREGORIAN
METHOD:PUBLISH
X-WR-CALNAME:Wandelstadt Esslingen
X-ORIGINAL-URL:https://wandelstadt-esslingen.de
X-WR-CALDESC:Veranstaltungen für Wandelstadt Esslingen
REFRESH-INTERVAL;VALUE=DURATION:PT1H
X-Robots-Tag:noindex
X-PUBLISHED-TTL:PT1H
BEGIN:VTIMEZONE
TZID:Europe/Berlin
BEGIN:DAYLIGHT
TZOFFSETFROM:+0100
TZOFFSETTO:+0200
TZNAME:CEST
DTSTART:20220327T010000
END:DAYLIGHT
BEGIN:STANDARD
TZOFFSETFROM:+0200
TZOFFSETTO:+0100
TZNAME:CET
DTSTART:20221030T010000
END:STANDARD
BEGIN:DAYLIGHT
TZOFFSETFROM:+0100
TZOFFSETTO:+0200
TZNAME:CEST
DTSTART:20230326T010000
END:DAYLIGHT
BEGIN:STANDARD
TZOFFSETFROM:+0200
TZOFFSETTO:+0100
TZNAME:CET
DTSTART:20231029T010000
END:STANDARD
BEGIN:DAYLIGHT
TZOFFSETFROM:+0100
TZOFFSETTO:+0200
TZNAME:CEST
DTSTART:20240331T010000
END:DAYLIGHT
BEGIN:STANDARD
TZOFFSETFROM:+0200
TZOFFSETTO:+0100
TZNAME:CET
DTSTART:20241027T010000
END:STANDARD
BEGIN:DAYLIGHT
TZOFFSETFROM:+0100
TZOFFSETTO:+0200
TZNAME:CEST
DTSTART:20250330T010000
END:DAYLIGHT
BEGIN:STANDARD
TZOFFSETFROM:+0200
TZOFFSETTO:+0100
TZNAME:CET
DTSTART:20251026T010000
END:STANDARD
BEGIN:DAYLIGHT
TZOFFSETFROM:+0100
TZOFFSETTO:+0200
TZNAME:CEST
DTSTART:20260329T010000
END:DAYLIGHT
BEGIN:STANDARD
TZOFFSETFROM:+0200
TZOFFSETTO:+0100
TZNAME:CET
DTSTART:20261025T010000
END:STANDARD
BEGIN:DAYLIGHT
TZOFFSETFROM:+0100
TZOFFSETTO:+0200
TZNAME:CEST
DTSTART:20270328T010000
END:DAYLIGHT
BEGIN:STANDARD
TZOFFSETFROM:+0200
TZOFFSETTO:+0100
TZNAME:CET
DTSTART:20271031T010000
END:STANDARD
END:VTIMEZONE
BEGIN:VEVENT
DTSTART;TZID=Europe/Berlin:20260419T150000
DTEND;TZID=Europe/Berlin:20260419T163000
DTSTAMP:20260421T215904
CREATED:20260327T001201Z
LAST-MODIFIED:20260327T002444Z
UID:10009292-1776610800-1776616200@wandelstadt-esslingen.de
SUMMARY:Kidical Mass Esslingen
DESCRIPTION:Am Sonntag\, dem 19.04.2026 rollt wieder die Kidical Mass Esslingen\nLos geht es um 15 Uhr am Marktplatz (bzw. wegen der Baustelle voraussichtlich auf dem Emil-Kessler-Platz) \nHerzlich eingeladen sind alle Kinder und Erwachsenen zu gemeinsamen Fahrradrundfahrt. Gemeinsam rollen wir am Sonntag\, den 19. April. wieder in gemütlichem Tempo (7km/h).\nDie Stecke durch Esslingen ist ca. 5 km lange und verläuft im Tal.\nMit cooler Musik und gesichert von der Polizei genießen wir die Fahrt mit den kleinen Rädern über die großen Straßen. \nLos geht es um 15 Uhr auf dem Esslinger Marktplatz (bzw. wegen der Baustelle voraussichtlich auf dem Emil-Kessler-Platz). \nZiel ist der Spielplatz im Diakonissengarten in Oberesslingen. \nDabei steht an diesem Tag der gemeinsame Spaß an selbstaktiver Mobilität im Vordergrund. \nDoch es geht um mehr: \nKinder und Jugendliche sollen sich auch im Alltag altersgerecht\, selbstständig und sicher in Esslingen bewegen können. Dazu braucht es sichere Fußwege und Radverbindungen zur Schule\, zum Kindergarten\, zum Sport und zu Freunden. Wir Großen stehen in der Verantwortung ihnen sichere Wege für ihren altersgemäß größer werdenden Bewegungsradius anzubieten. Bewegung macht glücklich. Stück für Stück gewinnen Kinder und Jugendliche Mobilität dank regelmäßiger Bewegung im Alltag. Ganz nebenbei beugen sie damit Übergewicht und Zivilisationskrankheiten wie Diabetes vor.\nWer im Kindes- und Jugendalter regelmäßig selbstaktiv\, also zu Fuß und mit dem Rad\, unterwegs ist behält das meist auch im weiteren Leben bei.\nGrundvoraussetzung dafür ist\, dass es ein durchgängiges\, sicheres und attraktives Fuß- und Radnetz gibt. \nIn Esslingen ist da noch viel zu tun. Das Schulradwegekonzept soll\, nach Rückmeldung der Ordnungsamtsleiterin\, demnächst vorliegen. Soweit uns bekannt ist\, geht es dabei aber erste einmal um eine Dokumentation für die Schulen\, Kinder und Eltern.\nVon Seiten der Stadt braucht es dann aber auch ein systematisches Vorgehen\, zur Sicherung der Alltagswege von Kindern und Jugendlichen.  Viele Lücken\, Gefahrenstellen und mögliche Lösungen sind längst bekannt. Teilweise gibt es sogar schon fertige Planungen\, wir beispielsweise am Sportpark Weil. Deshalb appellieren wir an die Stadt jetzt zügig Gefahrenstellen zu beseitigen und Lücken zu schleißen. \nDas Land bietet mit dem Programm Moovers den Kommunen umfassende Unterstützung bei allen notwendigen Maßnahmen. \nBundesweit und in der Schweiz sind aktuell zahlreiche Kidical-Mass-Rundfahrten geplant. Weitere Infos https://kinderaufsrad.org/ \nWeitere Auskünfte per E-Mail: info@vcd-esslingen.de\nbzw. aktuelle Infos auf der Webseite es VCD-Esslingen \nHier geht es zur Strecke \nVeranstalter sind die Esslinger Kreisverbände des ADFC und des VCD
URL:https://wandelstadt-esslingen.de/event/kidical-mass-esslingen-5/
LOCATION:Marktplatz\, Esslingen\, Marktplatz\, Esslingen\, 73728\, Deutschland
CATEGORIES:Beteiligung,Demonstration,Gemütliches Treffen,Kulturveranstaltung,Vernetzungsveranstaltung
ATTACH;FMTTYPE=image/jpeg:https://wandelstadt-esslingen.de/wp-content/uploads/2024/08/20240505_154025-scaled.jpg
END:VEVENT
BEGIN:VEVENT
DTSTART;TZID=Europe/Berlin:20250914T150000
DTEND;TZID=Europe/Berlin:20250914T163000
DTSTAMP:20260421T215904
CREATED:20250804T124912Z
LAST-MODIFIED:20250804T132350Z
UID:10006120-1757862000-1757867400@wandelstadt-esslingen.de
SUMMARY:Kidical Mass Esslingen - Vorankündigung
DESCRIPTION:Vorankündigung – Vorbehaltlich der Genehmigung vom Ordnungsamt\n\nHerzlich eingeladen sind alle Kinder und Erwachsenen zu gemeinsamen Fahrradrundfahrt. Gemeinsam rollen wir am Sonntag\, den 14. Sept. wieder in gemütlichem Tempo (7km/h).\nDie Stecke durch Esslingen wir wieder ca. 5 km lange sein und im Tal verlaufen.\nMit cooler Musik und gesichert von der Polizei genießen wir die Fahrt mit den kleinen Rädern über die großen Straßen. \nLos geht es um 15 Uhr auf dem Esslinger Marktplatz. \nZiel ist wie ein Spielplatz  und wir hoffen auch wieder auf das Spielmobil vom Stadtjugendring.\nDabei steht an diesem Tag der gemeinsame Spaß an selbstaktiver Mobilität im Vordergrund. \nDoch es geht um mehr: \nKinder und Jugendliche sollen sich auch im Alltag altersgerecht\, selbstständig und sicher in Esslingen bewegen können. Dazu braucht es sichere Fußwege und Radverbindungen zur Schule\, zum Kindergarten\, zum Sport und zu Freunden. Wir Großen stehen in der Verantwortung ihnen sichere Wege für ihren altersgemäß größer werdenden Bewegungsradius anzubieten. Bewegung macht glücklich. Stück für Stück gewinnen Kinder und Jugendliche Mobilität dank regelmäßiger Bewegung im Alltag. Ganz nebenbei beugen sie damit Übergewicht und Zivilisationskrankheiten wie Diabetes vor.\nWer im Kindes- und Jugendalter alltäglich selbstaktiv\, also zu Fuß und mit dem Rad\, unterwegs ist behält das meist auch im weiteren Leben bei.\nGrundvoraussetzung dafür ist\, dass es ein durchgängiges\, sicheres und attraktives Fuß- und Radnetz gibt. \nIn Esslingen ist da noch viel zu tun. Das Schulradwegekonzept soll\, nach Rückmeldung der Ordnungsamtsleiterin Brigitte Länge\, demnächst vorliegen. Soweit uns bekannt ist\, geht es dabei aber erste einmal um eine Dokumentation für die Schulen\, Kinder und Eltern.\nVon Seiten der Stadt braucht es dann aber auch ein systematisches Vorgehen\, zur Sicherung der Alltagswege von Kindern und Jugendlichen.  Viele Lücken\, Gefahrenstellen und mögliche Lösungen sind längst bekannt. Teilweise gibt es sogar schon fertige Planungen\, wir beispielsweise am Sportpark Weil. Deshalb appellieren wir an die Stadt jetzt zügig Gefahrenstellen zu beseitigen und Lücken zu schleißen. \nDas Land bietet mit dem Programm Moovers den Kommunen umfassende Unterstützung bei allen notwendigen Maßnahmen. \nBundesweit und in der Schweiz sind aktuell zahlreiche Kidical-Mass-Rundfahrten geplant. Weitere Infos https://kinderaufsrad.org/ \nWeitere Auskünfte per E-Mail: info@vcd-esslingen.de \n  \n\n\n\n\naktualisierte Infos findet ihr ab September hier auf der Seite des VCD e.V. Kreis Esslingen
URL:https://wandelstadt-esslingen.de/event/kidical-mass-esslingen-vorankuendigung/
LOCATION:Marktplatz\, Esslingen\, Marktplatz\, Esslingen\, 73728\, Deutschland
CATEGORIES:Beteiligung,Demonstration,Gemütliches Treffen,Kulturveranstaltung,Vernetzungsveranstaltung
ATTACH;FMTTYPE=image/jpeg:https://wandelstadt-esslingen.de/wp-content/uploads/2024/08/20240505_154025-scaled.jpg
END:VEVENT
BEGIN:VEVENT
DTSTART;TZID=Europe/Berlin:20250518T150000
DTEND;TZID=Europe/Berlin:20250518T163000
DTSTAMP:20260421T215904
CREATED:20250412T065648Z
LAST-MODIFIED:20250421T184011Z
UID:10005209-1747580400-1747585800@wandelstadt-esslingen.de
SUMMARY:Kidical Mass Esslingen
DESCRIPTION:Herzlich eingeladen sind alle Kinder und Erwachsenen zu gemeinsamen Fahrradrundfahrt. Gemeinsam rollen wir am Sonntag\, den 18. Mai wieder in gemütlichem Tempo (7km/h).\nDie Strecke durch Esslingen ist ca. 5 km lange und verläuft im Tal.\nMit cooler Musik und gesichert von der Polizei genießen wir die Fahrt mit den kleinen Rädern über die großen Straßen. \nLos geht es um 15 Uhr auf dem Esslinger Marktplatz. \nZiel ist der Spielplatz in der Schubartanlage der Pliensauvorstadt\, wo das Spielmobil vom Stadtjugendring und auch ein Eis auf uns wartet.\nDabei steht an diesem Tag der gemeinsame Spaß an selbstaktiver Mobilität im Vordergrund. \nDoch es geht um mehr: \nKinder und Jugendliche sollen sich auch im Alltag altersgerecht\, selbstständig und sicher in Esslingen bewegen können. Dazu braucht es sichere Fußwege und Radverbindungen zur Schule\, zum Kindergarten\, zum Sport und zu Freunden. Wir Großen stehen in der Verantwortung ihnen sichere Wege für ihren altersgemäß größer werdenden Bewegungsradius anzubieten. Bewegung macht glücklich. Stück für Stück gewinnen Kinder und Jugendliche Mobilität dank regelmäßiger Bewegung im Alltag. Ganz nebenbei beugen sie damit Übergewicht und Zivilisationskrankheiten wie Diabetes vor.\nWer im Kindes- und Jugendalter alltäglich selbstaktiv\, also zu Fuß und mit dem Rad\, unterwegs ist behält das meist auch im weiteren Leben bei.\nGrundvoraussetzung dafür ist\, dass es ein durchgängiges\, sicheres und attraktives Fuß- und Radnetz gibt. \nIn Esslingen ist da noch viel zu tun. Das Schulradwegekonzept soll\, nach Rückmeldung der Ordnungsamtsleiterin Brigitte Länge\, demnächst vorliegen. Soweit uns bekannt ist\, geht es dabei aber erste einmal um eine Dokumentation für die Schulen\, Kinder und Eltern.\nVon Seiten der Stadt braucht es dann aber auch ein systematisches Vorgehen\, zur Sicherung der Alltagswege von Kindern und Jugendlichen.  Viele Lücken\, Gefahrenstellen und mögliche Lösungen sind längst bekannt. Teilweise gibt es sogar schon fertige Planungen\, wir beispielsweise am Sportpark Weil. Deshalb appellieren wir an die Stadt jetzt zügig Gefahrenstellen zu beseitigen und Lücken zu schleißen. \nDas Land bietet mit dem Programm Moovers den Kommunen umfassende Unterstützung bei allen notwendigen Maßnahmen. \nBundesweit und in der Schweiz sind aktuell zahlreiche Kidical-Mass-Rundfahrten geplant. Weitere Infos https://kinderaufsrad.org/ \nHier könnt ihr euch schon mal die Strecke anschauen. \nWeitere Auskünfte per E-Mail: info@vcd-esslingen.de \n  \n\n\n\n\nalle Infos findet ihr hier auf der Seite des VCD e.V. Kreis Esslingen
URL:https://wandelstadt-esslingen.de/event/kidical-mass-esslingen-4/
LOCATION:Marktplatz\, Esslingen\, Marktplatz\, Esslingen\, 73728\, Deutschland
CATEGORIES:Beteiligung,Demonstration,Gemütliches Treffen,Kulturveranstaltung,Vernetzungsveranstaltung
ATTACH;FMTTYPE=image/jpeg:https://wandelstadt-esslingen.de/wp-content/uploads/2024/08/20240505_154025-scaled.jpg
END:VEVENT
BEGIN:VEVENT
DTSTART;TZID=Europe/Berlin:20241006T150000
DTEND;TZID=Europe/Berlin:20241006T163000
DTSTAMP:20260421T215904
CREATED:20240924T003414Z
LAST-MODIFIED:20240924T003414Z
UID:10003990-1728226800-1728232200@wandelstadt-esslingen.de
SUMMARY:Kidical Mass Esslingen
DESCRIPTION:Herzlich eingeladen sind alle Kinder und Erwachsenen zu gemeinsamen Fahrradrundfahrt. Gemeinsam rollen wir am Sonntag\, den 6. Oktober wieder in gemütlichem Tempo (7km/h). Die  Strecke durch Esslingen ist ca. 5 km lange und verläuft im Tal.\nMit cooler Musik und gesichert von der Polizei genießen wir die Fahrt mit den kleinen Rädern über die großen Straßen. \nLos geht es um 15 Uhr auf dem Esslinger Marktplatz. \nZiel ist der Spielplatz Diakonissengarten in Oberesslingen\, wo das Spielmöglichkeiten und vielleicht auch ein Eis auf euch wartet.\nDabei steht an diesem Tag der gemeinsame Spaß an selbstaktiver Mobilität im Vordergrund. \nDoch es geht um mehr: \nKinder und Jugendliche sollen sich auch im Alltag altersgerecht\, selbstständig und sicher in Esslingen bewegen können. Dazu braucht es sichere Fußwege und Radverbindungen zur Schule\, zum Kindergarten\, zum Sport und zu Freunden. Wir Großen stehen in der Verantwortung ihnen sichere Wege für ihren altersgemäß größer werdenden Bewegungsradius anzubieten. Bewegung macht glücklich. Stück für Stück gewinnen Kinder und Jugendliche Mobilität dank regelmäßiger Bewegung im Alltag. Ganz nebenbei beugen sie Übergewicht und Zivilisationskrankheiten wie Diabetes vor.\nWer im Kindes-und Jugendalter alltäglich selbstaktiv\, also zu Fuß und mit dem Rad\, unterwegs ist behält das meist auch im weiteren Leben bei.\nGrundvoraussetzung dafür ist\, dass die Infrastruktur sicher und attraktiv ist.  \nIn Esslingen ist da noch viel zu tun. Das Schulradwegekonzept soll\, nach Rückmeldung der Ordnungsamtsleiterin Brigitte Länge\, demnächst vorliegen. Soweit uns bekannt ist\, geht es dabei aber erste einmal um eine Dokumentation für die Schulen\, Kinder und Eltern.\nVon Seiten der Stadt braucht es dann aber auch ein systematisches Vorgehen\, zur Sicherung der Schulwege und Schulradwege  Viele  Lücken\, Gefahrenstellen und Lösungen sind längst bekannt. Teilweise gibt es sogar schon fertige Planungen. Deshalb appellieren wir an die Stadt jetzt zügig Gefahrenstellen zu beseitigen und Lücken zu schleißen. \nBundesweit und in der Schweiz sind aktuell zahlreiche Kidical-Mass-Rundfahrten geplant. Weitere Infos https://kinderaufsrad.org/ \nHier könnt ihr euch schon mal die Strecke anschauen. \n  \n\n\n\n\nalle Infos findet ihr hier auf der Seite des VCD e.V. Kreis Esslingen
URL:https://wandelstadt-esslingen.de/event/kidical-mass-esslingen-3/
LOCATION:Marktplatz\, Esslingen\, Marktplatz\, Esslingen\, 73728\, Deutschland
CATEGORIES:Beteiligung,Demonstration,Gemütliches Treffen,Kulturveranstaltung,Vernetzungsveranstaltung
ATTACH;FMTTYPE=image/jpeg:https://wandelstadt-esslingen.de/wp-content/uploads/2024/08/20240505_154025-scaled.jpg
END:VEVENT
BEGIN:VEVENT
DTSTART;TZID=Europe/Berlin:20241006T150000
DTEND;TZID=Europe/Berlin:20241006T163000
DTSTAMP:20260421T215904
CREATED:20240923T122958Z
LAST-MODIFIED:20240923T122958Z
UID:10004022-1728226800-1728232200@wandelstadt-esslingen.de
SUMMARY:Kidical Mass
DESCRIPTION:Herzlich eingeladen sind alle Kinder und Erwachsenen zu gemeinsamen Fahrradrundfahrt. Gemeinsam rollen wir am Sonntag\, den 6. Oktober wieder in gemütlichem Tempo (7km/h). Die  Strecke durch Esslingen ist ca. 6 km lange und verläuft im Tal.\nMit cooler Musik und gesichert von der Polizei genießen wir die Fahrt mit den kleinen Rädern über die großen Straßen. Los geht es um 15 Uhr auf dem Esslinger Marktplatz.\nZiel ist der Spielplatz Diakonissengarten in Oberesslingen\, wo das Spielmöglichkeiten und vielleicht auch ein Eis auf euch wartet.\nDabei steht an diesem Tag der gemeinsame Spaß an selbstaktiver Mobilität im Vordergrund.
URL:https://wandelstadt-esslingen.de/event/kidical-mass-2/
LOCATION:Marktplatz\, Esslingen\, Marktplatz\, Esslingen\, 73728\, Deutschland
END:VEVENT
BEGIN:VEVENT
DTSTART;TZID=Europe/Berlin:20240505T150000
DTEND;TZID=Europe/Berlin:20240505T163000
DTSTAMP:20260421T215904
CREATED:20240109T200713Z
LAST-MODIFIED:20240109T202501Z
UID:10002220-1714921200-1714926600@wandelstadt-esslingen.de
SUMMARY:Kidical Mass Esslingen
DESCRIPTION:Start ist am Sonntag den 5.5. um 15 Uhr auf dem Esslinger Marktplatz.\nDie Wetterfrösche schwärmen vom Frühling und wir drücken die Daumen. \nUns gehört die Straße!\nWir setzen ein Zeichen für kinderfreundliche und lebenswertere Städte. Die bunten Fahrraddemos der Kidical Mass erobern an diesem Wochenende die Straßen in über 200 Orten in ganz Deutschland und darüber hinaus. \nDie Route ist ohne nennenswerte Steigungen\, die ca. 6 km lange Route fahren wir in sehr moderatem Tempo\, sodass auch die Kleinsten mitfahren können.\nWir enden an einem kinderfreundlichen Ort. (wird noch bekanntgegeben) \nWir brauchen \n\nEin kinderfreundliches Straßenverkehrsrecht mit Fokus auf selbständige und sichere Mobilität von Kindern. Dazu gehört an erster Stelle Tempo 30 als Regelgeschwindigkeit innerorts.\nDeutliche Investitionen in ein sicheres\, komfortables Schulradwege-Netz bis 2030\nEin Bundesmobilitätsgesetz als Rahmen für die Vision Zero und weitere gesellschaftliche Ziele wie Klima- und Umweltschutz.\n\nAuch in Esslingen gibt es viel zu tun.\nZu Fuss und mit dem Fahrrad sind Kinder selbstbestimmt und nachhaltig unterwegs.\nWir brauchen sichere Fahrradverbindungen\, damit sie schon im Kinderalter lernen\, sich in der Stadt zu bewegen: zur Schule\, zum Sport\, zum Instrumentalunterricht und zum Treffen mit Freundinnen und Freunden.\nDas gibt ihnen Sicherheit und Selbstbewusstsein und entlastet die Eltern von Fahrdiensten und Sorge.
URL:https://wandelstadt-esslingen.de/event/kidical-mass-esslingen-2/
LOCATION:Marktplatz\, Esslingen\, Marktplatz\, Esslingen\, 73728\, Deutschland
ATTACH;FMTTYPE=image/jpeg:https://wandelstadt-esslingen.de/wp-content/uploads/2024/01/20220710_153333-scaled.jpg
END:VEVENT
BEGIN:VEVENT
DTSTART;TZID=Europe/Berlin:20240128T150000
DTEND;TZID=Europe/Berlin:20240128T150000
DTSTAMP:20260421T215904
CREATED:20240123T105609Z
LAST-MODIFIED:20240123T105701Z
UID:10002229-1706454000-1706454000@wandelstadt-esslingen.de
SUMMARY:Gemeinsam für die Demokratie
DESCRIPTION:Mit einem breiten gesellschaftlichen Bündnis an lokalen Initiativen\, Organisationen\, Kirchen und Sportvereinen\, Unternehmen und vielen Esslinger Bürger:innen und Bürgern geht es am Sonntag\, den 28. Januar in Esslingen auf die Straße. \nWo? Marktplatz\, Esslingen \nWann? 15 Uhr \nU.a. wird Oberbürgermeister Matthias Klopfer eine Rede halten. \nHeute Mittag startete ein breiter Aufruf. Alle Menschen aus Stadtgesellschaft und Wirtschaft sind gefragt. \nSeid dabei! Schließt Euch an!
URL:https://wandelstadt-esslingen.de/event/gemeinsam-fuer-die-demokratie/
LOCATION:Marktplatz\, Esslingen\, Marktplatz\, Esslingen\, 73728\, Deutschland
CATEGORIES:Demonstration
ATTACH;FMTTYPE=image/jpeg:https://wandelstadt-esslingen.de/wp-content/uploads/2024/01/gemeinsamgegenrechtsjpg.jpg
END:VEVENT
BEGIN:VEVENT
DTSTART;TZID=Europe/Berlin:20230924T150000
DTEND;TZID=Europe/Berlin:20230924T163000
DTSTAMP:20260421T215904
CREATED:20230826T003339Z
LAST-MODIFIED:20230826T003428Z
UID:10001741-1695567600-1695573000@wandelstadt-esslingen.de
SUMMARY:Kidical Mass Esslingen
DESCRIPTION:alle Infos unter:\nhttps://esslingenaufsrad.de/2023/04/kidical-mass-am-sonntag-7-5-15-uhr/
URL:https://wandelstadt-esslingen.de/event/kidical-mass-esslingen/
LOCATION:Marktplatz\, Esslingen\, Marktplatz\, Esslingen\, 73728\, Deutschland
ORGANIZER;CN="Verkehrsclub Deutschland e.V. Kreisverband Esslingen":MAILTO:info@vcd-esslingen.de
END:VEVENT
BEGIN:VEVENT
DTSTART;TZID=Europe/Berlin:20230507T150000
DTEND;TZID=Europe/Berlin:20230507T170000
DTSTAMP:20260421T215904
CREATED:20230504T085613Z
LAST-MODIFIED:20230504T085613Z
UID:10001112-1683471600-1683478800@wandelstadt-esslingen.de
SUMMARY:kidical mass - "Platz da für die neue Generation"
DESCRIPTION:bundesweit am 7. Mai und um 15 Uhr in Esslingen am Marktplatz. \nDie Kinder sollen erleben\, dass sie die Hauptpersonen im Verkehr sind und dass sie sich mit ihrem Rad die Stadt erobern können. Sie sollen die Stadt nach vollendeter Mobilitätswende erleben und die Zuversicht einatmen\, wenigstens an diesen Ausnahmetagen. \nFür Sonntag\, 7. Mai hat sich das CM-Organisationsteam eine besondere Strecke ausgedacht: über die Augustinerstrasse als Sinnbild der autogerechten Stadt\, die Kieskreuzung als lebensfeindliche Asphaltwüste\, durch die Fahrradstrasse als Symbol der Verkehrswende und mit Ziel im Maillepark\, dem historischen Bürgerpark. Auf der ganzen Strecke wird der Zug gesichert von Polizei und Fahrradordnern\, so dass auch kleine Kinder mitfahren können.
URL:https://wandelstadt-esslingen.de/event/kidical-mass-platz-da-fuer-die-neue-generation/
LOCATION:Marktplatz\, Esslingen\, Marktplatz\, Esslingen\, 73728\, Deutschland
ATTACH;FMTTYPE=image/jpeg:https://wandelstadt-esslingen.de/wp-content/uploads/2023/05/kidical-mass-2z1.jpg
ORGANIZER;CN="Allgemeiner Deutscher Fahrrad-Club e. V. (ADFC)":MAILTO:thomas.albrecht@adfc-bw.de
END:VEVENT
END:VCALENDAR