BEGIN:VCALENDAR
VERSION:2.0
PRODID:-//Wandelstadt Esslingen - ECPv6.15.20//NONSGML v1.0//EN
CALSCALE:GREGORIAN
METHOD:PUBLISH
X-WR-CALNAME:Wandelstadt Esslingen
X-ORIGINAL-URL:https://wandelstadt-esslingen.de
X-WR-CALDESC:Veranstaltungen für Wandelstadt Esslingen
REFRESH-INTERVAL;VALUE=DURATION:PT1H
X-Robots-Tag:noindex
X-PUBLISHED-TTL:PT1H
BEGIN:VTIMEZONE
TZID:Europe/Berlin
BEGIN:DAYLIGHT
TZOFFSETFROM:+0100
TZOFFSETTO:+0200
TZNAME:CEST
DTSTART:20250330T010000
END:DAYLIGHT
BEGIN:STANDARD
TZOFFSETFROM:+0200
TZOFFSETTO:+0100
TZNAME:CET
DTSTART:20251026T010000
END:STANDARD
BEGIN:DAYLIGHT
TZOFFSETFROM:+0100
TZOFFSETTO:+0200
TZNAME:CEST
DTSTART:20260329T010000
END:DAYLIGHT
BEGIN:STANDARD
TZOFFSETFROM:+0200
TZOFFSETTO:+0100
TZNAME:CET
DTSTART:20261025T010000
END:STANDARD
BEGIN:DAYLIGHT
TZOFFSETFROM:+0100
TZOFFSETTO:+0200
TZNAME:CEST
DTSTART:20270328T010000
END:DAYLIGHT
BEGIN:STANDARD
TZOFFSETFROM:+0200
TZOFFSETTO:+0100
TZNAME:CET
DTSTART:20271031T010000
END:STANDARD
END:VTIMEZONE
BEGIN:VEVENT
DTSTART;TZID=Europe/Berlin:20260511T180000
DTEND;TZID=Europe/Berlin:20260511T200000
DTSTAMP:20260426T024331
CREATED:20260424T164625Z
LAST-MODIFIED:20260424T164625Z
UID:10009405-1778522400-1778529600@wandelstadt-esslingen.de
SUMMARY:Gut unterwegs! Älter werden in Esslingen – Mobilität erhalten und fördern
DESCRIPTION:Vortragsreihe “Alternde Gesellschaft” | GUT UNTERWEGS!\nProjektvortrag im Rahmen der Studie „NextGen Rollator – Partizipation trifft Innovation“ der Hochschule Esslingen \nReferentin: Prof. Dr. Astrid Elsbernd | Hochschule Esslingen | Fakultät Soziale Arbeit\, Bildung & Pflege \n  \nDie Reihe richtet sich an Menschen\, die sich frühzeitig informieren und sich mit den Themen Pflege\, Vorsorge und Unterstützung im Alltag auseinandersetzen möchten.\nAlle Vorträge finden montags statt. Ab 18 00 Uhr laden wir zum Ankommen ein. Es gibt eine kleine Speisekarte. Der Vortrag beginnt jeweils um 19 00 Uhr.\nDer Eintritt ist frei. Aufgrund der begrenzten Sitzplätze bitten wir um Reservierung per Mail an: info@lore esslingen de
URL:https://wandelstadt-esslingen.de/event/gut-unterwegs-aelter-werden-in-esslingen-mobilitaet-erhalten-und-foerdern/
LOCATION:LORE\, Blumenstraße 72\, Esslingen\, 73728
CATEGORIES:Infoveranstaltung,Workshop
END:VEVENT
END:VCALENDAR