BEGIN:VCALENDAR
VERSION:2.0
PRODID:-//Wandelstadt Esslingen - ECPv6.15.20//NONSGML v1.0//EN
CALSCALE:GREGORIAN
METHOD:PUBLISH
X-ORIGINAL-URL:https://wandelstadt-esslingen.de
X-WR-CALDESC:Veranstaltungen für Wandelstadt Esslingen
REFRESH-INTERVAL;VALUE=DURATION:PT1H
X-Robots-Tag:noindex
X-PUBLISHED-TTL:PT1H
BEGIN:VTIMEZONE
TZID:Europe/Berlin
BEGIN:DAYLIGHT
TZOFFSETFROM:+0100
TZOFFSETTO:+0200
TZNAME:CEST
DTSTART:20250330T010000
END:DAYLIGHT
BEGIN:STANDARD
TZOFFSETFROM:+0200
TZOFFSETTO:+0100
TZNAME:CET
DTSTART:20251026T010000
END:STANDARD
BEGIN:DAYLIGHT
TZOFFSETFROM:+0100
TZOFFSETTO:+0200
TZNAME:CEST
DTSTART:20260329T010000
END:DAYLIGHT
BEGIN:STANDARD
TZOFFSETFROM:+0200
TZOFFSETTO:+0100
TZNAME:CET
DTSTART:20261025T010000
END:STANDARD
BEGIN:DAYLIGHT
TZOFFSETFROM:+0100
TZOFFSETTO:+0200
TZNAME:CEST
DTSTART:20270328T010000
END:DAYLIGHT
BEGIN:STANDARD
TZOFFSETFROM:+0200
TZOFFSETTO:+0100
TZNAME:CET
DTSTART:20271031T010000
END:STANDARD
END:VTIMEZONE
BEGIN:VEVENT
DTSTART;TZID=Europe/Berlin:20260423T203000
DTEND;TZID=Europe/Berlin:20260423T220000
DTSTAMP:20260421T135546
CREATED:20260326T174734Z
LAST-MODIFIED:20260326T174734Z
UID:10009285-1776976200-1776981600@wandelstadt-esslingen.de
SUMMARY:Als wäre es leicht
DESCRIPTION:90 Minuten | FSK 12 (Deskriptoren: Sprache)  | deutsche OriginalfassungAD Filmtipp Mit Untertiteln für Gehörlose und Schwerhörige (SDH)\nDie Hörfilmfassung (AD) ist über die Greta App verfügbar und kann bereits im Vorfeld heruntergeladen werden \n\nKati ist gehörlos\, Florian ist blind. Sie arbeitet mit der Kamera\, er kommentiert ehrenamtlich die Spiele des FC St. Pauli im Stadion. Als sie sich im Dialoghaus Hamburg begegnen\, entsteht zwischen ihnen eine Beziehung\, die ihren eigenen Weg der Verständigung finden muss – jenseits von Sehen und Hören. Doch unterschiedliche Lebenswelten\, Missverständnisse und die Erwartungen ihres Umfelds stellen ihre Nähe immer wieder auf die Probe. \nIn seinem Spielfilmdebüt erzählt Milan Skrobanek diese ungewöhnliche Liebesgeschichte mit großer Sensibilität und leisen humorvollen Momenten.
URL:https://wandelstadt-esslingen.de/event/als-waere-es-leicht/2026-04-23/
LOCATION:Kommunales Kino\, Maille 4-9\, Esslingen\, 73728\, Deutschland
CATEGORIES:Kulturveranstaltung
END:VEVENT
BEGIN:VEVENT
DTSTART;TZID=Europe/Berlin:20260424T203000
DTEND;TZID=Europe/Berlin:20260424T220000
DTSTAMP:20260421T135546
CREATED:20260326T174734Z
LAST-MODIFIED:20260326T174734Z
UID:10009286-1777062600-1777068000@wandelstadt-esslingen.de
SUMMARY:Als wäre es leicht
DESCRIPTION:90 Minuten | FSK 12 (Deskriptoren: Sprache)  | deutsche OriginalfassungAD Filmtipp Mit Untertiteln für Gehörlose und Schwerhörige (SDH)\nDie Hörfilmfassung (AD) ist über die Greta App verfügbar und kann bereits im Vorfeld heruntergeladen werden \n\nKati ist gehörlos\, Florian ist blind. Sie arbeitet mit der Kamera\, er kommentiert ehrenamtlich die Spiele des FC St. Pauli im Stadion. Als sie sich im Dialoghaus Hamburg begegnen\, entsteht zwischen ihnen eine Beziehung\, die ihren eigenen Weg der Verständigung finden muss – jenseits von Sehen und Hören. Doch unterschiedliche Lebenswelten\, Missverständnisse und die Erwartungen ihres Umfelds stellen ihre Nähe immer wieder auf die Probe. \nIn seinem Spielfilmdebüt erzählt Milan Skrobanek diese ungewöhnliche Liebesgeschichte mit großer Sensibilität und leisen humorvollen Momenten.
URL:https://wandelstadt-esslingen.de/event/als-waere-es-leicht/2026-04-24/
LOCATION:Kommunales Kino\, Maille 4-9\, Esslingen\, 73728\, Deutschland
CATEGORIES:Kulturveranstaltung
END:VEVENT
BEGIN:VEVENT
DTSTART;TZID=Europe/Berlin:20260425T180000
DTEND;TZID=Europe/Berlin:20260425T193000
DTSTAMP:20260421T135546
CREATED:20260326T174734Z
LAST-MODIFIED:20260326T174734Z
UID:10009287-1777140000-1777145400@wandelstadt-esslingen.de
SUMMARY:Als wäre es leicht
DESCRIPTION:90 Minuten | FSK 12 (Deskriptoren: Sprache)  | deutsche OriginalfassungAD Filmtipp Mit Untertiteln für Gehörlose und Schwerhörige (SDH)\nDie Hörfilmfassung (AD) ist über die Greta App verfügbar und kann bereits im Vorfeld heruntergeladen werden \n\nKati ist gehörlos\, Florian ist blind. Sie arbeitet mit der Kamera\, er kommentiert ehrenamtlich die Spiele des FC St. Pauli im Stadion. Als sie sich im Dialoghaus Hamburg begegnen\, entsteht zwischen ihnen eine Beziehung\, die ihren eigenen Weg der Verständigung finden muss – jenseits von Sehen und Hören. Doch unterschiedliche Lebenswelten\, Missverständnisse und die Erwartungen ihres Umfelds stellen ihre Nähe immer wieder auf die Probe. \nIn seinem Spielfilmdebüt erzählt Milan Skrobanek diese ungewöhnliche Liebesgeschichte mit großer Sensibilität und leisen humorvollen Momenten.
URL:https://wandelstadt-esslingen.de/event/als-waere-es-leicht/2026-04-25/
LOCATION:Kommunales Kino\, Maille 4-9\, Esslingen\, 73728\, Deutschland
CATEGORIES:Kulturveranstaltung
END:VEVENT
BEGIN:VEVENT
DTSTART;TZID=Europe/Berlin:20260426T190000
DTEND;TZID=Europe/Berlin:20260426T210000
DTSTAMP:20260421T135546
CREATED:20260326T174734Z
LAST-MODIFIED:20260326T174734Z
UID:10009288-1777230000-1777237200@wandelstadt-esslingen.de
SUMMARY:Als wäre es leicht
DESCRIPTION:90 Minuten | FSK 12 (Deskriptoren: Sprache)  | deutsche OriginalfassungAD Filmtipp Mit Untertiteln für Gehörlose und Schwerhörige (SDH)\nDie Hörfilmfassung (AD) ist über die Greta App verfügbar und kann bereits im Vorfeld heruntergeladen werden \n\nKati ist gehörlos\, Florian ist blind. Sie arbeitet mit der Kamera\, er kommentiert ehrenamtlich die Spiele des FC St. Pauli im Stadion. Als sie sich im Dialoghaus Hamburg begegnen\, entsteht zwischen ihnen eine Beziehung\, die ihren eigenen Weg der Verständigung finden muss – jenseits von Sehen und Hören. Doch unterschiedliche Lebenswelten\, Missverständnisse und die Erwartungen ihres Umfelds stellen ihre Nähe immer wieder auf die Probe. \nIn seinem Spielfilmdebüt erzählt Milan Skrobanek diese ungewöhnliche Liebesgeschichte mit großer Sensibilität und leisen humorvollen Momenten.
URL:https://wandelstadt-esslingen.de/event/als-waere-es-leicht/2026-04-26/
LOCATION:Kommunales Kino\, Maille 4-9\, Esslingen\, 73728\, Deutschland
CATEGORIES:Kulturveranstaltung
END:VEVENT
BEGIN:VEVENT
DTSTART;TZID=Europe/Berlin:20260427T173000
DTEND;TZID=Europe/Berlin:20260427T190000
DTSTAMP:20260421T135546
CREATED:20260326T174734Z
LAST-MODIFIED:20260326T174734Z
UID:10009289-1777311000-1777316400@wandelstadt-esslingen.de
SUMMARY:Als wäre es leicht
DESCRIPTION:90 Minuten | FSK 12 (Deskriptoren: Sprache)  | deutsche OriginalfassungAD Filmtipp Mit Untertiteln für Gehörlose und Schwerhörige (SDH)\nDie Hörfilmfassung (AD) ist über die Greta App verfügbar und kann bereits im Vorfeld heruntergeladen werden \n\nKati ist gehörlos\, Florian ist blind. Sie arbeitet mit der Kamera\, er kommentiert ehrenamtlich die Spiele des FC St. Pauli im Stadion. Als sie sich im Dialoghaus Hamburg begegnen\, entsteht zwischen ihnen eine Beziehung\, die ihren eigenen Weg der Verständigung finden muss – jenseits von Sehen und Hören. Doch unterschiedliche Lebenswelten\, Missverständnisse und die Erwartungen ihres Umfelds stellen ihre Nähe immer wieder auf die Probe. \nIn seinem Spielfilmdebüt erzählt Milan Skrobanek diese ungewöhnliche Liebesgeschichte mit großer Sensibilität und leisen humorvollen Momenten.
URL:https://wandelstadt-esslingen.de/event/als-waere-es-leicht/2026-04-27/
LOCATION:Kommunales Kino\, Maille 4-9\, Esslingen\, 73728\, Deutschland
CATEGORIES:Kulturveranstaltung
END:VEVENT
BEGIN:VEVENT
DTSTART;TZID=Europe/Berlin:20260428T200000
DTEND;TZID=Europe/Berlin:20260428T220000
DTSTAMP:20260421T135546
CREATED:20260326T174734Z
LAST-MODIFIED:20260326T174734Z
UID:10009290-1777406400-1777413600@wandelstadt-esslingen.de
SUMMARY:Als wäre es leicht
DESCRIPTION:90 Minuten | FSK 12 (Deskriptoren: Sprache)  | deutsche OriginalfassungAD Filmtipp Mit Untertiteln für Gehörlose und Schwerhörige (SDH)\nDie Hörfilmfassung (AD) ist über die Greta App verfügbar und kann bereits im Vorfeld heruntergeladen werden \n\nKati ist gehörlos\, Florian ist blind. Sie arbeitet mit der Kamera\, er kommentiert ehrenamtlich die Spiele des FC St. Pauli im Stadion. Als sie sich im Dialoghaus Hamburg begegnen\, entsteht zwischen ihnen eine Beziehung\, die ihren eigenen Weg der Verständigung finden muss – jenseits von Sehen und Hören. Doch unterschiedliche Lebenswelten\, Missverständnisse und die Erwartungen ihres Umfelds stellen ihre Nähe immer wieder auf die Probe. \nIn seinem Spielfilmdebüt erzählt Milan Skrobanek diese ungewöhnliche Liebesgeschichte mit großer Sensibilität und leisen humorvollen Momenten.
URL:https://wandelstadt-esslingen.de/event/als-waere-es-leicht/2026-04-28/
LOCATION:Kommunales Kino\, Maille 4-9\, Esslingen\, 73728\, Deutschland
CATEGORIES:Kulturveranstaltung
END:VEVENT
END:VCALENDAR