BEGIN:VCALENDAR
VERSION:2.0
PRODID:-//Wandelstadt Esslingen - ECPv6.15.20//NONSGML v1.0//EN
CALSCALE:GREGORIAN
METHOD:PUBLISH
X-ORIGINAL-URL:https://wandelstadt-esslingen.de
X-WR-CALDESC:Veranstaltungen für Wandelstadt Esslingen
REFRESH-INTERVAL;VALUE=DURATION:PT1H
X-Robots-Tag:noindex
X-PUBLISHED-TTL:PT1H
BEGIN:VTIMEZONE
TZID:Europe/Berlin
BEGIN:DAYLIGHT
TZOFFSETFROM:+0100
TZOFFSETTO:+0200
TZNAME:CEST
DTSTART:20240331T010000
END:DAYLIGHT
BEGIN:STANDARD
TZOFFSETFROM:+0200
TZOFFSETTO:+0100
TZNAME:CET
DTSTART:20241027T010000
END:STANDARD
BEGIN:DAYLIGHT
TZOFFSETFROM:+0100
TZOFFSETTO:+0200
TZNAME:CEST
DTSTART:20250330T010000
END:DAYLIGHT
BEGIN:STANDARD
TZOFFSETFROM:+0200
TZOFFSETTO:+0100
TZNAME:CET
DTSTART:20251026T010000
END:STANDARD
BEGIN:DAYLIGHT
TZOFFSETFROM:+0100
TZOFFSETTO:+0200
TZNAME:CEST
DTSTART:20260329T010000
END:DAYLIGHT
BEGIN:STANDARD
TZOFFSETFROM:+0200
TZOFFSETTO:+0100
TZNAME:CET
DTSTART:20261025T010000
END:STANDARD
END:VTIMEZONE
BEGIN:VEVENT
DTSTART;TZID=Europe/Berlin:20250701T193000
DTEND;TZID=Europe/Berlin:20250701T213000
DTSTAMP:20260421T194327
CREATED:20250624T160238Z
LAST-MODIFIED:20250624T160238Z
UID:10005687-1751398200-1751405400@wandelstadt-esslingen.de
SUMMARY:Das Zeitalter des Populismus. Zur Vorgeschichte der Gegenwart
DESCRIPTION:Buchvorstellung\, Vortrag und Diskussion mit Jan Gerber\n\nKehrt der Faschismus wieder? Diese Frage begleitet den Aufstieg des Populismus. Sie steht für den Versuch\, sich die unverstandene Gegenwart mit den Begriffen der Vergangenheit zu erklären. Die Erfolge von AfD\, Lega\, Trump und Co. haben jedoch weniger mit Mussolinis Marsch auf Rom oder der Machtübertragung auf Hitler zu tun. Sie gehen vor allem auf die sozialen und ökonomischen Veränderungen der letzten Jahrzehnte zurück. Der politische Stil des Populismus entspricht den arbeits- und lebensweltlichen Erfahrungen der meisten Menschen inzwischen stärker als der traditionelle Politikbetrieb. Auch deshalb werden die etablierten Parteien die gegenwärtigen Krisen nicht überleben\, zumindest nicht in ihrer bisherigen Form; auch deshalb kommen sie bei ihren Versuchen\, gegen den Populismus vorzugehen\, oft so unbeholfen daher: Sie kämpfen gleichermaßen gegen einen Pappkameraden wie gegen das Bild ihrer eigenen Zukunft. Wer den Populismus angemessen kritisieren will\, muss hingegen wissen\, was er überhaupt ist\, welchen Entwicklungen er seine Entstehung verdankt und warum er so erfolgreich ist. Das ist das Ziel der zweiten Ausgabe der „Hallischen Jahrbücher“\, deren Schwerpunkt dem „Zeitalter des Populismus“ gewidmet ist.\nJan Gerber ist Historiker und Politikwissenschaftler. Er gehört zu den Herausgebern der „Hallischen Jahrbücher“.
URL:https://wandelstadt-esslingen.de/event/das-zeitalter-des-populismus-zur-vorgeschichte-der-gegenwart/
LOCATION:KOMMA Esslingen\, Maille 5-9\, Esslingen\, 73728\, Deutschland
END:VEVENT
BEGIN:VEVENT
DTSTART;TZID=Europe/Berlin:20250616T193000
DTEND;TZID=Europe/Berlin:20250616T193000
DTSTAMP:20260421T194327
CREATED:20250526T160427Z
LAST-MODIFIED:20250526T160427Z
UID:10005547-1750102200-1750102200@wandelstadt-esslingen.de
SUMMARY:Esslingen singt queer - Chor-Workshop
DESCRIPTION:Nach unserem großen Erfolg im letzten Jahr geht unser Chor-Workshop – ganz unter dem Motto „Esslingen singt queer“ – in die zweite Runde! \nWir möchten zeigen\, wie schön Vielfalt klingt und unsere Botschaft von Gemeinschaft\, Akzeptanz und Toleranz nach außen tragen. \nJede Person\, die Lust hat zu singen oder sich einfach mal ausprobieren möchte\, ist herzlich willkommen – völlig unabhängig von sexueller Orientierung oder geschlechtlicher Identität. Wir freuen uns über alle\, die Freude am gemeinsamen singen haben- ganz gleich\, ob sie sich der LGBTQ+-Community zugehörig fühlen oder nicht. \nLust auf Lampenfieber? Dann sei auch bei der Aufführung am 21. Juni mit dabei! \nEine gesangliche Vorbildung ist nicht erfoderlich – nur deine Freude an Musik und Offenheit
URL:https://wandelstadt-esslingen.de/event/esslingen-singt-queer-chor-workshop-3/
LOCATION:KOMMA Esslingen\, Maille 5-9\, Esslingen\, 73728\, Deutschland
CATEGORIES:Kulturveranstaltung,Workshop
END:VEVENT
BEGIN:VEVENT
DTSTART;TZID=Europe/Berlin:20250609T193000
DTEND;TZID=Europe/Berlin:20250609T193000
DTSTAMP:20260421T194327
CREATED:20250526T160226Z
LAST-MODIFIED:20250526T160226Z
UID:10005546-1749497400-1749497400@wandelstadt-esslingen.de
SUMMARY:Esslingen singt queer - Chor-Workshop
DESCRIPTION:Nach unserem großen Erfolg im letzten Jahr geht unser Chor-Workshop – ganz unter dem Motto „Esslingen singt queer“ – in die zweite Runde! \nWir möchten zeigen\, wie schön Vielfalt klingt und unsere Botschaft von Gemeinschaft\, Akzeptanz und Toleranz nach außen tragen. \nJede Person\, die Lust hat zu singen oder sich einfach mal ausprobieren möchte\, ist herzlich willkommen – völlig unabhängig von sexueller Orientierung oder geschlechtlicher Identität. Wir freuen uns über alle\, die Freude am gemeinsamen singen haben- ganz gleich\, ob sie sich der LGBTQ+-Community zugehörig fühlen oder nicht. \nLust auf Lampenfieber? Dann sei auch bei der Aufführung am 21. Juni mit dabei! \nEine gesangliche Vorbildung ist nicht erfoderlich – nur deine Freude an Musik und Offenheit
URL:https://wandelstadt-esslingen.de/event/esslingen-singt-queer-chor-workshop-2/
LOCATION:KOMMA Esslingen\, Maille 5-9\, Esslingen\, 73728\, Deutschland
CATEGORIES:Kulturveranstaltung,Workshop
END:VEVENT
BEGIN:VEVENT
DTSTART;TZID=Europe/Berlin:20250602T193000
DTEND;TZID=Europe/Berlin:20250602T193000
DTSTAMP:20260421T194327
CREATED:20250526T160211Z
LAST-MODIFIED:20250526T160211Z
UID:10005545-1748892600-1748892600@wandelstadt-esslingen.de
SUMMARY:Esslingen singt queer - Chor-Workshop
DESCRIPTION:Nach unserem großen Erfolg im letzten Jahr geht unser Chor-Workshop – ganz unter dem Motto „Esslingen singt queer“ – in die zweite Runde! \nWir möchten zeigen\, wie schön Vielfalt klingt und unsere Botschaft von Gemeinschaft\, Akzeptanz und Toleranz nach außen tragen. \nJede Person\, die Lust hat zu singen oder sich einfach mal ausprobieren möchte\, ist herzlich willkommen – völlig unabhängig von sexueller Orientierung oder geschlechtlicher Identität. Wir freuen uns über alle\, die Freude am gemeinsamen singen haben- ganz gleich\, ob sie sich der LGBTQ+-Community zugehörig fühlen oder nicht. \nLust auf Lampenfieber? Dann sei auch bei der Aufführung am 21. Juni mit dabei! \nEine gesangliche Vorbildung ist nicht erfoderlich – nur deine Freude an Musik und Offenheit
URL:https://wandelstadt-esslingen.de/event/esslingen-singt-queer-chor-workshop/
LOCATION:KOMMA Esslingen\, Maille 5-9\, Esslingen\, 73728\, Deutschland
CATEGORIES:Kulturveranstaltung,Workshop
END:VEVENT
BEGIN:VEVENT
DTSTART;TZID=Europe/Berlin:20250522T190000
DTEND;TZID=Europe/Berlin:20250522T210000
DTSTAMP:20260421T194327
CREATED:20250416T202702Z
LAST-MODIFIED:20250416T202702Z
UID:10005276-1747940400-1747947600@wandelstadt-esslingen.de
SUMMARY:Radlerstammtisch
DESCRIPTION:Radlerstammtisch („Sag mal\, bist du heute morgen auch nass geworden?“ und „Hast du die Holunderblüte gerochen?“) vor der Fahrradwerkstatt\, im Hof des KOMMA
URL:https://wandelstadt-esslingen.de/event/radlerstammtisch-2/
LOCATION:KOMMA Esslingen\, Maille 5-9\, Esslingen\, 73728\, Deutschland
ORGANIZER;CN="Allgemeiner Deutscher Fahrrad-Club e. V. (ADFC)":MAILTO:thomas.albrecht@adfc-bw.de
END:VEVENT
BEGIN:VEVENT
DTSTART;TZID=Europe/Berlin:20250515T190000
DTEND;TZID=Europe/Berlin:20250515T210000
DTSTAMP:20260421T194327
CREATED:20250416T201627Z
LAST-MODIFIED:20250416T201627Z
UID:10005272-1747335600-1747342800@wandelstadt-esslingen.de
SUMMARY:Radlerstammtisch
DESCRIPTION:Radlerstammtisch („Sag mal\, bist du heute morgen auch nass geworden?“ und „Hast du die Holunderblüte gerochen?“) vor der Fahrradwerkstatt\, im Hof des KOMMA
URL:https://wandelstadt-esslingen.de/event/radlerstammtisch/
LOCATION:KOMMA Esslingen\, Maille 5-9\, Esslingen\, 73728\, Deutschland
ORGANIZER;CN="Allgemeiner Deutscher Fahrrad-Club e. V. (ADFC)":MAILTO:thomas.albrecht@adfc-bw.de
END:VEVENT
BEGIN:VEVENT
DTSTART;TZID=Europe/Berlin:20250409T190000
DTEND;TZID=Europe/Berlin:20250409T210000
DTSTAMP:20260421T194327
CREATED:20250322T144407Z
LAST-MODIFIED:20250322T144407Z
UID:10004940-1744225200-1744232400@wandelstadt-esslingen.de
SUMMARY:Extrem Rechte Szenen Im Südwesten – Ein Vortrag von Lucius Teidelbaum
DESCRIPTION:Der Begriff „Rechtsruck“ ist in aller Munde. Während Neonazis im Südwesten kaum noch sichtbar sind\, haben sich andere rechtsextreme und rechtspopulistische Strömungen fest etabliert. Lucius Teidelbaum\, freier Journalist und Publizist\, stellt die verschiedenen Erscheinungen extrem rechter Ideologien dar: Wer sind ihre Vertreter*innen\, wie sind sie vernetzt? Für welche Inhalte stehen sie und was sind die Gefahren? \nIm Rahmen unserer Kampagne „Haltung zeigen!“ setzen wir uns für Vielfalt\, Demokratie und ein friedliches Miteinander ein. \nUnsere Veranstaltungsreihe DIE SPRECHBAR bietet kurze Vorträge zu aktuellen gesellschaftspolitischen Themen in lockerer Atmosphäre und ermöglicht Austausch und Diskussion mit Expert*innen sowie anderen Interessierten.
URL:https://wandelstadt-esslingen.de/event/extrem-rechte-szenen-im-suedwesten-ein-vortrag-von-lucius-teidelbaum/
LOCATION:KOMMA Esslingen\, Maille 5-9\, Esslingen\, 73728\, Deutschland
CATEGORIES:Infoveranstaltung
END:VEVENT
END:VCALENDAR