BEGIN:VCALENDAR
VERSION:2.0
PRODID:-//Wandelstadt Esslingen - ECPv6.15.20//NONSGML v1.0//EN
CALSCALE:GREGORIAN
METHOD:PUBLISH
X-WR-CALNAME:Wandelstadt Esslingen
X-ORIGINAL-URL:https://wandelstadt-esslingen.de
X-WR-CALDESC:Veranstaltungen für Wandelstadt Esslingen
REFRESH-INTERVAL;VALUE=DURATION:PT1H
X-Robots-Tag:noindex
X-PUBLISHED-TTL:PT1H
BEGIN:VTIMEZONE
TZID:Europe/Berlin
BEGIN:DAYLIGHT
TZOFFSETFROM:+0100
TZOFFSETTO:+0200
TZNAME:CEST
DTSTART:20280326T010000
END:DAYLIGHT
BEGIN:STANDARD
TZOFFSETFROM:+0200
TZOFFSETTO:+0100
TZNAME:CET
DTSTART:20281029T010000
END:STANDARD
BEGIN:DAYLIGHT
TZOFFSETFROM:+0100
TZOFFSETTO:+0200
TZNAME:CEST
DTSTART:20290325T010000
END:DAYLIGHT
BEGIN:STANDARD
TZOFFSETFROM:+0200
TZOFFSETTO:+0100
TZNAME:CET
DTSTART:20291028T010000
END:STANDARD
BEGIN:DAYLIGHT
TZOFFSETFROM:+0100
TZOFFSETTO:+0200
TZNAME:CEST
DTSTART:20300331T010000
END:DAYLIGHT
BEGIN:STANDARD
TZOFFSETFROM:+0200
TZOFFSETTO:+0100
TZNAME:CET
DTSTART:20301027T010000
END:STANDARD
BEGIN:DAYLIGHT
TZOFFSETFROM:+0100
TZOFFSETTO:+0200
TZNAME:CEST
DTSTART:20310330T010000
END:DAYLIGHT
BEGIN:STANDARD
TZOFFSETFROM:+0200
TZOFFSETTO:+0100
TZNAME:CET
DTSTART:20311026T010000
END:STANDARD
END:VTIMEZONE
BEGIN:VEVENT
DTSTART;TZID=Europe/Berlin:20290510T190000
DTEND;TZID=Europe/Berlin:20290510T190000
DTSTAMP:20260421T215636
CREATED:20251125T192643Z
LAST-MODIFIED:20251125T192643Z
UID:10007287-1873134000-1873134000@wandelstadt-esslingen.de
SUMMARY:Koki-Stammtisch
DESCRIPTION:Sie wollen hinter die Kulissen des Koki schauen\, unsere Aktiven kennenlernen\, sich über Filme austauschen\, Programme mitgestalten\, neue Ideen einbringen oder …?Schauen Sie doch mal unverbindlich auf der LUX-Galerie vorbei – zum Beispiel amJeden zweiten Donnerstag im Monat jeweils ab 19 Uhr!Wir freuen uns drauf\, mit Ihnen ins Gespräch zu kommen!
URL:https://wandelstadt-esslingen.de/event/koki-stammtisch/2029-05-10/
LOCATION:KoKi Esslingen\, Maille 4-9\, Esslingen\, 73728
END:VEVENT
BEGIN:VEVENT
DTSTART;TZID=Europe/Berlin:20290614T190000
DTEND;TZID=Europe/Berlin:20290614T190000
DTSTAMP:20260421T215636
CREATED:20251125T192643Z
LAST-MODIFIED:20251125T192643Z
UID:10007288-1876158000-1876158000@wandelstadt-esslingen.de
SUMMARY:Koki-Stammtisch
DESCRIPTION:Sie wollen hinter die Kulissen des Koki schauen\, unsere Aktiven kennenlernen\, sich über Filme austauschen\, Programme mitgestalten\, neue Ideen einbringen oder …?Schauen Sie doch mal unverbindlich auf der LUX-Galerie vorbei – zum Beispiel amJeden zweiten Donnerstag im Monat jeweils ab 19 Uhr!Wir freuen uns drauf\, mit Ihnen ins Gespräch zu kommen!
URL:https://wandelstadt-esslingen.de/event/koki-stammtisch/2029-06-14/
LOCATION:KoKi Esslingen\, Maille 4-9\, Esslingen\, 73728
END:VEVENT
BEGIN:VEVENT
DTSTART;TZID=Europe/Berlin:20290712T190000
DTEND;TZID=Europe/Berlin:20290712T190000
DTSTAMP:20260421T215636
CREATED:20251125T192643Z
LAST-MODIFIED:20251125T192643Z
UID:10007289-1878577200-1878577200@wandelstadt-esslingen.de
SUMMARY:Koki-Stammtisch
DESCRIPTION:Sie wollen hinter die Kulissen des Koki schauen\, unsere Aktiven kennenlernen\, sich über Filme austauschen\, Programme mitgestalten\, neue Ideen einbringen oder …?Schauen Sie doch mal unverbindlich auf der LUX-Galerie vorbei – zum Beispiel amJeden zweiten Donnerstag im Monat jeweils ab 19 Uhr!Wir freuen uns drauf\, mit Ihnen ins Gespräch zu kommen!
URL:https://wandelstadt-esslingen.de/event/koki-stammtisch/2029-07-12/
LOCATION:KoKi Esslingen\, Maille 4-9\, Esslingen\, 73728
END:VEVENT
BEGIN:VEVENT
DTSTART;TZID=Europe/Berlin:20290809T190000
DTEND;TZID=Europe/Berlin:20290809T190000
DTSTAMP:20260421T215636
CREATED:20251125T192643Z
LAST-MODIFIED:20251125T192643Z
UID:10007290-1880996400-1880996400@wandelstadt-esslingen.de
SUMMARY:Koki-Stammtisch
DESCRIPTION:Sie wollen hinter die Kulissen des Koki schauen\, unsere Aktiven kennenlernen\, sich über Filme austauschen\, Programme mitgestalten\, neue Ideen einbringen oder …?Schauen Sie doch mal unverbindlich auf der LUX-Galerie vorbei – zum Beispiel amJeden zweiten Donnerstag im Monat jeweils ab 19 Uhr!Wir freuen uns drauf\, mit Ihnen ins Gespräch zu kommen!
URL:https://wandelstadt-esslingen.de/event/koki-stammtisch/2029-08-09/
LOCATION:KoKi Esslingen\, Maille 4-9\, Esslingen\, 73728
END:VEVENT
BEGIN:VEVENT
DTSTART;TZID=Europe/Berlin:20290913T190000
DTEND;TZID=Europe/Berlin:20290913T190000
DTSTAMP:20260421T215636
CREATED:20251125T192643Z
LAST-MODIFIED:20251125T192643Z
UID:10007291-1884020400-1884020400@wandelstadt-esslingen.de
SUMMARY:Koki-Stammtisch
DESCRIPTION:Sie wollen hinter die Kulissen des Koki schauen\, unsere Aktiven kennenlernen\, sich über Filme austauschen\, Programme mitgestalten\, neue Ideen einbringen oder …?Schauen Sie doch mal unverbindlich auf der LUX-Galerie vorbei – zum Beispiel amJeden zweiten Donnerstag im Monat jeweils ab 19 Uhr!Wir freuen uns drauf\, mit Ihnen ins Gespräch zu kommen!
URL:https://wandelstadt-esslingen.de/event/koki-stammtisch/2029-09-13/
LOCATION:KoKi Esslingen\, Maille 4-9\, Esslingen\, 73728
END:VEVENT
BEGIN:VEVENT
DTSTART;TZID=Europe/Berlin:20291011T190000
DTEND;TZID=Europe/Berlin:20291011T190000
DTSTAMP:20260421T215636
CREATED:20251125T192643Z
LAST-MODIFIED:20251125T192643Z
UID:10007292-1886439600-1886439600@wandelstadt-esslingen.de
SUMMARY:Koki-Stammtisch
DESCRIPTION:Sie wollen hinter die Kulissen des Koki schauen\, unsere Aktiven kennenlernen\, sich über Filme austauschen\, Programme mitgestalten\, neue Ideen einbringen oder …?Schauen Sie doch mal unverbindlich auf der LUX-Galerie vorbei – zum Beispiel amJeden zweiten Donnerstag im Monat jeweils ab 19 Uhr!Wir freuen uns drauf\, mit Ihnen ins Gespräch zu kommen!
URL:https://wandelstadt-esslingen.de/event/koki-stammtisch/2029-10-11/
LOCATION:KoKi Esslingen\, Maille 4-9\, Esslingen\, 73728
END:VEVENT
BEGIN:VEVENT
DTSTART;TZID=Europe/Berlin:20291108T190000
DTEND;TZID=Europe/Berlin:20291108T190000
DTSTAMP:20260421T215636
CREATED:20251125T192643Z
LAST-MODIFIED:20251125T192643Z
UID:10007293-1888858800-1888858800@wandelstadt-esslingen.de
SUMMARY:Koki-Stammtisch
DESCRIPTION:Sie wollen hinter die Kulissen des Koki schauen\, unsere Aktiven kennenlernen\, sich über Filme austauschen\, Programme mitgestalten\, neue Ideen einbringen oder …?Schauen Sie doch mal unverbindlich auf der LUX-Galerie vorbei – zum Beispiel amJeden zweiten Donnerstag im Monat jeweils ab 19 Uhr!Wir freuen uns drauf\, mit Ihnen ins Gespräch zu kommen!
URL:https://wandelstadt-esslingen.de/event/koki-stammtisch/2029-11-08/
LOCATION:KoKi Esslingen\, Maille 4-9\, Esslingen\, 73728
END:VEVENT
BEGIN:VEVENT
DTSTART;TZID=Europe/Berlin:20291213T190000
DTEND;TZID=Europe/Berlin:20291213T190000
DTSTAMP:20260421T215636
CREATED:20251125T192643Z
LAST-MODIFIED:20251125T192643Z
UID:10007294-1891882800-1891882800@wandelstadt-esslingen.de
SUMMARY:Koki-Stammtisch
DESCRIPTION:Sie wollen hinter die Kulissen des Koki schauen\, unsere Aktiven kennenlernen\, sich über Filme austauschen\, Programme mitgestalten\, neue Ideen einbringen oder …?Schauen Sie doch mal unverbindlich auf der LUX-Galerie vorbei – zum Beispiel amJeden zweiten Donnerstag im Monat jeweils ab 19 Uhr!Wir freuen uns drauf\, mit Ihnen ins Gespräch zu kommen!
URL:https://wandelstadt-esslingen.de/event/koki-stammtisch/2029-12-13/
LOCATION:KoKi Esslingen\, Maille 4-9\, Esslingen\, 73728
END:VEVENT
BEGIN:VEVENT
DTSTART;TZID=Europe/Berlin:20300110T190000
DTEND;TZID=Europe/Berlin:20300110T190000
DTSTAMP:20260421T215636
CREATED:20251125T192643Z
LAST-MODIFIED:20251125T192643Z
UID:10007295-1894302000-1894302000@wandelstadt-esslingen.de
SUMMARY:Koki-Stammtisch
DESCRIPTION:Sie wollen hinter die Kulissen des Koki schauen\, unsere Aktiven kennenlernen\, sich über Filme austauschen\, Programme mitgestalten\, neue Ideen einbringen oder …?Schauen Sie doch mal unverbindlich auf der LUX-Galerie vorbei – zum Beispiel amJeden zweiten Donnerstag im Monat jeweils ab 19 Uhr!Wir freuen uns drauf\, mit Ihnen ins Gespräch zu kommen!
URL:https://wandelstadt-esslingen.de/event/koki-stammtisch/2030-01-10/
LOCATION:KoKi Esslingen\, Maille 4-9\, Esslingen\, 73728
END:VEVENT
BEGIN:VEVENT
DTSTART;TZID=Europe/Berlin:20300214T190000
DTEND;TZID=Europe/Berlin:20300214T190000
DTSTAMP:20260421T215636
CREATED:20251125T192643Z
LAST-MODIFIED:20251125T192643Z
UID:10007296-1897326000-1897326000@wandelstadt-esslingen.de
SUMMARY:Koki-Stammtisch
DESCRIPTION:Sie wollen hinter die Kulissen des Koki schauen\, unsere Aktiven kennenlernen\, sich über Filme austauschen\, Programme mitgestalten\, neue Ideen einbringen oder …?Schauen Sie doch mal unverbindlich auf der LUX-Galerie vorbei – zum Beispiel amJeden zweiten Donnerstag im Monat jeweils ab 19 Uhr!Wir freuen uns drauf\, mit Ihnen ins Gespräch zu kommen!
URL:https://wandelstadt-esslingen.de/event/koki-stammtisch/2030-02-14/
LOCATION:KoKi Esslingen\, Maille 4-9\, Esslingen\, 73728
END:VEVENT
BEGIN:VEVENT
DTSTART;TZID=Europe/Berlin:20300314T190000
DTEND;TZID=Europe/Berlin:20300314T190000
DTSTAMP:20260421T215636
CREATED:20251125T192643Z
LAST-MODIFIED:20251125T192643Z
UID:10007297-1899745200-1899745200@wandelstadt-esslingen.de
SUMMARY:Koki-Stammtisch
DESCRIPTION:Sie wollen hinter die Kulissen des Koki schauen\, unsere Aktiven kennenlernen\, sich über Filme austauschen\, Programme mitgestalten\, neue Ideen einbringen oder …?Schauen Sie doch mal unverbindlich auf der LUX-Galerie vorbei – zum Beispiel amJeden zweiten Donnerstag im Monat jeweils ab 19 Uhr!Wir freuen uns drauf\, mit Ihnen ins Gespräch zu kommen!
URL:https://wandelstadt-esslingen.de/event/koki-stammtisch/2030-03-14/
LOCATION:KoKi Esslingen\, Maille 4-9\, Esslingen\, 73728
END:VEVENT
BEGIN:VEVENT
DTSTART;TZID=Europe/Berlin:20300411T190000
DTEND;TZID=Europe/Berlin:20300411T190000
DTSTAMP:20260421T215636
CREATED:20251125T192643Z
LAST-MODIFIED:20251125T192643Z
UID:10007298-1902164400-1902164400@wandelstadt-esslingen.de
SUMMARY:Koki-Stammtisch
DESCRIPTION:Sie wollen hinter die Kulissen des Koki schauen\, unsere Aktiven kennenlernen\, sich über Filme austauschen\, Programme mitgestalten\, neue Ideen einbringen oder …?Schauen Sie doch mal unverbindlich auf der LUX-Galerie vorbei – zum Beispiel amJeden zweiten Donnerstag im Monat jeweils ab 19 Uhr!Wir freuen uns drauf\, mit Ihnen ins Gespräch zu kommen!
URL:https://wandelstadt-esslingen.de/event/koki-stammtisch/2030-04-11/
LOCATION:KoKi Esslingen\, Maille 4-9\, Esslingen\, 73728
END:VEVENT
BEGIN:VEVENT
DTSTART;TZID=Europe/Berlin:20300509T190000
DTEND;TZID=Europe/Berlin:20300509T190000
DTSTAMP:20260421T215636
CREATED:20251125T192643Z
LAST-MODIFIED:20251125T192643Z
UID:10007299-1904583600-1904583600@wandelstadt-esslingen.de
SUMMARY:Koki-Stammtisch
DESCRIPTION:Sie wollen hinter die Kulissen des Koki schauen\, unsere Aktiven kennenlernen\, sich über Filme austauschen\, Programme mitgestalten\, neue Ideen einbringen oder …?Schauen Sie doch mal unverbindlich auf der LUX-Galerie vorbei – zum Beispiel amJeden zweiten Donnerstag im Monat jeweils ab 19 Uhr!Wir freuen uns drauf\, mit Ihnen ins Gespräch zu kommen!
URL:https://wandelstadt-esslingen.de/event/koki-stammtisch/2030-05-09/
LOCATION:KoKi Esslingen\, Maille 4-9\, Esslingen\, 73728
END:VEVENT
BEGIN:VEVENT
DTSTART;TZID=Europe/Berlin:20300613T190000
DTEND;TZID=Europe/Berlin:20300613T190000
DTSTAMP:20260421T215636
CREATED:20251125T192643Z
LAST-MODIFIED:20251125T192643Z
UID:10007300-1907607600-1907607600@wandelstadt-esslingen.de
SUMMARY:Koki-Stammtisch
DESCRIPTION:Sie wollen hinter die Kulissen des Koki schauen\, unsere Aktiven kennenlernen\, sich über Filme austauschen\, Programme mitgestalten\, neue Ideen einbringen oder …?Schauen Sie doch mal unverbindlich auf der LUX-Galerie vorbei – zum Beispiel amJeden zweiten Donnerstag im Monat jeweils ab 19 Uhr!Wir freuen uns drauf\, mit Ihnen ins Gespräch zu kommen!
URL:https://wandelstadt-esslingen.de/event/koki-stammtisch/2030-06-13/
LOCATION:KoKi Esslingen\, Maille 4-9\, Esslingen\, 73728
END:VEVENT
BEGIN:VEVENT
DTSTART;TZID=Europe/Berlin:20300711T190000
DTEND;TZID=Europe/Berlin:20300711T190000
DTSTAMP:20260421T215636
CREATED:20251125T192643Z
LAST-MODIFIED:20251125T192643Z
UID:10007301-1910026800-1910026800@wandelstadt-esslingen.de
SUMMARY:Koki-Stammtisch
DESCRIPTION:Sie wollen hinter die Kulissen des Koki schauen\, unsere Aktiven kennenlernen\, sich über Filme austauschen\, Programme mitgestalten\, neue Ideen einbringen oder …?Schauen Sie doch mal unverbindlich auf der LUX-Galerie vorbei – zum Beispiel amJeden zweiten Donnerstag im Monat jeweils ab 19 Uhr!Wir freuen uns drauf\, mit Ihnen ins Gespräch zu kommen!
URL:https://wandelstadt-esslingen.de/event/koki-stammtisch/2030-07-11/
LOCATION:KoKi Esslingen\, Maille 4-9\, Esslingen\, 73728
END:VEVENT
BEGIN:VEVENT
DTSTART;TZID=Europe/Berlin:20300808T190000
DTEND;TZID=Europe/Berlin:20300808T190000
DTSTAMP:20260421T215636
CREATED:20251125T192643Z
LAST-MODIFIED:20251125T192643Z
UID:10007302-1912446000-1912446000@wandelstadt-esslingen.de
SUMMARY:Koki-Stammtisch
DESCRIPTION:Sie wollen hinter die Kulissen des Koki schauen\, unsere Aktiven kennenlernen\, sich über Filme austauschen\, Programme mitgestalten\, neue Ideen einbringen oder …?Schauen Sie doch mal unverbindlich auf der LUX-Galerie vorbei – zum Beispiel amJeden zweiten Donnerstag im Monat jeweils ab 19 Uhr!Wir freuen uns drauf\, mit Ihnen ins Gespräch zu kommen!
URL:https://wandelstadt-esslingen.de/event/koki-stammtisch/2030-08-08/
LOCATION:KoKi Esslingen\, Maille 4-9\, Esslingen\, 73728
END:VEVENT
BEGIN:VEVENT
DTSTART;TZID=Europe/Berlin:20300912T190000
DTEND;TZID=Europe/Berlin:20300912T190000
DTSTAMP:20260421T215636
CREATED:20251125T192643Z
LAST-MODIFIED:20251125T192643Z
UID:10007303-1915470000-1915470000@wandelstadt-esslingen.de
SUMMARY:Koki-Stammtisch
DESCRIPTION:Sie wollen hinter die Kulissen des Koki schauen\, unsere Aktiven kennenlernen\, sich über Filme austauschen\, Programme mitgestalten\, neue Ideen einbringen oder …?Schauen Sie doch mal unverbindlich auf der LUX-Galerie vorbei – zum Beispiel amJeden zweiten Donnerstag im Monat jeweils ab 19 Uhr!Wir freuen uns drauf\, mit Ihnen ins Gespräch zu kommen!
URL:https://wandelstadt-esslingen.de/event/koki-stammtisch/2030-09-12/
LOCATION:KoKi Esslingen\, Maille 4-9\, Esslingen\, 73728
END:VEVENT
BEGIN:VEVENT
DTSTART;TZID=Europe/Berlin:20301010T190000
DTEND;TZID=Europe/Berlin:20301010T190000
DTSTAMP:20260421T215636
CREATED:20251125T192643Z
LAST-MODIFIED:20251125T192643Z
UID:10007304-1917889200-1917889200@wandelstadt-esslingen.de
SUMMARY:Koki-Stammtisch
DESCRIPTION:Sie wollen hinter die Kulissen des Koki schauen\, unsere Aktiven kennenlernen\, sich über Filme austauschen\, Programme mitgestalten\, neue Ideen einbringen oder …?Schauen Sie doch mal unverbindlich auf der LUX-Galerie vorbei – zum Beispiel amJeden zweiten Donnerstag im Monat jeweils ab 19 Uhr!Wir freuen uns drauf\, mit Ihnen ins Gespräch zu kommen!
URL:https://wandelstadt-esslingen.de/event/koki-stammtisch/2030-10-10/
LOCATION:KoKi Esslingen\, Maille 4-9\, Esslingen\, 73728
END:VEVENT
BEGIN:VEVENT
DTSTART;TZID=Europe/Berlin:20301114T190000
DTEND;TZID=Europe/Berlin:20301114T190000
DTSTAMP:20260421T215636
CREATED:20251125T192643Z
LAST-MODIFIED:20251125T192643Z
UID:10007305-1920913200-1920913200@wandelstadt-esslingen.de
SUMMARY:Koki-Stammtisch
DESCRIPTION:Sie wollen hinter die Kulissen des Koki schauen\, unsere Aktiven kennenlernen\, sich über Filme austauschen\, Programme mitgestalten\, neue Ideen einbringen oder …?Schauen Sie doch mal unverbindlich auf der LUX-Galerie vorbei – zum Beispiel amJeden zweiten Donnerstag im Monat jeweils ab 19 Uhr!Wir freuen uns drauf\, mit Ihnen ins Gespräch zu kommen!
URL:https://wandelstadt-esslingen.de/event/koki-stammtisch/2030-11-14/
LOCATION:KoKi Esslingen\, Maille 4-9\, Esslingen\, 73728
END:VEVENT
END:VCALENDAR