BEGIN:VCALENDAR
VERSION:2.0
PRODID:-//Wandelstadt Esslingen - ECPv6.15.20//NONSGML v1.0//EN
CALSCALE:GREGORIAN
METHOD:PUBLISH
X-ORIGINAL-URL:https://wandelstadt-esslingen.de
X-WR-CALDESC:Veranstaltungen für Wandelstadt Esslingen
REFRESH-INTERVAL;VALUE=DURATION:PT1H
X-Robots-Tag:noindex
X-PUBLISHED-TTL:PT1H
BEGIN:VTIMEZONE
TZID:Europe/Berlin
BEGIN:DAYLIGHT
TZOFFSETFROM:+0100
TZOFFSETTO:+0200
TZNAME:CEST
DTSTART:20260329T010000
END:DAYLIGHT
BEGIN:STANDARD
TZOFFSETFROM:+0200
TZOFFSETTO:+0100
TZNAME:CET
DTSTART:20261025T010000
END:STANDARD
BEGIN:DAYLIGHT
TZOFFSETFROM:+0100
TZOFFSETTO:+0200
TZNAME:CEST
DTSTART:20270328T010000
END:DAYLIGHT
BEGIN:STANDARD
TZOFFSETFROM:+0200
TZOFFSETTO:+0100
TZNAME:CET
DTSTART:20271031T010000
END:STANDARD
BEGIN:DAYLIGHT
TZOFFSETFROM:+0100
TZOFFSETTO:+0200
TZNAME:CEST
DTSTART:20280326T010000
END:DAYLIGHT
BEGIN:STANDARD
TZOFFSETFROM:+0200
TZOFFSETTO:+0100
TZNAME:CET
DTSTART:20281029T010000
END:STANDARD
BEGIN:DAYLIGHT
TZOFFSETFROM:+0100
TZOFFSETTO:+0200
TZNAME:CEST
DTSTART:20290325T010000
END:DAYLIGHT
BEGIN:STANDARD
TZOFFSETFROM:+0200
TZOFFSETTO:+0100
TZNAME:CET
DTSTART:20291028T010000
END:STANDARD
BEGIN:DAYLIGHT
TZOFFSETFROM:+0100
TZOFFSETTO:+0200
TZNAME:CEST
DTSTART:20300331T010000
END:DAYLIGHT
BEGIN:STANDARD
TZOFFSETFROM:+0200
TZOFFSETTO:+0100
TZNAME:CET
DTSTART:20301027T010000
END:STANDARD
END:VTIMEZONE
BEGIN:VEVENT
DTSTART;TZID=Europe/Berlin:20270513T190000
DTEND;TZID=Europe/Berlin:20270513T190000
DTSTAMP:20260421T202326
CREATED:20251125T192643Z
LAST-MODIFIED:20251125T192643Z
UID:10007263-1810234800-1810234800@wandelstadt-esslingen.de
SUMMARY:Koki-Stammtisch
DESCRIPTION:Sie wollen hinter die Kulissen des Koki schauen\, unsere Aktiven kennenlernen\, sich über Filme austauschen\, Programme mitgestalten\, neue Ideen einbringen oder …?Schauen Sie doch mal unverbindlich auf der LUX-Galerie vorbei – zum Beispiel amJeden zweiten Donnerstag im Monat jeweils ab 19 Uhr!Wir freuen uns drauf\, mit Ihnen ins Gespräch zu kommen!
URL:https://wandelstadt-esslingen.de/event/koki-stammtisch/2027-05-13/
LOCATION:KoKi Esslingen\, Maille 4-9\, Esslingen\, 73728
END:VEVENT
BEGIN:VEVENT
DTSTART;TZID=Europe/Berlin:20270610T190000
DTEND;TZID=Europe/Berlin:20270610T190000
DTSTAMP:20260421T202326
CREATED:20251125T192643Z
LAST-MODIFIED:20251125T192643Z
UID:10007264-1812654000-1812654000@wandelstadt-esslingen.de
SUMMARY:Koki-Stammtisch
DESCRIPTION:Sie wollen hinter die Kulissen des Koki schauen\, unsere Aktiven kennenlernen\, sich über Filme austauschen\, Programme mitgestalten\, neue Ideen einbringen oder …?Schauen Sie doch mal unverbindlich auf der LUX-Galerie vorbei – zum Beispiel amJeden zweiten Donnerstag im Monat jeweils ab 19 Uhr!Wir freuen uns drauf\, mit Ihnen ins Gespräch zu kommen!
URL:https://wandelstadt-esslingen.de/event/koki-stammtisch/2027-06-10/
LOCATION:KoKi Esslingen\, Maille 4-9\, Esslingen\, 73728
END:VEVENT
BEGIN:VEVENT
DTSTART;TZID=Europe/Berlin:20270708T190000
DTEND;TZID=Europe/Berlin:20270708T190000
DTSTAMP:20260421T202326
CREATED:20251125T192643Z
LAST-MODIFIED:20251125T192643Z
UID:10007265-1815073200-1815073200@wandelstadt-esslingen.de
SUMMARY:Koki-Stammtisch
DESCRIPTION:Sie wollen hinter die Kulissen des Koki schauen\, unsere Aktiven kennenlernen\, sich über Filme austauschen\, Programme mitgestalten\, neue Ideen einbringen oder …?Schauen Sie doch mal unverbindlich auf der LUX-Galerie vorbei – zum Beispiel amJeden zweiten Donnerstag im Monat jeweils ab 19 Uhr!Wir freuen uns drauf\, mit Ihnen ins Gespräch zu kommen!
URL:https://wandelstadt-esslingen.de/event/koki-stammtisch/2027-07-08/
LOCATION:KoKi Esslingen\, Maille 4-9\, Esslingen\, 73728
END:VEVENT
BEGIN:VEVENT
DTSTART;TZID=Europe/Berlin:20270812T190000
DTEND;TZID=Europe/Berlin:20270812T190000
DTSTAMP:20260421T202326
CREATED:20251125T192643Z
LAST-MODIFIED:20251125T192643Z
UID:10007266-1818097200-1818097200@wandelstadt-esslingen.de
SUMMARY:Koki-Stammtisch
DESCRIPTION:Sie wollen hinter die Kulissen des Koki schauen\, unsere Aktiven kennenlernen\, sich über Filme austauschen\, Programme mitgestalten\, neue Ideen einbringen oder …?Schauen Sie doch mal unverbindlich auf der LUX-Galerie vorbei – zum Beispiel amJeden zweiten Donnerstag im Monat jeweils ab 19 Uhr!Wir freuen uns drauf\, mit Ihnen ins Gespräch zu kommen!
URL:https://wandelstadt-esslingen.de/event/koki-stammtisch/2027-08-12/
LOCATION:KoKi Esslingen\, Maille 4-9\, Esslingen\, 73728
END:VEVENT
BEGIN:VEVENT
DTSTART;TZID=Europe/Berlin:20270909T190000
DTEND;TZID=Europe/Berlin:20270909T190000
DTSTAMP:20260421T202326
CREATED:20251125T192643Z
LAST-MODIFIED:20251125T192643Z
UID:10007267-1820516400-1820516400@wandelstadt-esslingen.de
SUMMARY:Koki-Stammtisch
DESCRIPTION:Sie wollen hinter die Kulissen des Koki schauen\, unsere Aktiven kennenlernen\, sich über Filme austauschen\, Programme mitgestalten\, neue Ideen einbringen oder …?Schauen Sie doch mal unverbindlich auf der LUX-Galerie vorbei – zum Beispiel amJeden zweiten Donnerstag im Monat jeweils ab 19 Uhr!Wir freuen uns drauf\, mit Ihnen ins Gespräch zu kommen!
URL:https://wandelstadt-esslingen.de/event/koki-stammtisch/2027-09-09/
LOCATION:KoKi Esslingen\, Maille 4-9\, Esslingen\, 73728
END:VEVENT
BEGIN:VEVENT
DTSTART;TZID=Europe/Berlin:20271014T190000
DTEND;TZID=Europe/Berlin:20271014T190000
DTSTAMP:20260421T202326
CREATED:20251125T192643Z
LAST-MODIFIED:20251125T192643Z
UID:10007268-1823540400-1823540400@wandelstadt-esslingen.de
SUMMARY:Koki-Stammtisch
DESCRIPTION:Sie wollen hinter die Kulissen des Koki schauen\, unsere Aktiven kennenlernen\, sich über Filme austauschen\, Programme mitgestalten\, neue Ideen einbringen oder …?Schauen Sie doch mal unverbindlich auf der LUX-Galerie vorbei – zum Beispiel amJeden zweiten Donnerstag im Monat jeweils ab 19 Uhr!Wir freuen uns drauf\, mit Ihnen ins Gespräch zu kommen!
URL:https://wandelstadt-esslingen.de/event/koki-stammtisch/2027-10-14/
LOCATION:KoKi Esslingen\, Maille 4-9\, Esslingen\, 73728
END:VEVENT
BEGIN:VEVENT
DTSTART;TZID=Europe/Berlin:20271111T190000
DTEND;TZID=Europe/Berlin:20271111T190000
DTSTAMP:20260421T202326
CREATED:20251125T192643Z
LAST-MODIFIED:20251125T192643Z
UID:10007269-1825959600-1825959600@wandelstadt-esslingen.de
SUMMARY:Koki-Stammtisch
DESCRIPTION:Sie wollen hinter die Kulissen des Koki schauen\, unsere Aktiven kennenlernen\, sich über Filme austauschen\, Programme mitgestalten\, neue Ideen einbringen oder …?Schauen Sie doch mal unverbindlich auf der LUX-Galerie vorbei – zum Beispiel amJeden zweiten Donnerstag im Monat jeweils ab 19 Uhr!Wir freuen uns drauf\, mit Ihnen ins Gespräch zu kommen!
URL:https://wandelstadt-esslingen.de/event/koki-stammtisch/2027-11-11/
LOCATION:KoKi Esslingen\, Maille 4-9\, Esslingen\, 73728
END:VEVENT
BEGIN:VEVENT
DTSTART;TZID=Europe/Berlin:20271209T190000
DTEND;TZID=Europe/Berlin:20271209T190000
DTSTAMP:20260421T202326
CREATED:20251125T192643Z
LAST-MODIFIED:20251125T192643Z
UID:10007270-1828378800-1828378800@wandelstadt-esslingen.de
SUMMARY:Koki-Stammtisch
DESCRIPTION:Sie wollen hinter die Kulissen des Koki schauen\, unsere Aktiven kennenlernen\, sich über Filme austauschen\, Programme mitgestalten\, neue Ideen einbringen oder …?Schauen Sie doch mal unverbindlich auf der LUX-Galerie vorbei – zum Beispiel amJeden zweiten Donnerstag im Monat jeweils ab 19 Uhr!Wir freuen uns drauf\, mit Ihnen ins Gespräch zu kommen!
URL:https://wandelstadt-esslingen.de/event/koki-stammtisch/2027-12-09/
LOCATION:KoKi Esslingen\, Maille 4-9\, Esslingen\, 73728
END:VEVENT
BEGIN:VEVENT
DTSTART;TZID=Europe/Berlin:20280113T190000
DTEND;TZID=Europe/Berlin:20280113T190000
DTSTAMP:20260421T202326
CREATED:20251125T192643Z
LAST-MODIFIED:20251125T192643Z
UID:10007271-1831402800-1831402800@wandelstadt-esslingen.de
SUMMARY:Koki-Stammtisch
DESCRIPTION:Sie wollen hinter die Kulissen des Koki schauen\, unsere Aktiven kennenlernen\, sich über Filme austauschen\, Programme mitgestalten\, neue Ideen einbringen oder …?Schauen Sie doch mal unverbindlich auf der LUX-Galerie vorbei – zum Beispiel amJeden zweiten Donnerstag im Monat jeweils ab 19 Uhr!Wir freuen uns drauf\, mit Ihnen ins Gespräch zu kommen!
URL:https://wandelstadt-esslingen.de/event/koki-stammtisch/2028-01-13/
LOCATION:KoKi Esslingen\, Maille 4-9\, Esslingen\, 73728
END:VEVENT
BEGIN:VEVENT
DTSTART;TZID=Europe/Berlin:20280210T190000
DTEND;TZID=Europe/Berlin:20280210T190000
DTSTAMP:20260421T202326
CREATED:20251125T192643Z
LAST-MODIFIED:20251125T192643Z
UID:10007272-1833822000-1833822000@wandelstadt-esslingen.de
SUMMARY:Koki-Stammtisch
DESCRIPTION:Sie wollen hinter die Kulissen des Koki schauen\, unsere Aktiven kennenlernen\, sich über Filme austauschen\, Programme mitgestalten\, neue Ideen einbringen oder …?Schauen Sie doch mal unverbindlich auf der LUX-Galerie vorbei – zum Beispiel amJeden zweiten Donnerstag im Monat jeweils ab 19 Uhr!Wir freuen uns drauf\, mit Ihnen ins Gespräch zu kommen!
URL:https://wandelstadt-esslingen.de/event/koki-stammtisch/2028-02-10/
LOCATION:KoKi Esslingen\, Maille 4-9\, Esslingen\, 73728
END:VEVENT
BEGIN:VEVENT
DTSTART;TZID=Europe/Berlin:20280309T190000
DTEND;TZID=Europe/Berlin:20280309T190000
DTSTAMP:20260421T202326
CREATED:20251125T192643Z
LAST-MODIFIED:20251125T192643Z
UID:10007273-1836241200-1836241200@wandelstadt-esslingen.de
SUMMARY:Koki-Stammtisch
DESCRIPTION:Sie wollen hinter die Kulissen des Koki schauen\, unsere Aktiven kennenlernen\, sich über Filme austauschen\, Programme mitgestalten\, neue Ideen einbringen oder …?Schauen Sie doch mal unverbindlich auf der LUX-Galerie vorbei – zum Beispiel amJeden zweiten Donnerstag im Monat jeweils ab 19 Uhr!Wir freuen uns drauf\, mit Ihnen ins Gespräch zu kommen!
URL:https://wandelstadt-esslingen.de/event/koki-stammtisch/2028-03-09/
LOCATION:KoKi Esslingen\, Maille 4-9\, Esslingen\, 73728
END:VEVENT
BEGIN:VEVENT
DTSTART;TZID=Europe/Berlin:20280413T190000
DTEND;TZID=Europe/Berlin:20280413T190000
DTSTAMP:20260421T202326
CREATED:20251125T192643Z
LAST-MODIFIED:20251125T192643Z
UID:10007274-1839265200-1839265200@wandelstadt-esslingen.de
SUMMARY:Koki-Stammtisch
DESCRIPTION:Sie wollen hinter die Kulissen des Koki schauen\, unsere Aktiven kennenlernen\, sich über Filme austauschen\, Programme mitgestalten\, neue Ideen einbringen oder …?Schauen Sie doch mal unverbindlich auf der LUX-Galerie vorbei – zum Beispiel amJeden zweiten Donnerstag im Monat jeweils ab 19 Uhr!Wir freuen uns drauf\, mit Ihnen ins Gespräch zu kommen!
URL:https://wandelstadt-esslingen.de/event/koki-stammtisch/2028-04-13/
LOCATION:KoKi Esslingen\, Maille 4-9\, Esslingen\, 73728
END:VEVENT
BEGIN:VEVENT
DTSTART;TZID=Europe/Berlin:20280511T190000
DTEND;TZID=Europe/Berlin:20280511T190000
DTSTAMP:20260421T202326
CREATED:20251125T192643Z
LAST-MODIFIED:20251125T192643Z
UID:10007275-1841684400-1841684400@wandelstadt-esslingen.de
SUMMARY:Koki-Stammtisch
DESCRIPTION:Sie wollen hinter die Kulissen des Koki schauen\, unsere Aktiven kennenlernen\, sich über Filme austauschen\, Programme mitgestalten\, neue Ideen einbringen oder …?Schauen Sie doch mal unverbindlich auf der LUX-Galerie vorbei – zum Beispiel amJeden zweiten Donnerstag im Monat jeweils ab 19 Uhr!Wir freuen uns drauf\, mit Ihnen ins Gespräch zu kommen!
URL:https://wandelstadt-esslingen.de/event/koki-stammtisch/2028-05-11/
LOCATION:KoKi Esslingen\, Maille 4-9\, Esslingen\, 73728
END:VEVENT
BEGIN:VEVENT
DTSTART;TZID=Europe/Berlin:20280608T190000
DTEND;TZID=Europe/Berlin:20280608T190000
DTSTAMP:20260421T202326
CREATED:20251125T192643Z
LAST-MODIFIED:20251125T192643Z
UID:10007276-1844103600-1844103600@wandelstadt-esslingen.de
SUMMARY:Koki-Stammtisch
DESCRIPTION:Sie wollen hinter die Kulissen des Koki schauen\, unsere Aktiven kennenlernen\, sich über Filme austauschen\, Programme mitgestalten\, neue Ideen einbringen oder …?Schauen Sie doch mal unverbindlich auf der LUX-Galerie vorbei – zum Beispiel amJeden zweiten Donnerstag im Monat jeweils ab 19 Uhr!Wir freuen uns drauf\, mit Ihnen ins Gespräch zu kommen!
URL:https://wandelstadt-esslingen.de/event/koki-stammtisch/2028-06-08/
LOCATION:KoKi Esslingen\, Maille 4-9\, Esslingen\, 73728
END:VEVENT
BEGIN:VEVENT
DTSTART;TZID=Europe/Berlin:20280713T190000
DTEND;TZID=Europe/Berlin:20280713T190000
DTSTAMP:20260421T202326
CREATED:20251125T192643Z
LAST-MODIFIED:20251125T192643Z
UID:10007277-1847127600-1847127600@wandelstadt-esslingen.de
SUMMARY:Koki-Stammtisch
DESCRIPTION:Sie wollen hinter die Kulissen des Koki schauen\, unsere Aktiven kennenlernen\, sich über Filme austauschen\, Programme mitgestalten\, neue Ideen einbringen oder …?Schauen Sie doch mal unverbindlich auf der LUX-Galerie vorbei – zum Beispiel amJeden zweiten Donnerstag im Monat jeweils ab 19 Uhr!Wir freuen uns drauf\, mit Ihnen ins Gespräch zu kommen!
URL:https://wandelstadt-esslingen.de/event/koki-stammtisch/2028-07-13/
LOCATION:KoKi Esslingen\, Maille 4-9\, Esslingen\, 73728
END:VEVENT
BEGIN:VEVENT
DTSTART;TZID=Europe/Berlin:20280810T190000
DTEND;TZID=Europe/Berlin:20280810T190000
DTSTAMP:20260421T202326
CREATED:20251125T192643Z
LAST-MODIFIED:20251125T192643Z
UID:10007278-1849546800-1849546800@wandelstadt-esslingen.de
SUMMARY:Koki-Stammtisch
DESCRIPTION:Sie wollen hinter die Kulissen des Koki schauen\, unsere Aktiven kennenlernen\, sich über Filme austauschen\, Programme mitgestalten\, neue Ideen einbringen oder …?Schauen Sie doch mal unverbindlich auf der LUX-Galerie vorbei – zum Beispiel amJeden zweiten Donnerstag im Monat jeweils ab 19 Uhr!Wir freuen uns drauf\, mit Ihnen ins Gespräch zu kommen!
URL:https://wandelstadt-esslingen.de/event/koki-stammtisch/2028-08-10/
LOCATION:KoKi Esslingen\, Maille 4-9\, Esslingen\, 73728
END:VEVENT
BEGIN:VEVENT
DTSTART;TZID=Europe/Berlin:20280914T190000
DTEND;TZID=Europe/Berlin:20280914T190000
DTSTAMP:20260421T202326
CREATED:20251125T192643Z
LAST-MODIFIED:20251125T192643Z
UID:10007279-1852570800-1852570800@wandelstadt-esslingen.de
SUMMARY:Koki-Stammtisch
DESCRIPTION:Sie wollen hinter die Kulissen des Koki schauen\, unsere Aktiven kennenlernen\, sich über Filme austauschen\, Programme mitgestalten\, neue Ideen einbringen oder …?Schauen Sie doch mal unverbindlich auf der LUX-Galerie vorbei – zum Beispiel amJeden zweiten Donnerstag im Monat jeweils ab 19 Uhr!Wir freuen uns drauf\, mit Ihnen ins Gespräch zu kommen!
URL:https://wandelstadt-esslingen.de/event/koki-stammtisch/2028-09-14/
LOCATION:KoKi Esslingen\, Maille 4-9\, Esslingen\, 73728
END:VEVENT
BEGIN:VEVENT
DTSTART;TZID=Europe/Berlin:20281012T190000
DTEND;TZID=Europe/Berlin:20281012T190000
DTSTAMP:20260421T202326
CREATED:20251125T192643Z
LAST-MODIFIED:20251125T192643Z
UID:10007280-1854990000-1854990000@wandelstadt-esslingen.de
SUMMARY:Koki-Stammtisch
DESCRIPTION:Sie wollen hinter die Kulissen des Koki schauen\, unsere Aktiven kennenlernen\, sich über Filme austauschen\, Programme mitgestalten\, neue Ideen einbringen oder …?Schauen Sie doch mal unverbindlich auf der LUX-Galerie vorbei – zum Beispiel amJeden zweiten Donnerstag im Monat jeweils ab 19 Uhr!Wir freuen uns drauf\, mit Ihnen ins Gespräch zu kommen!
URL:https://wandelstadt-esslingen.de/event/koki-stammtisch/2028-10-12/
LOCATION:KoKi Esslingen\, Maille 4-9\, Esslingen\, 73728
END:VEVENT
BEGIN:VEVENT
DTSTART;TZID=Europe/Berlin:20281109T190000
DTEND;TZID=Europe/Berlin:20281109T190000
DTSTAMP:20260421T202326
CREATED:20251125T192643Z
LAST-MODIFIED:20251125T192643Z
UID:10007281-1857409200-1857409200@wandelstadt-esslingen.de
SUMMARY:Koki-Stammtisch
DESCRIPTION:Sie wollen hinter die Kulissen des Koki schauen\, unsere Aktiven kennenlernen\, sich über Filme austauschen\, Programme mitgestalten\, neue Ideen einbringen oder …?Schauen Sie doch mal unverbindlich auf der LUX-Galerie vorbei – zum Beispiel amJeden zweiten Donnerstag im Monat jeweils ab 19 Uhr!Wir freuen uns drauf\, mit Ihnen ins Gespräch zu kommen!
URL:https://wandelstadt-esslingen.de/event/koki-stammtisch/2028-11-09/
LOCATION:KoKi Esslingen\, Maille 4-9\, Esslingen\, 73728
END:VEVENT
BEGIN:VEVENT
DTSTART;TZID=Europe/Berlin:20281214T190000
DTEND;TZID=Europe/Berlin:20281214T190000
DTSTAMP:20260421T202326
CREATED:20251125T192643Z
LAST-MODIFIED:20251125T192643Z
UID:10007282-1860433200-1860433200@wandelstadt-esslingen.de
SUMMARY:Koki-Stammtisch
DESCRIPTION:Sie wollen hinter die Kulissen des Koki schauen\, unsere Aktiven kennenlernen\, sich über Filme austauschen\, Programme mitgestalten\, neue Ideen einbringen oder …?Schauen Sie doch mal unverbindlich auf der LUX-Galerie vorbei – zum Beispiel amJeden zweiten Donnerstag im Monat jeweils ab 19 Uhr!Wir freuen uns drauf\, mit Ihnen ins Gespräch zu kommen!
URL:https://wandelstadt-esslingen.de/event/koki-stammtisch/2028-12-14/
LOCATION:KoKi Esslingen\, Maille 4-9\, Esslingen\, 73728
END:VEVENT
BEGIN:VEVENT
DTSTART;TZID=Europe/Berlin:20290111T190000
DTEND;TZID=Europe/Berlin:20290111T190000
DTSTAMP:20260421T202326
CREATED:20251125T192643Z
LAST-MODIFIED:20251125T192643Z
UID:10007283-1862852400-1862852400@wandelstadt-esslingen.de
SUMMARY:Koki-Stammtisch
DESCRIPTION:Sie wollen hinter die Kulissen des Koki schauen\, unsere Aktiven kennenlernen\, sich über Filme austauschen\, Programme mitgestalten\, neue Ideen einbringen oder …?Schauen Sie doch mal unverbindlich auf der LUX-Galerie vorbei – zum Beispiel amJeden zweiten Donnerstag im Monat jeweils ab 19 Uhr!Wir freuen uns drauf\, mit Ihnen ins Gespräch zu kommen!
URL:https://wandelstadt-esslingen.de/event/koki-stammtisch/2029-01-11/
LOCATION:KoKi Esslingen\, Maille 4-9\, Esslingen\, 73728
END:VEVENT
BEGIN:VEVENT
DTSTART;TZID=Europe/Berlin:20290208T190000
DTEND;TZID=Europe/Berlin:20290208T190000
DTSTAMP:20260421T202326
CREATED:20251125T192643Z
LAST-MODIFIED:20251125T192643Z
UID:10007284-1865271600-1865271600@wandelstadt-esslingen.de
SUMMARY:Koki-Stammtisch
DESCRIPTION:Sie wollen hinter die Kulissen des Koki schauen\, unsere Aktiven kennenlernen\, sich über Filme austauschen\, Programme mitgestalten\, neue Ideen einbringen oder …?Schauen Sie doch mal unverbindlich auf der LUX-Galerie vorbei – zum Beispiel amJeden zweiten Donnerstag im Monat jeweils ab 19 Uhr!Wir freuen uns drauf\, mit Ihnen ins Gespräch zu kommen!
URL:https://wandelstadt-esslingen.de/event/koki-stammtisch/2029-02-08/
LOCATION:KoKi Esslingen\, Maille 4-9\, Esslingen\, 73728
END:VEVENT
BEGIN:VEVENT
DTSTART;TZID=Europe/Berlin:20290308T190000
DTEND;TZID=Europe/Berlin:20290308T190000
DTSTAMP:20260421T202326
CREATED:20251125T192643Z
LAST-MODIFIED:20251125T192643Z
UID:10007285-1867690800-1867690800@wandelstadt-esslingen.de
SUMMARY:Koki-Stammtisch
DESCRIPTION:Sie wollen hinter die Kulissen des Koki schauen\, unsere Aktiven kennenlernen\, sich über Filme austauschen\, Programme mitgestalten\, neue Ideen einbringen oder …?Schauen Sie doch mal unverbindlich auf der LUX-Galerie vorbei – zum Beispiel amJeden zweiten Donnerstag im Monat jeweils ab 19 Uhr!Wir freuen uns drauf\, mit Ihnen ins Gespräch zu kommen!
URL:https://wandelstadt-esslingen.de/event/koki-stammtisch/2029-03-08/
LOCATION:KoKi Esslingen\, Maille 4-9\, Esslingen\, 73728
END:VEVENT
BEGIN:VEVENT
DTSTART;TZID=Europe/Berlin:20290412T190000
DTEND;TZID=Europe/Berlin:20290412T190000
DTSTAMP:20260421T202326
CREATED:20251125T192643Z
LAST-MODIFIED:20251125T192643Z
UID:10007286-1870714800-1870714800@wandelstadt-esslingen.de
SUMMARY:Koki-Stammtisch
DESCRIPTION:Sie wollen hinter die Kulissen des Koki schauen\, unsere Aktiven kennenlernen\, sich über Filme austauschen\, Programme mitgestalten\, neue Ideen einbringen oder …?Schauen Sie doch mal unverbindlich auf der LUX-Galerie vorbei – zum Beispiel amJeden zweiten Donnerstag im Monat jeweils ab 19 Uhr!Wir freuen uns drauf\, mit Ihnen ins Gespräch zu kommen!
URL:https://wandelstadt-esslingen.de/event/koki-stammtisch/2029-04-12/
LOCATION:KoKi Esslingen\, Maille 4-9\, Esslingen\, 73728
END:VEVENT
BEGIN:VEVENT
DTSTART;TZID=Europe/Berlin:20290510T190000
DTEND;TZID=Europe/Berlin:20290510T190000
DTSTAMP:20260421T202326
CREATED:20251125T192643Z
LAST-MODIFIED:20251125T192643Z
UID:10007287-1873134000-1873134000@wandelstadt-esslingen.de
SUMMARY:Koki-Stammtisch
DESCRIPTION:Sie wollen hinter die Kulissen des Koki schauen\, unsere Aktiven kennenlernen\, sich über Filme austauschen\, Programme mitgestalten\, neue Ideen einbringen oder …?Schauen Sie doch mal unverbindlich auf der LUX-Galerie vorbei – zum Beispiel amJeden zweiten Donnerstag im Monat jeweils ab 19 Uhr!Wir freuen uns drauf\, mit Ihnen ins Gespräch zu kommen!
URL:https://wandelstadt-esslingen.de/event/koki-stammtisch/2029-05-10/
LOCATION:KoKi Esslingen\, Maille 4-9\, Esslingen\, 73728
END:VEVENT
BEGIN:VEVENT
DTSTART;TZID=Europe/Berlin:20290614T190000
DTEND;TZID=Europe/Berlin:20290614T190000
DTSTAMP:20260421T202326
CREATED:20251125T192643Z
LAST-MODIFIED:20251125T192643Z
UID:10007288-1876158000-1876158000@wandelstadt-esslingen.de
SUMMARY:Koki-Stammtisch
DESCRIPTION:Sie wollen hinter die Kulissen des Koki schauen\, unsere Aktiven kennenlernen\, sich über Filme austauschen\, Programme mitgestalten\, neue Ideen einbringen oder …?Schauen Sie doch mal unverbindlich auf der LUX-Galerie vorbei – zum Beispiel amJeden zweiten Donnerstag im Monat jeweils ab 19 Uhr!Wir freuen uns drauf\, mit Ihnen ins Gespräch zu kommen!
URL:https://wandelstadt-esslingen.de/event/koki-stammtisch/2029-06-14/
LOCATION:KoKi Esslingen\, Maille 4-9\, Esslingen\, 73728
END:VEVENT
BEGIN:VEVENT
DTSTART;TZID=Europe/Berlin:20290712T190000
DTEND;TZID=Europe/Berlin:20290712T190000
DTSTAMP:20260421T202326
CREATED:20251125T192643Z
LAST-MODIFIED:20251125T192643Z
UID:10007289-1878577200-1878577200@wandelstadt-esslingen.de
SUMMARY:Koki-Stammtisch
DESCRIPTION:Sie wollen hinter die Kulissen des Koki schauen\, unsere Aktiven kennenlernen\, sich über Filme austauschen\, Programme mitgestalten\, neue Ideen einbringen oder …?Schauen Sie doch mal unverbindlich auf der LUX-Galerie vorbei – zum Beispiel amJeden zweiten Donnerstag im Monat jeweils ab 19 Uhr!Wir freuen uns drauf\, mit Ihnen ins Gespräch zu kommen!
URL:https://wandelstadt-esslingen.de/event/koki-stammtisch/2029-07-12/
LOCATION:KoKi Esslingen\, Maille 4-9\, Esslingen\, 73728
END:VEVENT
BEGIN:VEVENT
DTSTART;TZID=Europe/Berlin:20290809T190000
DTEND;TZID=Europe/Berlin:20290809T190000
DTSTAMP:20260421T202326
CREATED:20251125T192643Z
LAST-MODIFIED:20251125T192643Z
UID:10007290-1880996400-1880996400@wandelstadt-esslingen.de
SUMMARY:Koki-Stammtisch
DESCRIPTION:Sie wollen hinter die Kulissen des Koki schauen\, unsere Aktiven kennenlernen\, sich über Filme austauschen\, Programme mitgestalten\, neue Ideen einbringen oder …?Schauen Sie doch mal unverbindlich auf der LUX-Galerie vorbei – zum Beispiel amJeden zweiten Donnerstag im Monat jeweils ab 19 Uhr!Wir freuen uns drauf\, mit Ihnen ins Gespräch zu kommen!
URL:https://wandelstadt-esslingen.de/event/koki-stammtisch/2029-08-09/
LOCATION:KoKi Esslingen\, Maille 4-9\, Esslingen\, 73728
END:VEVENT
BEGIN:VEVENT
DTSTART;TZID=Europe/Berlin:20290913T190000
DTEND;TZID=Europe/Berlin:20290913T190000
DTSTAMP:20260421T202326
CREATED:20251125T192643Z
LAST-MODIFIED:20251125T192643Z
UID:10007291-1884020400-1884020400@wandelstadt-esslingen.de
SUMMARY:Koki-Stammtisch
DESCRIPTION:Sie wollen hinter die Kulissen des Koki schauen\, unsere Aktiven kennenlernen\, sich über Filme austauschen\, Programme mitgestalten\, neue Ideen einbringen oder …?Schauen Sie doch mal unverbindlich auf der LUX-Galerie vorbei – zum Beispiel amJeden zweiten Donnerstag im Monat jeweils ab 19 Uhr!Wir freuen uns drauf\, mit Ihnen ins Gespräch zu kommen!
URL:https://wandelstadt-esslingen.de/event/koki-stammtisch/2029-09-13/
LOCATION:KoKi Esslingen\, Maille 4-9\, Esslingen\, 73728
END:VEVENT
BEGIN:VEVENT
DTSTART;TZID=Europe/Berlin:20291011T190000
DTEND;TZID=Europe/Berlin:20291011T190000
DTSTAMP:20260421T202326
CREATED:20251125T192643Z
LAST-MODIFIED:20251125T192643Z
UID:10007292-1886439600-1886439600@wandelstadt-esslingen.de
SUMMARY:Koki-Stammtisch
DESCRIPTION:Sie wollen hinter die Kulissen des Koki schauen\, unsere Aktiven kennenlernen\, sich über Filme austauschen\, Programme mitgestalten\, neue Ideen einbringen oder …?Schauen Sie doch mal unverbindlich auf der LUX-Galerie vorbei – zum Beispiel amJeden zweiten Donnerstag im Monat jeweils ab 19 Uhr!Wir freuen uns drauf\, mit Ihnen ins Gespräch zu kommen!
URL:https://wandelstadt-esslingen.de/event/koki-stammtisch/2029-10-11/
LOCATION:KoKi Esslingen\, Maille 4-9\, Esslingen\, 73728
END:VEVENT
END:VCALENDAR