BEGIN:VCALENDAR
VERSION:2.0
PRODID:-//Wandelstadt Esslingen - ECPv6.15.20//NONSGML v1.0//EN
CALSCALE:GREGORIAN
METHOD:PUBLISH
X-ORIGINAL-URL:https://wandelstadt-esslingen.de
X-WR-CALDESC:Veranstaltungen für Wandelstadt Esslingen
REFRESH-INTERVAL;VALUE=DURATION:PT1H
X-Robots-Tag:noindex
X-PUBLISHED-TTL:PT1H
BEGIN:VTIMEZONE
TZID:Europe/Berlin
BEGIN:DAYLIGHT
TZOFFSETFROM:+0100
TZOFFSETTO:+0200
TZNAME:CEST
DTSTART:20220327T010000
END:DAYLIGHT
BEGIN:STANDARD
TZOFFSETFROM:+0200
TZOFFSETTO:+0100
TZNAME:CET
DTSTART:20221030T010000
END:STANDARD
BEGIN:DAYLIGHT
TZOFFSETFROM:+0100
TZOFFSETTO:+0200
TZNAME:CEST
DTSTART:20230326T010000
END:DAYLIGHT
BEGIN:STANDARD
TZOFFSETFROM:+0200
TZOFFSETTO:+0100
TZNAME:CET
DTSTART:20231029T010000
END:STANDARD
BEGIN:DAYLIGHT
TZOFFSETFROM:+0100
TZOFFSETTO:+0200
TZNAME:CEST
DTSTART:20240331T010000
END:DAYLIGHT
BEGIN:STANDARD
TZOFFSETFROM:+0200
TZOFFSETTO:+0100
TZNAME:CET
DTSTART:20241027T010000
END:STANDARD
BEGIN:DAYLIGHT
TZOFFSETFROM:+0100
TZOFFSETTO:+0200
TZNAME:CEST
DTSTART:20250330T010000
END:DAYLIGHT
BEGIN:STANDARD
TZOFFSETFROM:+0200
TZOFFSETTO:+0100
TZNAME:CET
DTSTART:20251026T010000
END:STANDARD
BEGIN:DAYLIGHT
TZOFFSETFROM:+0100
TZOFFSETTO:+0200
TZNAME:CEST
DTSTART:20260329T010000
END:DAYLIGHT
BEGIN:STANDARD
TZOFFSETFROM:+0200
TZOFFSETTO:+0100
TZNAME:CET
DTSTART:20261025T010000
END:STANDARD
BEGIN:DAYLIGHT
TZOFFSETFROM:+0100
TZOFFSETTO:+0200
TZNAME:CEST
DTSTART:20270328T010000
END:DAYLIGHT
BEGIN:STANDARD
TZOFFSETFROM:+0200
TZOFFSETTO:+0100
TZNAME:CET
DTSTART:20271031T010000
END:STANDARD
END:VTIMEZONE
BEGIN:VEVENT
DTSTART;TZID=Europe/Berlin:20260409T190000
DTEND;TZID=Europe/Berlin:20260409T190000
DTSTAMP:20260421T184119
CREATED:20251125T192643Z
LAST-MODIFIED:20251125T192643Z
UID:10007250-1775761200-1775761200@wandelstadt-esslingen.de
SUMMARY:Koki-Stammtisch
DESCRIPTION:Sie wollen hinter die Kulissen des Koki schauen\, unsere Aktiven kennenlernen\, sich über Filme austauschen\, Programme mitgestalten\, neue Ideen einbringen oder …?Schauen Sie doch mal unverbindlich auf der LUX-Galerie vorbei – zum Beispiel amJeden zweiten Donnerstag im Monat jeweils ab 19 Uhr!Wir freuen uns drauf\, mit Ihnen ins Gespräch zu kommen!
URL:https://wandelstadt-esslingen.de/event/koki-stammtisch/2026-04-09/
LOCATION:KoKi Esslingen\, Maille 4-9\, Esslingen\, 73728
END:VEVENT
BEGIN:VEVENT
DTSTART;TZID=Europe/Berlin:20260312T190000
DTEND;TZID=Europe/Berlin:20260312T190000
DTSTAMP:20260421T184119
CREATED:20251125T192643Z
LAST-MODIFIED:20251125T192643Z
UID:10007249-1773342000-1773342000@wandelstadt-esslingen.de
SUMMARY:Koki-Stammtisch
DESCRIPTION:Sie wollen hinter die Kulissen des Koki schauen\, unsere Aktiven kennenlernen\, sich über Filme austauschen\, Programme mitgestalten\, neue Ideen einbringen oder …?Schauen Sie doch mal unverbindlich auf der LUX-Galerie vorbei – zum Beispiel amJeden zweiten Donnerstag im Monat jeweils ab 19 Uhr!Wir freuen uns drauf\, mit Ihnen ins Gespräch zu kommen!
URL:https://wandelstadt-esslingen.de/event/koki-stammtisch/2026-03-12/
LOCATION:KoKi Esslingen\, Maille 4-9\, Esslingen\, 73728
END:VEVENT
BEGIN:VEVENT
DTSTART;TZID=Europe/Berlin:20260212T190000
DTEND;TZID=Europe/Berlin:20260212T190000
DTSTAMP:20260421T184119
CREATED:20251125T192643Z
LAST-MODIFIED:20251125T192643Z
UID:10007248-1770922800-1770922800@wandelstadt-esslingen.de
SUMMARY:Koki-Stammtisch
DESCRIPTION:Sie wollen hinter die Kulissen des Koki schauen\, unsere Aktiven kennenlernen\, sich über Filme austauschen\, Programme mitgestalten\, neue Ideen einbringen oder …?Schauen Sie doch mal unverbindlich auf der LUX-Galerie vorbei – zum Beispiel amJeden zweiten Donnerstag im Monat jeweils ab 19 Uhr!Wir freuen uns drauf\, mit Ihnen ins Gespräch zu kommen!
URL:https://wandelstadt-esslingen.de/event/koki-stammtisch/2026-02-12/
LOCATION:KoKi Esslingen\, Maille 4-9\, Esslingen\, 73728
END:VEVENT
BEGIN:VEVENT
DTSTART;TZID=Europe/Berlin:20260212T180000
DTEND;TZID=Europe/Berlin:20260212T200000
DTSTAMP:20260421T184119
CREATED:20260124T174418Z
LAST-MODIFIED:20260126T193811Z
UID:10008802-1770919200-1770926400@wandelstadt-esslingen.de
SUMMARY:Noch lange keine Lipizzaner
DESCRIPTION:Do | 12.02.2026 | 18.00 Uhr \n\n92 Minuten | FSK 0  | deutsche Originalfassung Special > Filmreihe „Filme gegen Rechts“ In Zusammenarbeit mit OMAS GEGEN RECHTS Esslingen e.V. \n\nOlga Kosanović lebt seit ihrer Geburt 1995 in Wien – doch ihr Antrag auf die österreichische Staatsbürgerschaft wird abgelehnt. Warum? Sie war im Laufe ihres Lebens insgesamt 58 Tage zu lange im Ausland. Diese persönlichen Erfahrungen sind der Ausgangspunkt für eine humorvolle und vielschichtige Auseinandersetzung mit den Themen Zugehörigkeit\, Nation und Identität. Spielerisch kombiniert der Film Dokumentation\, Performance\, Interviews und Archivmaterial. \nDie Regisseurin hinterfragt die Rituale rund um Staatsbürgerschaft und zeigt\, wie absurd und willkürlich die Regeln oft sein können. Dabei nimmt sie auch nationale Mythen ins Visier – etwa das Symbol der Lipizzaner. Durch Gespräche mit Jurist:innen\, Philosoph:innen und Künstler:innen hinterfragt Kosanović mit scharfem Blick\, wer dazugehören darf – und warum. Ein sehr persönliches und zugleich universelles Plädoyer für ein offeneres Verständnis von Zugehörigkeit.
URL:https://wandelstadt-esslingen.de/event/noch-lange-keine-lipizzaner/
LOCATION:KoKi Esslingen\, Maille 4-9\, Esslingen\, 73728
CATEGORIES:Gemütliches Treffen,Kulturveranstaltung,Live-Veranstaltung
END:VEVENT
BEGIN:VEVENT
DTSTART;TZID=Europe/Berlin:20260211T183000
DTEND;TZID=Europe/Berlin:20260211T210000
DTSTAMP:20260421T184119
CREATED:20260124T192649Z
LAST-MODIFIED:20260124T192649Z
UID:10008823-1770834600-1770843600@wandelstadt-esslingen.de
SUMMARY:Das fast normale Leben
DESCRIPTION:DAS FAST NORMALE LEBEN beobachtet den Alltag von vier Mädchen in einer Wohngruppe für Kinder und Jugendliche der Evangelischen Jugendhilfe Friedenshort. Getrennt von ihren Eltern ringen sie um Anerkennung\, Selbstliebe\, Selbstbestimmung und Geborgenheit.\n \nÜber einen Zeitraum von zwei Jahren begleiten wir ihre Entwicklung durch Höhen und Tiefen\, spüren ihre Wut und ihre Willenskraft\, sehen sie in Interaktion mit Betreuer:innen\, Pädagog:innen\, Eltern und Institutionen. Der Film erzählt vom Mut und der Resilienz junger Menschen\, die inmitten schwieriger Umstände versuchen\, ihren eigenen Weg zu finden. Ohne Schuldzuweisungen bietet der Film einen authentischen Einblick in den Alltag in der Jugendhilfe. \nIn Kooperation imit der Evangelischen Jugendhilfe Friedenshort | im Anschluss Talk mit Cordula Bächle-Walter\, Regionalleitung Friedenshort Süd und Stefan Sick (Regie\, Buch\, Kamera) \n  \nErmäßigt: 8 €
URL:https://wandelstadt-esslingen.de/event/das-fast-normale-leben/
LOCATION:KoKi Esslingen\, Maille 4-9\, Esslingen\, 73728
CATEGORIES:Kunst,Live-Veranstaltung
END:VEVENT
BEGIN:VEVENT
DTSTART;TZID=Europe/Berlin:20260108T190000
DTEND;TZID=Europe/Berlin:20260108T190000
DTSTAMP:20260421T184119
CREATED:20251125T192643Z
LAST-MODIFIED:20251125T192643Z
UID:10007247-1767898800-1767898800@wandelstadt-esslingen.de
SUMMARY:Koki-Stammtisch
DESCRIPTION:Sie wollen hinter die Kulissen des Koki schauen\, unsere Aktiven kennenlernen\, sich über Filme austauschen\, Programme mitgestalten\, neue Ideen einbringen oder …?Schauen Sie doch mal unverbindlich auf der LUX-Galerie vorbei – zum Beispiel amJeden zweiten Donnerstag im Monat jeweils ab 19 Uhr!Wir freuen uns drauf\, mit Ihnen ins Gespräch zu kommen!
URL:https://wandelstadt-esslingen.de/event/koki-stammtisch/2026-01-08/
LOCATION:KoKi Esslingen\, Maille 4-9\, Esslingen\, 73728
END:VEVENT
BEGIN:VEVENT
DTSTART;TZID=Europe/Berlin:20251211T190000
DTEND;TZID=Europe/Berlin:20251211T190000
DTSTAMP:20260421T184119
CREATED:20251125T192643Z
LAST-MODIFIED:20251125T192643Z
UID:10007246-1765479600-1765479600@wandelstadt-esslingen.de
SUMMARY:Koki-Stammtisch
DESCRIPTION:Sie wollen hinter die Kulissen des Koki schauen\, unsere Aktiven kennenlernen\, sich über Filme austauschen\, Programme mitgestalten\, neue Ideen einbringen oder …?Schauen Sie doch mal unverbindlich auf der LUX-Galerie vorbei – zum Beispiel amJeden zweiten Donnerstag im Monat jeweils ab 19 Uhr!Wir freuen uns drauf\, mit Ihnen ins Gespräch zu kommen!
URL:https://wandelstadt-esslingen.de/event/koki-stammtisch/2025-12-11/
LOCATION:KoKi Esslingen\, Maille 4-9\, Esslingen\, 73728
END:VEVENT
BEGIN:VEVENT
DTSTART;TZID=Europe/Berlin:20251101T190000
DTEND;TZID=Europe/Berlin:20251101T213000
DTSTAMP:20260421T184119
CREATED:20250818T182106Z
LAST-MODIFIED:20250818T182409Z
UID:10006167-1762023600-1762032600@wandelstadt-esslingen.de
SUMMARY:GLASS WORLD – Kino im KoKi Esslingen mit Talk zum World Vegan Day 1.11.2025
DESCRIPTION:Samstag 1.11. um 19 Uhr zeigen wir den Kinofilm „Glass World“ & anschließender Talk \nder Regisseur des Films Raphael Sommer gibt uns die Ehre sowie weiteren interessanten Gäste und Mitwirkenden des Films zum Welt-Vegan-Tag im Kommunalen Kino in Esslingen \n  \nDer Film besticht mit tollen Bildern\, wundervoller musikalischer Umrahmung und aufrüttelnder Message. \n  \nNatürlich wieder dabei: der wunderbare Tim Werner von Vegans for Future\, und wir freuen uns auch auf Carsten Kreimer vom Podcast „Gans normal vegan“ – beide werden die Moderation des interessanten\, gemütlichen Talks übernehmen. \n  \nBESONDERES HIGHLIGHT >>> \nGrußbotschaft von Kriminalbiologe und Klimaschützer Dr. Mark Benecke\, \nder intensiv am Film mitgewirkt hat. \n  \nAb ca. 18 Uhr laden wir alle Filmgäste zum „Meet & Greet“ ein – gemeinsames Essen und Austausch im Lux (ans KoKi angrenzende Gastronomie) mit wie immer leckeren pflanzlichen Gerichten \n  \nWo: im Kommunalen Kino in Esslingen\, Maille 4-9\, 73728 Esslingen \n  \nKino-Eintritt: 10 Euro (ermäßigt 7 Euro) \n  \nWir freuen uns mit Euch auf einen schönen\,nachdenklichen\, inspirierenden Film mit musikalischer Umrahmung. \nBringt Freund*innen\, Familie\, Bekannte… bringt tolle Menschen mit. \n  \n  \nKommt vorbei\, lasst Euch begeistern\, lass uns gemeinsam dran bleiben & im Alltag Gutes tun für uns selbst\, die (Um)Welt und die Tiere 🙂 \n 
URL:https://wandelstadt-esslingen.de/event/glass-world-kino-im-koki-esslingen-mit-talk-zum-world-vegan-day-1-11-2025/
LOCATION:KoKi Esslingen\, Maille 4-9\, Esslingen\, 73728
ORGANIZER;CN="ZuZule":MAILTO:zuzule@mail.de
END:VEVENT
BEGIN:VEVENT
DTSTART;TZID=Europe/Berlin:20251002T190000
DTEND;TZID=Europe/Berlin:20251002T213000
DTSTAMP:20260421T184119
CREATED:20250929T133157Z
LAST-MODIFIED:20250929T133157Z
UID:10006628-1759431600-1759440600@wandelstadt-esslingen.de
SUMMARY:Die Möllner Briefe – Film und Talk im Kommunalen Kino
DESCRIPTION:„Ein Film\, der wehtut\, der wütend macht. Und ein Film\, der gleichzeitig Hoffnung gibt – weil er zeigt\, dass es Menschen gibt\, die sich gegen das Vergessen wehren.“ (taz.de) \nNach dem rassistischen Brandanschlag 1992 erhielt die Stadt Mölln Hunderte von Briefen mit Solidaritätsbekundungen. Diese wurden den Betroffenen jedoch von der Stadtverwaltung vorenthalten. Der Film folgt dem damals 7-jährigen Ibrahim Arslan\, der Teile seiner Familie verlor\, bei der späten Entdeckung dieser Briefe und bei der Begegnung mit drei ihrer Verfasser:innen. Er hat einen Umgang mit den Geschehnissen gefunden\, indem er aktiv gegen Rassismus und für eine Erinnerungskultur kämpft. \nAnlässlich der 75. Berlinale feierte der Film im Jahr 2025 in der Sektion Panorama seine Weltpremiere. \n95 Minuten Dauer anschließend Talk mit Martina Priessner\, Regisseurin \nModeration: Dilnaz Alhan\, Amnesty Activism
URL:https://wandelstadt-esslingen.de/event/die-moellner-briefe-film-und-talk-im-kommunalen-kino/
LOCATION:KoKi Esslingen\, Maille 4-9\, Esslingen\, 73728
CATEGORIES:Kulturveranstaltung
ORGANIZER;CN="OMAS GEGEN RECHTS Esslingen":MAILTO:ogr-esslingen@posteo.de
END:VEVENT
BEGIN:VEVENT
DTSTART;TZID=Europe/Berlin:20250603T183000
DTEND;TZID=Europe/Berlin:20250603T210000
DTSTAMP:20260421T184119
CREATED:20250515T190617Z
LAST-MODIFIED:20250515T190617Z
UID:10005395-1748975400-1748984400@wandelstadt-esslingen.de
SUMMARY:Live-Vortrag: Mit dem E-Bike durch die unbekannte Heimat
DESCRIPTION:„Deutschland ist für mich eines der abwechslungsreichsten und interessantesten Länder\, die ich bisher besucht habe. Ich war überrascht\, wieviele traumhafte Landschaften und wieviele hilfsbereite\, gastfreundliche Menschen es direkt vor meiner Haustür gibt. Es war faszinierend.“ \nMaximilian Semsch radelte bereits über 50.000 km durch über 30 Länder\, bis er feststellte\, dass er sich in Thailand und Australien besser auskannte als vor der eigenen Haustüre. \nDies sollte sich ändern\, und so fuhr Semsch 2016 über vier Monate lang mit seinem E-Bike durch alle 16 Bundesländer und legte dabei 7.500 km zurück. Auf der Tour traf er sich mit fast 200 Leuten\, vom Busfahrer zum App-Entwickler bis hin zu Skisprunglegende Jens Weißflog\, die ihm alle ein Stück ihrer Heimat zeigten. \nUnd die Faszination Heimat wird Maximilian Semsch den Besucher:innen in seinem kurzweiligen\, humorvollen und bildgewaltigen Vortrag näher bringen. \nDiese Veranstaltung findet im Rahmen des Wettbewerbs STADTRADELN statt. \n\n\n\n\nPreis \n\n10€ Eintritt\, 7€ ermäßigt
URL:https://wandelstadt-esslingen.de/event/live-vortrag-mit-dem-e-bike-durch-die-unbekannte-heimat/
LOCATION:KoKi Esslingen\, Maille 4-9\, Esslingen\, 73728
END:VEVENT
BEGIN:VEVENT
DTSTART;TZID=Europe/Berlin:20250410T180000
DTEND;TZID=Europe/Berlin:20250410T200000
DTSTAMP:20260421T184119
CREATED:20250322T151126Z
LAST-MODIFIED:20250322T151126Z
UID:10004947-1744308000-1744315200@wandelstadt-esslingen.de
SUMMARY:Mehr als wohnungslos
DESCRIPTION:Der Film ist im Zuge eines einjährigen Projekts der Hochschule Esslingen entstanden als ein Versuch\, mit dem klassischen Stigma der Wohnungslosigkeit\, dem Bild des bärtigen\, schuldigen Alkoholikers zu brechen. Die Filmemacher:innen nutzen ihren Zugang zur Praxis im Bereich der Wohnungsnotfallhilfe und begleiten vier Männer aus der Stuttgarter Wohnungslosenszene in ihrem Alltag\, um wertvolle Stimmen hörbar zu machen. Der Film soll aufzeigen\, dass sich neben existenziell drängenden Situationen und leidbehafteten Umständen Freude\, Motivation\, Ideen\, Spaß\, Kreativität und Kraft finden lassen. Betroffene sind MEHR ALS WOHNUNGSLOS! \nDanach Talk mit Michelle Volkmar & Levent Gediz \, Regisseur:innen\, Prof. Dr. Claudia Daigler\, Hochschule Esslingen\, Corinna Lenhart\, Vorstandsvorsitzende der Selbstvertretung wohnungsloser Menschen sowie Protagonisten des Films darüber\, dass Wohnungslosigkeit kein individuelles\, sondern ein strukturelles Problem ist.
URL:https://wandelstadt-esslingen.de/event/mehr-als-wohnungslos/
LOCATION:KoKi Esslingen\, Maille 4-9\, Esslingen\, 73728
CATEGORIES:Kulturveranstaltung
END:VEVENT
BEGIN:VEVENT
DTSTART;TZID=Europe/Berlin:20250320T180000
DTEND;TZID=Europe/Berlin:20250320T210000
DTSTAMP:20260421T184119
CREATED:20250228T190001Z
LAST-MODIFIED:20250228T190001Z
UID:10004915-1742493600-1742504400@wandelstadt-esslingen.de
SUMMARY:GREENBORDER Film und Talk
DESCRIPTION:Einleitung & informeller Dialog mit Mitarbeiterinnen der Antidiskriminierungsstelle\nEsslingen (ADES) und Expert*innen aus der Geflüchtetenberatung\nDer Film „Green Border“ von Agnieszka Holland ist ein intensives Drama und zeigt die\nunmenschlichen Bedingungen für Geflüchtete an der Grenze zwischen Belarus und Polen.\nDabei werden verschiedene Perspektiven beleuchtet\, darunter die einer syrischen Familie\,\neiner afghanischen Englischlehrerin\, einer polnischen Psychotherapeutin\, welche sich einer\nGruppe Aktivist*innen anschließt und eines polnischen Grenzbeamten. Der Film wurde beim\nFilmfestival von Venedig 2023 mit dem Spezialpreis der Jury ausgezeichnet.\nDer Film ist in schwarz-weiß.\nDer informelle Dialog wird interaktiv mit einer „Wand der Eindrücke“ ergänzt. Besucher*innen\nkönnen nach der Filmvorführung ihre Eindrücke\, Gefühle\, Sorgen und Ängste an dieser Wand\nzum Ausdruck bringen. Bei Wunsch kann ein informeller Dialog mit Mitarbeiter*innen der\nAntidiskriminierungsstelle Esslingen und Expert*innen aus der Beratung für Menschen mit\nFluchterfahrung geführt werden.
URL:https://wandelstadt-esslingen.de/event/greenborder-film-und-talk/
LOCATION:KoKi Esslingen\, Maille 4-9\, Esslingen\, 73728
END:VEVENT
BEGIN:VEVENT
DTSTART;TZID=Europe/Berlin:20241101T190000
DTEND;TZID=Europe/Berlin:20241101T213000
DTSTAMP:20260421T184119
CREATED:20240804T173221Z
LAST-MODIFIED:20240804T174225Z
UID:10003912-1730487600-1730496600@wandelstadt-esslingen.de
SUMMARY:ZuZule-Film&Talk „Die Q ist ein Tier“
DESCRIPTION:World Vegan Day zum 3ten Mal im KoKi Esslingen\nWir zeigen den ganz aktuellen Film „Die Q ist ein Tier“ nach dem Buch von Hilal Sezgin \nTalk im Anschluss an den Film\nEintritt fürs Kino: 10 Euro / 7 Euro ermäßigt \nIn Kooperation mit Liberation Stuttgart!\,  ARIWA Esslingen\, Vegans for Future \nMit Bewirtung im Lux (ans KoKi angrenzende Gastronomie) und ZuZule-Infostand\, also gerne früher vor Ort sein. \n 
URL:https://wandelstadt-esslingen.de/event/zuzule-filmtalk-die-q-ist-ein-tier/
LOCATION:KoKi Esslingen\, Maille 4-9\, Esslingen\, 73728
CATEGORIES:Infoveranstaltung,Kulturveranstaltung
ORGANIZER;CN="ZuZule":MAILTO:zuzule@mail.de
END:VEVENT
BEGIN:VEVENT
DTSTART;TZID=Europe/Berlin:20231101T190000
DTEND;TZID=Europe/Berlin:20231101T213000
DTSTAMP:20260421T184119
CREATED:20231001T203820Z
LAST-MODIFIED:20231003T125351Z
UID:10002020-1698865200-1698874200@wandelstadt-esslingen.de
SUMMARY:World Vegan Day
DESCRIPTION:am 1.11.2023 im KoKi Esslingen (zum 2ten Mal)\nFilmvorführung: HOPE FOR ALL. UNSERE NAHRUNG – UNSERE HOFFNUNG\, (100 min)\nmit anschließender Gesprächsrunde\nGesamtdauer: 19 bis 21:30 Uhr\nTicketpreise: regulär: 10€\, ermäßigt: 7€\nmehr Infos auf der KoKi-Seite: https://bit.ly/451tySl\nin Kooperation mit: L!beration Stuttgart\, Vegans for Future…
URL:https://wandelstadt-esslingen.de/event/world-vegan-day/
LOCATION:KoKi Esslingen\, Maille 4-9\, Esslingen\, 73728
ORGANIZER;CN="ZuZule":MAILTO:zuzule@mail.de
END:VEVENT
END:VCALENDAR