BEGIN:VCALENDAR
VERSION:2.0
PRODID:-//Wandelstadt Esslingen - ECPv6.15.20//NONSGML v1.0//EN
CALSCALE:GREGORIAN
METHOD:PUBLISH
X-ORIGINAL-URL:https://wandelstadt-esslingen.de
X-WR-CALDESC:Veranstaltungen für Wandelstadt Esslingen
REFRESH-INTERVAL;VALUE=DURATION:PT1H
X-Robots-Tag:noindex
X-PUBLISHED-TTL:PT1H
BEGIN:VTIMEZONE
TZID:Europe/Berlin
BEGIN:DAYLIGHT
TZOFFSETFROM:+0100
TZOFFSETTO:+0200
TZNAME:CEST
DTSTART:20250330T010000
END:DAYLIGHT
BEGIN:STANDARD
TZOFFSETFROM:+0200
TZOFFSETTO:+0100
TZNAME:CET
DTSTART:20251026T010000
END:STANDARD
BEGIN:DAYLIGHT
TZOFFSETFROM:+0100
TZOFFSETTO:+0200
TZNAME:CEST
DTSTART:20260329T010000
END:DAYLIGHT
BEGIN:STANDARD
TZOFFSETFROM:+0200
TZOFFSETTO:+0100
TZNAME:CET
DTSTART:20261025T010000
END:STANDARD
BEGIN:DAYLIGHT
TZOFFSETFROM:+0100
TZOFFSETTO:+0200
TZNAME:CEST
DTSTART:20270328T010000
END:DAYLIGHT
BEGIN:STANDARD
TZOFFSETFROM:+0200
TZOFFSETTO:+0100
TZNAME:CET
DTSTART:20271031T010000
END:STANDARD
END:VTIMEZONE
BEGIN:VEVENT
DTSTART;TZID=Europe/Berlin:20260129T140000
DTEND;TZID=Europe/Berlin:20260129T160000
DTSTAMP:20260421T222127
CREATED:20260103T110544Z
LAST-MODIFIED:20260103T110544Z
UID:10008233-1769695200-1769702400@wandelstadt-esslingen.de
SUMMARY:Kostenloser Smartphone-Kurs für Senioren
DESCRIPTION:Auch im neuen Jahr bietet der StadtSeniorenRat in Zusammenarbeit mit zwei Esslinger Schulen monatlich kostenlose Smartphone-Kurse für Seniorinnen und Senioren an. Den Anfang machen die jungen  Expertinnen und Experten der Käthe-Kollwitz-Schule. Die Schülerinnen und Schüler beantworten im persönlichen Einzelgespräch alle Fragen rund um die vielfältige Nutzung des Smartphones. Der Kurs findet in den Räumen 015 und 016 statt. Anmeldung 0711 3607- 400
URL:https://wandelstadt-esslingen.de/event/kostenloser-smartphone-kurs-fuer-senioren-3/
LOCATION:Käthe-Kollwitz-Schule\, Steinbeisstr. 17\, Esslingen
CATEGORIES:Infoveranstaltung
ATTACH;FMTTYPE=image/jpeg:https://wandelstadt-esslingen.de/wp-content/uploads/2025/06/old-man-6664138_640.jpg
END:VEVENT
END:VCALENDAR