BEGIN:VCALENDAR
VERSION:2.0
PRODID:-//Wandelstadt Esslingen - ECPv6.15.20//NONSGML v1.0//EN
CALSCALE:GREGORIAN
METHOD:PUBLISH
X-ORIGINAL-URL:https://wandelstadt-esslingen.de
X-WR-CALDESC:Veranstaltungen für Wandelstadt Esslingen
REFRESH-INTERVAL;VALUE=DURATION:PT1H
X-Robots-Tag:noindex
X-PUBLISHED-TTL:PT1H
BEGIN:VTIMEZONE
TZID:Europe/Berlin
BEGIN:DAYLIGHT
TZOFFSETFROM:+0100
TZOFFSETTO:+0200
TZNAME:CEST
DTSTART:20240331T010000
END:DAYLIGHT
BEGIN:STANDARD
TZOFFSETFROM:+0200
TZOFFSETTO:+0100
TZNAME:CET
DTSTART:20241027T010000
END:STANDARD
BEGIN:DAYLIGHT
TZOFFSETFROM:+0100
TZOFFSETTO:+0200
TZNAME:CEST
DTSTART:20250330T010000
END:DAYLIGHT
BEGIN:STANDARD
TZOFFSETFROM:+0200
TZOFFSETTO:+0100
TZNAME:CET
DTSTART:20251026T010000
END:STANDARD
BEGIN:DAYLIGHT
TZOFFSETFROM:+0100
TZOFFSETTO:+0200
TZNAME:CEST
DTSTART:20260329T010000
END:DAYLIGHT
BEGIN:STANDARD
TZOFFSETFROM:+0200
TZOFFSETTO:+0100
TZNAME:CET
DTSTART:20261025T010000
END:STANDARD
END:VTIMEZONE
BEGIN:VEVENT
DTSTART;TZID=Europe/Berlin:20251125T143000
DTEND;TZID=Europe/Berlin:20251125T163000
DTSTAMP:20260421T234427
CREATED:20251029T175211Z
LAST-MODIFIED:20251029T175211Z
UID:10007139-1764081000-1764088200@wandelstadt-esslingen.de
SUMMARY:Sichtbar gegen Gewalt an Frauen (FLINTA*)
DESCRIPTION:Aktion im öffentlichen Raum \nWildwasser Esslingen e.V. und Frauen helfen Frauen Esslingen e.V. setzen gemeinsam ein sichtbares Zeichen gegen Gewalt an Frauen (FLINTA*). \nDie Aktion verläuft nacheinander auf der Inneren Brücke und auf der Agnesbrücke. „Zeitungsleserinnen“ sorgen mit eindrücklichen Fakten auf Plakaten für Irritation und Nachdenken. Zwei weitere Personen stellen Interessierten Informationsmaterial zur Verfügung. Mit dieser stillen\, aber unübersehbaren Aktion wollen wir auf die allgegenwärtige Gewalt an Frauen (FLINTA*) aufmerksam machen\, ins Gespräch kommen\, Bewusstsein schaffen und Solidarität zeigen. \nKommen Sie vorbei und lesen Sie die bedeutsamste Zeitung an diesem Tag! \n\n\n\n\n\n\nPräsentiert von Wildwasser Esslingen e.V. und Frauen helfen Frauen Esslingen e.V.
URL:https://wandelstadt-esslingen.de/event/sichtbar-gegen-gewalt-an-frauen-flinta/
LOCATION:Innere Brücke\, Innere Brücke\, Esslingen\, 73728
END:VEVENT
BEGIN:VEVENT
DTSTART;TZID=Europe/Berlin:20250308T110000
DTEND;TZID=Europe/Berlin:20250308T110000
DTSTAMP:20260421T234427
CREATED:20250226T083640Z
LAST-MODIFIED:20250226T083640Z
UID:10004913-1741431600-1741431600@wandelstadt-esslingen.de
SUMMARY:Mahnwache: Femizide stoppen
DESCRIPTION:Das eigene Zuhause ist für viel Frauen der gefährlichste Ort der Welt. \nSetze ein starkes Zeichen gegen patriarchale Gewalt und Femizide – komm zu unserer Mahnwache! \nWir veranstalten die Mahnwache\, um im Stillen der in Deutschland ermordeten Frauen* zu gedenken und einen Raum zu eröffnen\, der ermöglicht\, miteinander ins Gespräch zu kommen\, Ratlosigkeit\, Trauer oder auch Wut gemeinsam zu begegnen. \nGewalt gegen Frauen* hat System – und der Femizid ist die grausame Spitze patriarchaler Gewalt. Wird uns eine Frau* genommen\, antworten wir alle. \nKommt zahlreich\, seid solidarisch! \nUnd bringt gerne auch Blumen und Kerzen zur Mahnwache mit.
URL:https://wandelstadt-esslingen.de/event/mahnwache-femizide-stoppen/
LOCATION:Innere Brücke\, Innere Brücke\, Esslingen\, 73728
END:VEVENT
END:VCALENDAR