BEGIN:VCALENDAR
VERSION:2.0
PRODID:-//Wandelstadt Esslingen - ECPv6.15.20//NONSGML v1.0//EN
CALSCALE:GREGORIAN
METHOD:PUBLISH
X-ORIGINAL-URL:https://wandelstadt-esslingen.de
X-WR-CALDESC:Veranstaltungen für Wandelstadt Esslingen
REFRESH-INTERVAL;VALUE=DURATION:PT1H
X-Robots-Tag:noindex
X-PUBLISHED-TTL:PT1H
BEGIN:VTIMEZONE
TZID:Europe/Berlin
BEGIN:DAYLIGHT
TZOFFSETFROM:+0100
TZOFFSETTO:+0200
TZNAME:CEST
DTSTART:20240331T010000
END:DAYLIGHT
BEGIN:STANDARD
TZOFFSETFROM:+0200
TZOFFSETTO:+0100
TZNAME:CET
DTSTART:20241027T010000
END:STANDARD
BEGIN:DAYLIGHT
TZOFFSETFROM:+0100
TZOFFSETTO:+0200
TZNAME:CEST
DTSTART:20250330T010000
END:DAYLIGHT
BEGIN:STANDARD
TZOFFSETFROM:+0200
TZOFFSETTO:+0100
TZNAME:CET
DTSTART:20251026T010000
END:STANDARD
BEGIN:DAYLIGHT
TZOFFSETFROM:+0100
TZOFFSETTO:+0200
TZNAME:CEST
DTSTART:20260329T010000
END:DAYLIGHT
BEGIN:STANDARD
TZOFFSETFROM:+0200
TZOFFSETTO:+0100
TZNAME:CET
DTSTART:20261025T010000
END:STANDARD
BEGIN:DAYLIGHT
TZOFFSETFROM:+0100
TZOFFSETTO:+0200
TZNAME:CEST
DTSTART:20270328T010000
END:DAYLIGHT
BEGIN:STANDARD
TZOFFSETFROM:+0200
TZOFFSETTO:+0100
TZNAME:CET
DTSTART:20271031T010000
END:STANDARD
END:VTIMEZONE
BEGIN:VEVENT
DTSTART;TZID=Europe/Berlin:20260121T180000
DTEND;TZID=Europe/Berlin:20260121T191500
DTSTAMP:20260422T032557
CREATED:20251207T102043Z
LAST-MODIFIED:20251207T102043Z
UID:10007855-1769018400-1769022900@wandelstadt-esslingen.de
SUMMARY:Ashtanga Yoga im Bürgerforum Esslingen
DESCRIPTION:Wir treffen uns wöchentlich zu einem „Flow am Abend“. Es werden unterschiedliche Asanas (Haltungen) und unterschiedliche anatomische Schwerpunkte gesetzt. Dabei orinetiere ich mich an der ersten Serie des Ashtanga-Yogas. \nBürgerforum\nSchelztorstraße 38 blau\,\n73728 Esslingen\n‍\nmittwochs 18-19:15 Uhr\nkostenlos \nan folgenden Tagen entfällt der Kurs:\n24.12.2025\, 31.12.2025
URL:https://wandelstadt-esslingen.de/event/ashtanga-yoga-im-buergerforum-esslingen/2026-01-21/
LOCATION:Forum Esslingen\, Schelztorstraße 38\, Esslingen\, 73728
CATEGORIES:Achtsamkeit,Sport und Gesundheit,Yoga
ORGANIZER;CN="Ashtanga Yoga Gruppe":MAILTO:fothalexander.yoga@outlook.de
END:VEVENT
BEGIN:VEVENT
DTSTART;TZID=Europe/Berlin:20260114T180000
DTEND;TZID=Europe/Berlin:20260114T191500
DTSTAMP:20260422T032557
CREATED:20251207T102043Z
LAST-MODIFIED:20251207T102043Z
UID:10007854-1768413600-1768418100@wandelstadt-esslingen.de
SUMMARY:Ashtanga Yoga im Bürgerforum Esslingen
DESCRIPTION:Wir treffen uns wöchentlich zu einem „Flow am Abend“. Es werden unterschiedliche Asanas (Haltungen) und unterschiedliche anatomische Schwerpunkte gesetzt. Dabei orinetiere ich mich an der ersten Serie des Ashtanga-Yogas. \nBürgerforum\nSchelztorstraße 38 blau\,\n73728 Esslingen\n‍\nmittwochs 18-19:15 Uhr\nkostenlos \nan folgenden Tagen entfällt der Kurs:\n24.12.2025\, 31.12.2025
URL:https://wandelstadt-esslingen.de/event/ashtanga-yoga-im-buergerforum-esslingen/2026-01-14/
LOCATION:Forum Esslingen\, Schelztorstraße 38\, Esslingen\, 73728
CATEGORIES:Achtsamkeit,Sport und Gesundheit,Yoga
ORGANIZER;CN="Ashtanga Yoga Gruppe":MAILTO:fothalexander.yoga@outlook.de
END:VEVENT
BEGIN:VEVENT
DTSTART;TZID=Europe/Berlin:20260107T180000
DTEND;TZID=Europe/Berlin:20260107T191500
DTSTAMP:20260422T032557
CREATED:20251207T102043Z
LAST-MODIFIED:20251207T102043Z
UID:10007853-1767808800-1767813300@wandelstadt-esslingen.de
SUMMARY:Ashtanga Yoga im Bürgerforum Esslingen
DESCRIPTION:Wir treffen uns wöchentlich zu einem „Flow am Abend“. Es werden unterschiedliche Asanas (Haltungen) und unterschiedliche anatomische Schwerpunkte gesetzt. Dabei orinetiere ich mich an der ersten Serie des Ashtanga-Yogas. \nBürgerforum\nSchelztorstraße 38 blau\,\n73728 Esslingen\n‍\nmittwochs 18-19:15 Uhr\nkostenlos \nan folgenden Tagen entfällt der Kurs:\n24.12.2025\, 31.12.2025
URL:https://wandelstadt-esslingen.de/event/ashtanga-yoga-im-buergerforum-esslingen/2026-01-07/
LOCATION:Forum Esslingen\, Schelztorstraße 38\, Esslingen\, 73728
CATEGORIES:Achtsamkeit,Sport und Gesundheit,Yoga
ORGANIZER;CN="Ashtanga Yoga Gruppe":MAILTO:fothalexander.yoga@outlook.de
END:VEVENT
BEGIN:VEVENT
DTSTART;TZID=Europe/Berlin:20251231T180000
DTEND;TZID=Europe/Berlin:20251231T191500
DTSTAMP:20260422T032557
CREATED:20251207T102043Z
LAST-MODIFIED:20251207T102043Z
UID:10007852-1767204000-1767208500@wandelstadt-esslingen.de
SUMMARY:Ashtanga Yoga im Bürgerforum Esslingen
DESCRIPTION:Wir treffen uns wöchentlich zu einem „Flow am Abend“. Es werden unterschiedliche Asanas (Haltungen) und unterschiedliche anatomische Schwerpunkte gesetzt. Dabei orinetiere ich mich an der ersten Serie des Ashtanga-Yogas. \nBürgerforum\nSchelztorstraße 38 blau\,\n73728 Esslingen\n‍\nmittwochs 18-19:15 Uhr\nkostenlos \nan folgenden Tagen entfällt der Kurs:\n24.12.2025\, 31.12.2025
URL:https://wandelstadt-esslingen.de/event/ashtanga-yoga-im-buergerforum-esslingen/2025-12-31/
LOCATION:Forum Esslingen\, Schelztorstraße 38\, Esslingen\, 73728
CATEGORIES:Achtsamkeit,Sport und Gesundheit,Yoga
ORGANIZER;CN="Ashtanga Yoga Gruppe":MAILTO:fothalexander.yoga@outlook.de
END:VEVENT
BEGIN:VEVENT
DTSTART;TZID=Europe/Berlin:20251224T180000
DTEND;TZID=Europe/Berlin:20251224T191500
DTSTAMP:20260422T032557
CREATED:20251207T102043Z
LAST-MODIFIED:20251207T102043Z
UID:10007851-1766599200-1766603700@wandelstadt-esslingen.de
SUMMARY:Ashtanga Yoga im Bürgerforum Esslingen
DESCRIPTION:Wir treffen uns wöchentlich zu einem „Flow am Abend“. Es werden unterschiedliche Asanas (Haltungen) und unterschiedliche anatomische Schwerpunkte gesetzt. Dabei orinetiere ich mich an der ersten Serie des Ashtanga-Yogas. \nBürgerforum\nSchelztorstraße 38 blau\,\n73728 Esslingen\n‍\nmittwochs 18-19:15 Uhr\nkostenlos \nan folgenden Tagen entfällt der Kurs:\n24.12.2025\, 31.12.2025
URL:https://wandelstadt-esslingen.de/event/ashtanga-yoga-im-buergerforum-esslingen/2025-12-24/
LOCATION:Forum Esslingen\, Schelztorstraße 38\, Esslingen\, 73728
CATEGORIES:Achtsamkeit,Sport und Gesundheit,Yoga
ORGANIZER;CN="Ashtanga Yoga Gruppe":MAILTO:fothalexander.yoga@outlook.de
END:VEVENT
BEGIN:VEVENT
DTSTART;TZID=Europe/Berlin:20251217T180000
DTEND;TZID=Europe/Berlin:20251217T191500
DTSTAMP:20260422T032557
CREATED:20251207T102043Z
LAST-MODIFIED:20251207T102043Z
UID:10007850-1765994400-1765998900@wandelstadt-esslingen.de
SUMMARY:Ashtanga Yoga im Bürgerforum Esslingen
DESCRIPTION:Wir treffen uns wöchentlich zu einem „Flow am Abend“. Es werden unterschiedliche Asanas (Haltungen) und unterschiedliche anatomische Schwerpunkte gesetzt. Dabei orinetiere ich mich an der ersten Serie des Ashtanga-Yogas. \nBürgerforum\nSchelztorstraße 38 blau\,\n73728 Esslingen\n‍\nmittwochs 18-19:15 Uhr\nkostenlos \nan folgenden Tagen entfällt der Kurs:\n24.12.2025\, 31.12.2025
URL:https://wandelstadt-esslingen.de/event/ashtanga-yoga-im-buergerforum-esslingen/2025-12-17/
LOCATION:Forum Esslingen\, Schelztorstraße 38\, Esslingen\, 73728
CATEGORIES:Achtsamkeit,Sport und Gesundheit,Yoga
ORGANIZER;CN="Ashtanga Yoga Gruppe":MAILTO:fothalexander.yoga@outlook.de
END:VEVENT
BEGIN:VEVENT
DTSTART;TZID=Europe/Berlin:20251210T180000
DTEND;TZID=Europe/Berlin:20251210T191500
DTSTAMP:20260422T032557
CREATED:20251207T102043Z
LAST-MODIFIED:20251207T102043Z
UID:10007849-1765389600-1765394100@wandelstadt-esslingen.de
SUMMARY:Ashtanga Yoga im Bürgerforum Esslingen
DESCRIPTION:Wir treffen uns wöchentlich zu einem „Flow am Abend“. Es werden unterschiedliche Asanas (Haltungen) und unterschiedliche anatomische Schwerpunkte gesetzt. Dabei orinetiere ich mich an der ersten Serie des Ashtanga-Yogas. \nBürgerforum\nSchelztorstraße 38 blau\,\n73728 Esslingen\n‍\nmittwochs 18-19:15 Uhr\nkostenlos \nan folgenden Tagen entfällt der Kurs:\n24.12.2025\, 31.12.2025
URL:https://wandelstadt-esslingen.de/event/ashtanga-yoga-im-buergerforum-esslingen/2025-12-10/
LOCATION:Forum Esslingen\, Schelztorstraße 38\, Esslingen\, 73728
CATEGORIES:Achtsamkeit,Sport und Gesundheit,Yoga
ORGANIZER;CN="Ashtanga Yoga Gruppe":MAILTO:fothalexander.yoga@outlook.de
END:VEVENT
BEGIN:VEVENT
DTSTART;TZID=Europe/Berlin:20251124T190000
DTEND;TZID=Europe/Berlin:20251124T213000
DTSTAMP:20260422T032557
CREATED:20251023T114503Z
LAST-MODIFIED:20251023T114503Z
UID:10006086-1764010800-1764019800@wandelstadt-esslingen.de
SUMMARY:Plenum OMAS GEGEN RECHTS Esslingen
DESCRIPTION:Ältere Menschen\, denn willkommen sind auch OPAS und Personen ohne Enkel\, engagieren sich bei OMAS GEGEN RECHTS\nFür die Demokratie und für den Erhalt\, des von ihrer Generation Erkämpften. \nDas Plenum von OMAS GEGEN RECHTS Esslingen dient dem Austausch von allen Aktiven und von an der Arbeit der Initiative Interessierten.\nDer Koordinationskreis\, AK Aktionen\, Chor\,  AK Fortbildung und die Austauschgruppe berichten\, was seit dem letzten Plenum geschah. Durchgeführte Aktionen werden besprochen und die Zukunft wird geplant. Alle können ihre Ideen einbringen und umsetzen.\nAktuell liegt ein Schwerpunkt auf der Weiterentwicklung der Aktivitäten von OGR ES. \nGibt es Personen\, die sich um eine Website und um Social Media kümmern könnten? Bitte melden! \nKontakt: ogr-esslingen@posteo.de
URL:https://wandelstadt-esslingen.de/event/plenum-omas-gegen-rechts-esslingen-2-2/
LOCATION:Forum Esslingen\, Schelztorstraße 38\, Esslingen\, 73728
ORGANIZER;CN="OMAS GEGEN RECHTS Esslingen":MAILTO:ogr-esslingen@posteo.de
END:VEVENT
BEGIN:VEVENT
DTSTART;TZID=Europe/Berlin:20250919T080000
DTEND;TZID=Europe/Berlin:20250919T170000
DTSTAMP:20260422T032557
CREATED:20250821T105856Z
LAST-MODIFIED:20250821T105856Z
UID:10006184-1758268800-1758301200@wandelstadt-esslingen.de
SUMMARY:walk\, meet and eat
DESCRIPTION:Schwerpunkt der diesjährigen Bundesengagementwoche „Engagement macht stark“ ist das Thema Einsamkeit. Das bürgerschaftliche Engagement kann Einsamkeitsspiralen durchbrechen und zwischenmenschliche Verbindungen schaffen. In diesem Rahmen bietet die Esslinger Freiwilligenagentur gemeinsam mit der Stadt Esslingen das Projekt „walk\, meet and eat“ an:\nAuf einem Spaziergang soll die Esslinger Engagement-Landschaft besser kennengelernt werden. Die Tour führt durch fünf spannende Stationen in Esslingen\, bei denen Einblicke in verschiedene ehrenamtliche Tätigkeiten erhalten werden sowie Ansprechpersonen vor Ort kennengelernt werden.\nEingeladen sind alle\, die sich über ein Engagement informieren und sich austauschen und vernetzen wollen. \nSTATION 1: 17 Uhr . Schelztorstraße 38\nForum – Zentrum für Bürgerengagement\nSTATION 2: 18 Uhr . Berlinerstraße 27\nDiakonisches Beratungszentrum\nSTATION 3: 18:45 Uhr . Sirnauer Straße 7\nCarisatt Tafel\nSTATION 4: 19:15 Uhr . Franziskanergasse 7\nZAK (Zentrum für Arbeit und Kommunikation)\nSTATION 5: 20 Uhr . Milchstraße 17\nMakerspace / Linuxcafe – Fingerbüfett und Ende der Tour\nAnmeldung: zusammen@esslingen.de oder unter 0711 3512-3406 (bis spätestens 12.09.2025)\nDie Teilnehmendenzahl ist auf 30 Personen begrenzt. Nähere Informationen im Flyer oder unter https://www.esslingen.de/walk-meet-eat
URL:https://wandelstadt-esslingen.de/event/walk-meet-and-eat/
LOCATION:Forum Esslingen\, Schelztorstraße 38\, Esslingen\, 73728
CATEGORIES:Infoveranstaltung
END:VEVENT
BEGIN:VEVENT
DTSTART;TZID=Europe/Berlin:20250917T190000
DTEND;TZID=Europe/Berlin:20250917T213000
DTSTAMP:20260422T032557
CREATED:20250525T191325Z
LAST-MODIFIED:20250830T184651Z
UID:10006085-1758135600-1758144600@wandelstadt-esslingen.de
SUMMARY:Plenum OMAS GEGEN RECHTS Esslingen
DESCRIPTION:Ältere Menschen\, denn willkommen sind auch OPAS und Personen ohne Enkel\, engagieren sich bei OMAS GEGEN RECHTS\nFür die Demokratie und für den Erhalt\, des von ihrer Generation Erkämpften. \nDas Plenum von OMAS GEGEN RECHTS Esslingen dient dem Austausch von allen Aktiven und von an der Arbeit der Initiative Interessierten.\nDer Koordinationskreis\, AK Aktionen\, Chor\,  AK Fortbildung und die Austauschgruppe berichten\, was seit dem letzten Plenum geschah. Durchgeführte Aktionen werden besprochen und die Zukunft wird geplant. Alle können ihre Ideen einbringen und umsetzen.\nAktuell liegt ein Schwerpunkt auf der Weiterentwicklung der Aktivitäten von OGR ES. \nGibt es Personen\, die sich um eine Website und um Social Media kümmern könnten? Bitte melden! \nKontakt: ogr-esslingen@posteo.de
URL:https://wandelstadt-esslingen.de/event/plenum-omas-gegen-rechts-esslingen-2/2025-09-17/
LOCATION:Forum Esslingen\, Schelztorstraße 38\, Esslingen\, 73728
ORGANIZER;CN="OMAS GEGEN RECHTS Esslingen":MAILTO:ogr-esslingen@posteo.de
END:VEVENT
BEGIN:VEVENT
DTSTART;TZID=Europe/Berlin:20250910T190000
DTEND;TZID=Europe/Berlin:20250910T210000
DTSTAMP:20260422T032557
CREATED:20250822T085428Z
LAST-MODIFIED:20250822T085428Z
UID:10006461-1757530800-1757538000@wandelstadt-esslingen.de
SUMMARY:Aufstehen! Esslinger Initiative für Demokratie - Nächstes Treffen
DESCRIPTION:
URL:https://wandelstadt-esslingen.de/event/aufstehen-esslinger-initiative-fuer-demokratie-naechstes-treffen/
LOCATION:Forum Esslingen\, Schelztorstraße 38\, Esslingen\, 73728
CATEGORIES:Gemütliches Treffen,Live-Veranstaltung,Vernetzungsveranstaltung
END:VEVENT
BEGIN:VEVENT
DTSTART;TZID=Europe/Berlin:20250728T190000
DTEND;TZID=Europe/Berlin:20250728T203000
DTSTAMP:20260422T032557
CREATED:20250525T191325Z
LAST-MODIFIED:20250830T184651Z
UID:10005503-1753729200-1753734600@wandelstadt-esslingen.de
SUMMARY:Plenum OMAS GEGEN RECHTS Esslingen
DESCRIPTION:Ältere Menschen\, denn willkommen sind auch OPAS und Personen ohne Enkel\, engagieren sich bei OMAS GEGEN RECHTS\nFür die Demokratie und für den Erhalt\, des von ihrer Generation Erkämpften. \nDas Plenum von OMAS GEGEN RECHTS Esslingen dient dem Austausch von allen Aktiven und von an der Arbeit der Initiative Interessierten.\nDer Koordinationskreis\, AK Aktionen\, Chor\,  AK Fortbildung und die Austauschgruppe berichten\, was seit dem letzten Plenum geschah. Durchgeführte Aktionen werden besprochen und die Zukunft wird geplant. Alle können ihre Ideen einbringen und umsetzen.\nAktuell liegt ein Schwerpunkt auf der Weiterentwicklung der Aktivitäten von OGR ES. \nGibt es Personen\, die sich um eine Website und um Social Media kümmern könnten? Bitte melden! \nKontakt: ogr-esslingen@posteo.de
URL:https://wandelstadt-esslingen.de/event/plenum-omas-gegen-rechts-esslingen-2/2025-07-28/
LOCATION:Forum Esslingen\, Schelztorstraße 38\, Esslingen\, 73728
ORGANIZER;CN="OMAS GEGEN RECHTS Esslingen":MAILTO:ogr-esslingen@posteo.de
END:VEVENT
BEGIN:VEVENT
DTSTART;TZID=Europe/Berlin:20250521T190000
DTEND;TZID=Europe/Berlin:20250521T203000
DTSTAMP:20260422T032557
CREATED:20250310T064035Z
LAST-MODIFIED:20250419T054010Z
UID:10004926-1747854000-1747859400@wandelstadt-esslingen.de
SUMMARY:Plenum OMAS GEGEN RECHTS Esslingen
DESCRIPTION:Ältere Menschen\, denn willkommen sind auch OPAS und Personen ohne Enkel\, engagieren sich bei OMAS GEGEN RECHTS\nFür die Demokratie und für den Erhalt\, des von ihrer Generation Erkämpften. \nDas Plenum von OMAS GEGEN RECHTS Esslingen dient dem Austausch von allen Aktiven und von an der Arbeit der Initiative Interessierten.\nDer Koordinationskreis\, AK Aktionen\, Chor und AK Fortbildung berichten\, was seit dem letzten Plenum geschah. Durchgeführte Aktionen werden besprochen und die Zukunft wird geplant. Alle können ihre Ideen einbringen und umsetzen.\nAktuell liegt ein Schwerpunkt auf der Weiterentwicklung der Aktivitäten von OGR ES. \nGibt es Personen\, die sich um eine Website und um Social Media kümmern könnten? Bitte melden! \nKontakt: ogr-esslingen@posteo.de
URL:https://wandelstadt-esslingen.de/event/plenum-omas-gegen-rechts-esslingen/
LOCATION:Forum Esslingen\, Schelztorstraße 38\, Esslingen\, 73728
END:VEVENT
END:VCALENDAR