BEGIN:VCALENDAR
VERSION:2.0
PRODID:-//Wandelstadt Esslingen - ECPv6.15.20//NONSGML v1.0//EN
CALSCALE:GREGORIAN
METHOD:PUBLISH
X-WR-CALNAME:Wandelstadt Esslingen
X-ORIGINAL-URL:https://wandelstadt-esslingen.de
X-WR-CALDESC:Veranstaltungen für Wandelstadt Esslingen
REFRESH-INTERVAL;VALUE=DURATION:PT1H
X-Robots-Tag:noindex
X-PUBLISHED-TTL:PT1H
BEGIN:VTIMEZONE
TZID:Europe/Berlin
BEGIN:DAYLIGHT
TZOFFSETFROM:+0100
TZOFFSETTO:+0200
TZNAME:CEST
DTSTART:20250330T010000
END:DAYLIGHT
BEGIN:STANDARD
TZOFFSETFROM:+0200
TZOFFSETTO:+0100
TZNAME:CET
DTSTART:20251026T010000
END:STANDARD
BEGIN:DAYLIGHT
TZOFFSETFROM:+0100
TZOFFSETTO:+0200
TZNAME:CEST
DTSTART:20260329T010000
END:DAYLIGHT
BEGIN:STANDARD
TZOFFSETFROM:+0200
TZOFFSETTO:+0100
TZNAME:CET
DTSTART:20261025T010000
END:STANDARD
BEGIN:DAYLIGHT
TZOFFSETFROM:+0100
TZOFFSETTO:+0200
TZNAME:CEST
DTSTART:20270328T010000
END:DAYLIGHT
BEGIN:STANDARD
TZOFFSETFROM:+0200
TZOFFSETTO:+0100
TZNAME:CET
DTSTART:20271031T010000
END:STANDARD
END:VTIMEZONE
BEGIN:VEVENT
DTSTART;TZID=Europe/Berlin:20260307T090000
DTEND;TZID=Europe/Berlin:20260307T090000
DTSTAMP:20260421T123737
CREATED:20260302T194606Z
LAST-MODIFIED:20260302T194642Z
UID:10009168-1772874000-1772874000@wandelstadt-esslingen.de
SUMMARY:Krötenwanderung Esslingen: Zaunaufbau
DESCRIPTION:Die NABU-Gruppe Esslingen hilft seit vielen Jahren den Erdkröten dabei\, unverletzt aus dem Palmenwald in Esslingen-Weil über die Straße zu ihrem Laichgewässer zu gelangen. \nFür die Betreuung des Zauns\, die täglichen Kontrolleinsätze vom 7. bis voraussichtlich 28. März brauchen wir viele fleißige Helferinnen und Helfer. \nDie Einsatzzeiten sind licht- und wetterabhängig und werden zentral von Ellen Micheel\, NABU\, koordiniert. \nAnmeldung und weitere Informationen. \nTermin für den Aufbau des Zauns: Samstag\, 7. März\, 9 Uhr \nTreffpunkt: Fischzucht Brünner\, Wannenrain 12\, Esslingen-Weil. Erreichbar mit Buslinie 102/103.
URL:https://wandelstadt-esslingen.de/event/kroetenwanderung-esslingen-zaunaufbau/
LOCATION:Fischzucht Brünner\, Wannenrain 12\, Esslingen Am Neckar\, 73733\, Deutschland
END:VEVENT
END:VCALENDAR