BEGIN:VCALENDAR
VERSION:2.0
PRODID:-//Wandelstadt Esslingen - ECPv6.15.20//NONSGML v1.0//EN
CALSCALE:GREGORIAN
METHOD:PUBLISH
X-WR-CALNAME:Wandelstadt Esslingen
X-ORIGINAL-URL:https://wandelstadt-esslingen.de
X-WR-CALDESC:Veranstaltungen für Wandelstadt Esslingen
REFRESH-INTERVAL;VALUE=DURATION:PT1H
X-Robots-Tag:noindex
X-PUBLISHED-TTL:PT1H
BEGIN:VTIMEZONE
TZID:Europe/Berlin
BEGIN:DAYLIGHT
TZOFFSETFROM:+0100
TZOFFSETTO:+0200
TZNAME:CEST
DTSTART:20230326T010000
END:DAYLIGHT
BEGIN:STANDARD
TZOFFSETFROM:+0200
TZOFFSETTO:+0100
TZNAME:CET
DTSTART:20231029T010000
END:STANDARD
BEGIN:DAYLIGHT
TZOFFSETFROM:+0100
TZOFFSETTO:+0200
TZNAME:CEST
DTSTART:20240331T010000
END:DAYLIGHT
BEGIN:STANDARD
TZOFFSETFROM:+0200
TZOFFSETTO:+0100
TZNAME:CET
DTSTART:20241027T010000
END:STANDARD
BEGIN:DAYLIGHT
TZOFFSETFROM:+0100
TZOFFSETTO:+0200
TZNAME:CEST
DTSTART:20250330T010000
END:DAYLIGHT
BEGIN:STANDARD
TZOFFSETFROM:+0200
TZOFFSETTO:+0100
TZNAME:CET
DTSTART:20251026T010000
END:STANDARD
BEGIN:DAYLIGHT
TZOFFSETFROM:+0100
TZOFFSETTO:+0200
TZNAME:CEST
DTSTART:20260329T010000
END:DAYLIGHT
BEGIN:STANDARD
TZOFFSETFROM:+0200
TZOFFSETTO:+0100
TZNAME:CET
DTSTART:20261025T010000
END:STANDARD
END:VTIMEZONE
BEGIN:VEVENT
DTSTART;TZID=Europe/Berlin:20250123T150000
DTEND;TZID=Europe/Berlin:20250123T170000
DTSTAMP:20260425T142521
CREATED:20241230T153008Z
LAST-MODIFIED:20241230T153008Z
UID:10004535-1737644400-1737651600@wandelstadt-esslingen.de
SUMMARY:Papierkörbe flechten Teil 1 -Papierröllchen anfertigen-
DESCRIPTION:Wir wollen Papierkörbe o.ä. flechten\, doch hierfür benötigen wir erst einmal Papierröllchen\, die in Teil 2 des Workshops verarbeitet werden können. Sei von Grund auf dabei und lerne wie du die Röllchen herstellen kannst. Wir haben Zeitungspapier und alles an Material vor Ort\, du brauchst also nichts mitbringen. Keine Vorkenntnisse nötig\, kostenfrei und du kannst flexibel innerhalb der angegebenen Zeit dazustoßen. \n 
URL:https://wandelstadt-esslingen.de/event/papierkoerbe-flechten-teil-1-papierroellchen-anfertigen/2025-01-23/
LOCATION:eva’s Ottilie\, Ottilienplatz 3\, Esslingen\, 73728
ORGANIZER;CN="eva's Ottilie":MAILTO:evas-ottilie-es@eva-stuttgart.de
END:VEVENT
BEGIN:VEVENT
DTSTART;TZID=Europe/Berlin:20250116T140000
DTEND;TZID=Europe/Berlin:20250116T160000
DTSTAMP:20260425T142521
CREATED:20241230T153319Z
LAST-MODIFIED:20241230T153319Z
UID:10004536-1737036000-1737043200@wandelstadt-esslingen.de
SUMMARY:Wollwerkstatt
DESCRIPTION:Egal ob du Lust auf häkeln\, stricken\, knüpfen\, weben o.ä. hast. Komm vorbei\, lerne etwas neues oder bring deine angefangenen Projekte mit. \nHäkel- und Stricknadeln sowie Wolle sind vor Ort. Vorbeikommen jederzeit möglich.
URL:https://wandelstadt-esslingen.de/event/wollwerkstatt-2/
LOCATION:eva’s Ottilie\, Ottilienplatz 3\, Esslingen\, 73728
ORGANIZER;CN="eva's Ottilie":MAILTO:evas-ottilie-es@eva-stuttgart.de
END:VEVENT
BEGIN:VEVENT
DTSTART;TZID=Europe/Berlin:20250109T140000
DTEND;TZID=Europe/Berlin:20250109T160000
DTSTAMP:20260425T142521
CREATED:20241230T153008Z
LAST-MODIFIED:20241230T153008Z
UID:10004534-1736431200-1736438400@wandelstadt-esslingen.de
SUMMARY:Papierkörbe flechten Teil 1 -Papierröllchen anfertigen-
DESCRIPTION:Wir wollen Papierkörbe o.ä. flechten\, doch hierfür benötigen wir erst einmal Papierröllchen\, die in Teil 2 des Workshops verarbeitet werden können. Sei von Grund auf dabei und lerne wie du die Röllchen herstellen kannst. Wir haben Zeitungspapier und alles an Material vor Ort\, du brauchst also nichts mitbringen. Keine Vorkenntnisse nötig\, kostenfrei und du kannst flexibel innerhalb der angegebenen Zeit dazustoßen. \n 
URL:https://wandelstadt-esslingen.de/event/papierkoerbe-flechten-teil-1-papierroellchen-anfertigen/2025-01-09/
LOCATION:eva’s Ottilie\, Ottilienplatz 3\, Esslingen\, 73728
ORGANIZER;CN="eva's Ottilie":MAILTO:evas-ottilie-es@eva-stuttgart.de
END:VEVENT
BEGIN:VEVENT
DTSTART;TZID=Europe/Berlin:20241230T140000
DTEND;TZID=Europe/Berlin:20241230T160000
DTSTAMP:20260425T142521
CREATED:20241129T123345Z
LAST-MODIFIED:20241129T123345Z
UID:10004445-1735567200-1735574400@wandelstadt-esslingen.de
SUMMARY:kreativer Jahresabschluss
DESCRIPTION:Arbeite an einem deiner angefangenen kreativen Projekte oder lass’ dich von unserem Material & Ideen inspirieren. \nOhne Anmeldung. Ohne Vorkenntnisse. Verschiedene Materialien & Ideen vorhanden.
URL:https://wandelstadt-esslingen.de/event/kreativer-jahresabschluss/
LOCATION:eva’s Ottilie\, Ottilienplatz 3\, Esslingen\, 73728
ORGANIZER;CN="eva's Ottilie":MAILTO:evas-ottilie-es@eva-stuttgart.de
END:VEVENT
BEGIN:VEVENT
DTSTART;TZID=Europe/Berlin:20241219T140000
DTEND;TZID=Europe/Berlin:20241219T160000
DTSTAMP:20260425T142521
CREATED:20241129T123102Z
LAST-MODIFIED:20241129T123102Z
UID:10004444-1734616800-1734624000@wandelstadt-esslingen.de
SUMMARY:Wollwerkstatt
DESCRIPTION:Egal ob du Lust auf häkeln\, stricken\, knüpfen\, weben o.ä. hast. Komm vorbei\, lerne etwas neues oder bring deine angefangenen Projekte mit. \nHäkel- und Stricknadeln sowie Wolle sind vor Ort. \nVorbeikommen jederzeit möglich.
URL:https://wandelstadt-esslingen.de/event/wollwerkstatt/
LOCATION:eva’s Ottilie\, Ottilienplatz 3\, Esslingen\, 73728
ORGANIZER;CN="eva's Ottilie":MAILTO:evas-ottilie-es@eva-stuttgart.de
END:VEVENT
BEGIN:VEVENT
DTSTART;TZID=Europe/Berlin:20241212T150000
DTEND;TZID=Europe/Berlin:20241212T170000
DTSTAMP:20260425T142521
CREATED:20241129T122933Z
LAST-MODIFIED:20241129T122933Z
UID:10004443-1734015600-1734022800@wandelstadt-esslingen.de
SUMMARY:Workshop Bücherkunst
DESCRIPTION:Wir stellen aus alten Büchern Dekorationsobjekte zum Stellen oder Hängen her. \nZusätzlich hast du die Möglichkeit Blumen aus Büchern zu gestalten. \nKeine Vorkenntnisse nötig. Material ist vorhanden. Ohne Anmeldung\, während der Workshopszeit einfach vorbeikommen.
URL:https://wandelstadt-esslingen.de/event/workshop-buecherkunst/
LOCATION:eva’s Ottilie\, Ottilienplatz 3\, Esslingen\, 73728
ORGANIZER;CN="eva's Ottilie":MAILTO:evas-ottilie-es@eva-stuttgart.de
END:VEVENT
BEGIN:VEVENT
DTSTART;TZID=Europe/Berlin:20241128T140000
DTEND;TZID=Europe/Berlin:20241128T160000
DTSTAMP:20260425T142521
CREATED:20241103T115725Z
LAST-MODIFIED:20241103T115725Z
UID:10004412-1732802400-1732809600@wandelstadt-esslingen.de
SUMMARY:Kränze binden
DESCRIPTION:Egal ob du einen Kranz für die Türe oder den Tisch machen möchtest. Herbstlich\, weihnachtlich oder alljährlich neutral. Deiner Kreativität sind keine Grenzen gesetzt. \nWir haben einiges an Material vor Ort\, auch Rohlinge. Solltest du etwas bestimmtes verarbeiten oder mitbringen wollen\, darfst du das gerne tun. \nVorbeikommen jederzeit möglich.
URL:https://wandelstadt-esslingen.de/event/kraenze-binden/
LOCATION:eva’s Ottilie\, Ottilienplatz 3\, Esslingen\, 73728
ORGANIZER;CN="eva's Ottilie":MAILTO:evas-ottilie-es@eva-stuttgart.de
END:VEVENT
BEGIN:VEVENT
DTSTART;TZID=Europe/Berlin:20241121T140000
DTEND;TZID=Europe/Berlin:20241121T160000
DTSTAMP:20260425T142521
CREATED:20241103T115329Z
LAST-MODIFIED:20241103T115359Z
UID:10004411-1732197600-1732204800@wandelstadt-esslingen.de
SUMMARY:Wollwerkstatt
DESCRIPTION:Egal ob du Lust auf häkeln\, stricken\, knüpfen\, weben o.ä. hast. Komm vorbei\, lerne etwas neues oder bring deine angefangenen Projekte mit. \nHäkel- und Stricknadeln sowie Wolle sind vor Ort. \nVorbeikommen jederzeit möglich.
URL:https://wandelstadt-esslingen.de/event/wollwerkstat/
LOCATION:eva’s Ottilie\, Ottilienplatz 3\, Esslingen\, 73728
ORGANIZER;CN="eva's Ottilie":MAILTO:evas-ottilie-es@eva-stuttgart.de
END:VEVENT
BEGIN:VEVENT
DTSTART;TZID=Europe/Berlin:20241114T130000
DTEND;TZID=Europe/Berlin:20241114T160000
DTSTAMP:20260425T142521
CREATED:20241103T115040Z
LAST-MODIFIED:20241103T115040Z
UID:10004410-1731589200-1731600000@wandelstadt-esslingen.de
SUMMARY:Kerzen/Pflanzen Kronen basteln
DESCRIPTION:Wir geben alten Konservendosen ein neues Leben und basteln Kerzen/Pflanzen Kronen mit euch. \nMaterial ist vorhanden. Vorbeikommen jederzeit möglich.
URL:https://wandelstadt-esslingen.de/event/kerzen-pflanzen-kronen-basteln/
LOCATION:eva’s Ottilie\, Ottilienplatz 3\, Esslingen\, 73728
ORGANIZER;CN="eva's Ottilie":MAILTO:evas-ottilie-es@eva-stuttgart.de
END:VEVENT
BEGIN:VEVENT
DTSTART;TZID=Europe/Berlin:20241110T120000
DTEND;TZID=Europe/Berlin:20241110T150000
DTSTAMP:20260425T142521
CREATED:20241103T114816Z
LAST-MODIFIED:20241103T114816Z
UID:10004409-1731240000-1731250800@wandelstadt-esslingen.de
SUMMARY:Esslinger Herbst in eva's Ottilie
DESCRIPTION:Wir haben diesen Sonntag auch unsere Türen für euch geöffnet. \nStöbert durch unsere Upcyclingprodukte und informiert euch über unser Konzept & unsere Workshops\, wenn ihr Lust habt.
URL:https://wandelstadt-esslingen.de/event/esslinger-herbst-in-evas-ottilie/
LOCATION:eva’s Ottilie\, Ottilienplatz 3\, Esslingen\, 73728
ORGANIZER;CN="eva's Ottilie":MAILTO:evas-ottilie-es@eva-stuttgart.de
END:VEVENT
BEGIN:VEVENT
DTSTART;TZID=Europe/Berlin:20241011T100000
DTEND;TZID=Europe/Berlin:20241011T130000
DTSTAMP:20260425T142521
CREATED:20240927T100311Z
LAST-MODIFIED:20240927T100311Z
UID:10004048-1728640800-1728651600@wandelstadt-esslingen.de
SUMMARY:Mobilé basteln
DESCRIPTION:Materialien sind vor Ort & keine Vorkenntnisse notwendig. Einfach ohne Voranmeldung innerhalb des angegeben Zeitraumes vorbeikommen.
URL:https://wandelstadt-esslingen.de/event/mobile-basteln/2024-10-11/
LOCATION:eva’s Ottilie\, Ottilienplatz 3\, Esslingen\, 73728
ORGANIZER;CN="eva's Ottilie":MAILTO:evas-ottilie-es@eva-stuttgart.de
END:VEVENT
BEGIN:VEVENT
DTSTART;TZID=Europe/Berlin:20241010T150000
DTEND;TZID=Europe/Berlin:20241010T170000
DTSTAMP:20260425T142521
CREATED:20240927T100311Z
LAST-MODIFIED:20240927T100311Z
UID:10004047-1728572400-1728579600@wandelstadt-esslingen.de
SUMMARY:Mobilé basteln
DESCRIPTION:Materialien sind vor Ort & keine Vorkenntnisse notwendig. Einfach ohne Voranmeldung innerhalb des angegeben Zeitraumes vorbeikommen.
URL:https://wandelstadt-esslingen.de/event/mobile-basteln/2024-10-10/
LOCATION:eva’s Ottilie\, Ottilienplatz 3\, Esslingen\, 73728
ORGANIZER;CN="eva's Ottilie":MAILTO:evas-ottilie-es@eva-stuttgart.de
END:VEVENT
BEGIN:VEVENT
DTSTART;VALUE=DATE:20240928
DTEND;VALUE=DATE:20240930
DTSTAMP:20260425T142521
CREATED:20240902T094539Z
LAST-MODIFIED:20240916T185012Z
UID:10003997-1727481600-1727654399@wandelstadt-esslingen.de
SUMMARY:Abschluss Kunstprojekt "Alles so schön bunt hier" bei Stadt im Überfluss
DESCRIPTION:Die phantastischen Blumen & Pflanzen aus Plastikmüll werden auf dem Ottilienplatz ausgestellt und kostenfrei (oder wer möchte gegen Spende) verschenkt.
URL:https://wandelstadt-esslingen.de/event/abschluss-kunstprojekt-alles-so-schoen-bunt-hier-bei-stadt-im-ueberfluss/
LOCATION:eva’s Ottilie\, Ottilienplatz 3\, Esslingen\, 73728
ORGANIZER;CN="eva's Ottilie":MAILTO:evas-ottilie-es@eva-stuttgart.de
END:VEVENT
BEGIN:VEVENT
DTSTART;TZID=Europe/Berlin:20240918T150000
DTEND;TZID=Europe/Berlin:20240918T180000
DTSTAMP:20260425T142521
CREATED:20240902T094141Z
LAST-MODIFIED:20240902T094141Z
UID:10003996-1726671600-1726682400@wandelstadt-esslingen.de
SUMMARY:Kunstausstellung & Vernissage mit Heidi
DESCRIPTION:Die Kunstausstellung von Heidi wird mit der Vernissage am Mi 18.09 von 15-18Uhr eröffnet. \nAll ihre Kunstwerke sind auf Spendenbasis zu erwerben. \nDie Kunstausstellung kann mindestens vom 18.9-30.9 in eva’s Ottilie während den Öffnungszeiten besucht werden.
URL:https://wandelstadt-esslingen.de/event/kunstausstellung-vernissage-mit-heidi/
LOCATION:eva’s Ottilie\, Ottilienplatz 3\, Esslingen\, 73728
END:VEVENT
BEGIN:VEVENT
DTSTART;TZID=Europe/Berlin:20240907T170000
DTEND;TZID=Europe/Berlin:20240907T220000
DTSTAMP:20260425T142521
CREATED:20240902T093803Z
LAST-MODIFIED:20240902T093803Z
UID:10003995-1725728400-1725746400@wandelstadt-esslingen.de
SUMMARY:Esslingen funkelt in eva's Ottilie: Nachtflohmarkt
DESCRIPTION:Wir bieten auf dem Nachtflohmarkt sowohl unsere Upcyclingprodukte\, wie Kleidung\, Bücher und vieles mehr an.
URL:https://wandelstadt-esslingen.de/event/esslingen-funkelt-in-evas-ottilie-nachtflohmarkt/
LOCATION:eva’s Ottilie\, Ottilienplatz 3\, Esslingen\, 73728
END:VEVENT
BEGIN:VEVENT
DTSTART;TZID=Europe/Berlin:20240829T100000
DTEND;TZID=Europe/Berlin:20240829T170000
DTSTAMP:20260425T142521
CREATED:20240822T140511Z
LAST-MODIFIED:20240822T140511Z
UID:10003982-1724925600-1724950800@wandelstadt-esslingen.de
SUMMARY:Offenes Atelier
DESCRIPTION:Komm vorbei & sei mit uns gemeinsam kreativ. Egal ob häkeln\, stricken\, basteln oder malen. Materialien sind vor Ort.
URL:https://wandelstadt-esslingen.de/event/offenes-atelier/
LOCATION:eva’s Ottilie\, Ottilienplatz 3\, Esslingen\, 73728
ORGANIZER;CN="eva's Ottilie":MAILTO:evas-ottilie-es@eva-stuttgart.de
END:VEVENT
BEGIN:VEVENT
DTSTART;TZID=Europe/Berlin:20240828T150000
DTEND;TZID=Europe/Berlin:20240828T180000
DTSTAMP:20260425T142521
CREATED:20240822T140538Z
LAST-MODIFIED:20240822T140538Z
UID:10003981-1724857200-1724868000@wandelstadt-esslingen.de
SUMMARY:Phantastische Blumen & Pflanzen aus Plastikmüll basteln
DESCRIPTION:Die Veranstaltung findet im Rahmen des Kulturfestivals ‚Stadt im Überfluss‘ statt\, bei welchem die Werke letztlich ausgestellt werden. Mit dem Künstler Andreas Mayer-Brennstuhl werden aus Plastikmüll phantastische Pflanzen & Blumen gebastelt. Der eigenen Kreativität sind dabei keine Grenzen gesetzt. Es ist keine Anmeldung notwendig und ein spontanes Vorbeischauen ist innerhalb der angegebenen Zeit möglich.
URL:https://wandelstadt-esslingen.de/event/phantastische-blumen-pflanzen-aus-plastikmuell-basteln/2024-08-28/
LOCATION:eva’s Ottilie\, Ottilienplatz 3\, Esslingen\, 73728
ORGANIZER;CN="eva's Ottilie":MAILTO:evas-ottilie-es@eva-stuttgart.de
END:VEVENT
BEGIN:VEVENT
DTSTART;TZID=Europe/Berlin:20240827T150000
DTEND;TZID=Europe/Berlin:20240827T180000
DTSTAMP:20260425T142521
CREATED:20240822T140538Z
LAST-MODIFIED:20240822T140538Z
UID:10003980-1724770800-1724781600@wandelstadt-esslingen.de
SUMMARY:Phantastische Blumen & Pflanzen aus Plastikmüll basteln
DESCRIPTION:Die Veranstaltung findet im Rahmen des Kulturfestivals ‚Stadt im Überfluss‘ statt\, bei welchem die Werke letztlich ausgestellt werden. Mit dem Künstler Andreas Mayer-Brennstuhl werden aus Plastikmüll phantastische Pflanzen & Blumen gebastelt. Der eigenen Kreativität sind dabei keine Grenzen gesetzt. Es ist keine Anmeldung notwendig und ein spontanes Vorbeischauen ist innerhalb der angegebenen Zeit möglich.
URL:https://wandelstadt-esslingen.de/event/phantastische-blumen-pflanzen-aus-plastikmuell-basteln/2024-08-27/
LOCATION:eva’s Ottilie\, Ottilienplatz 3\, Esslingen\, 73728
ORGANIZER;CN="eva's Ottilie":MAILTO:evas-ottilie-es@eva-stuttgart.de
END:VEVENT
END:VCALENDAR