BEGIN:VCALENDAR
VERSION:2.0
PRODID:-//Wandelstadt Esslingen - ECPv6.15.20//NONSGML v1.0//EN
CALSCALE:GREGORIAN
METHOD:PUBLISH
X-ORIGINAL-URL:https://wandelstadt-esslingen.de
X-WR-CALDESC:Veranstaltungen für Wandelstadt Esslingen
REFRESH-INTERVAL;VALUE=DURATION:PT1H
X-Robots-Tag:noindex
X-PUBLISHED-TTL:PT1H
BEGIN:VTIMEZONE
TZID:Europe/Berlin
BEGIN:DAYLIGHT
TZOFFSETFROM:+0100
TZOFFSETTO:+0200
TZNAME:CEST
DTSTART:20220327T010000
END:DAYLIGHT
BEGIN:STANDARD
TZOFFSETFROM:+0200
TZOFFSETTO:+0100
TZNAME:CET
DTSTART:20221030T010000
END:STANDARD
BEGIN:DAYLIGHT
TZOFFSETFROM:+0100
TZOFFSETTO:+0200
TZNAME:CEST
DTSTART:20230326T010000
END:DAYLIGHT
BEGIN:STANDARD
TZOFFSETFROM:+0200
TZOFFSETTO:+0100
TZNAME:CET
DTSTART:20231029T010000
END:STANDARD
BEGIN:DAYLIGHT
TZOFFSETFROM:+0100
TZOFFSETTO:+0200
TZNAME:CEST
DTSTART:20240331T010000
END:DAYLIGHT
BEGIN:STANDARD
TZOFFSETFROM:+0200
TZOFFSETTO:+0100
TZNAME:CET
DTSTART:20241027T010000
END:STANDARD
BEGIN:DAYLIGHT
TZOFFSETFROM:+0100
TZOFFSETTO:+0200
TZNAME:CEST
DTSTART:20250330T010000
END:DAYLIGHT
BEGIN:STANDARD
TZOFFSETFROM:+0200
TZOFFSETTO:+0100
TZNAME:CET
DTSTART:20251026T010000
END:STANDARD
BEGIN:DAYLIGHT
TZOFFSETFROM:+0100
TZOFFSETTO:+0200
TZNAME:CEST
DTSTART:20260329T010000
END:DAYLIGHT
BEGIN:STANDARD
TZOFFSETFROM:+0200
TZOFFSETTO:+0100
TZNAME:CET
DTSTART:20261025T010000
END:STANDARD
END:VTIMEZONE
BEGIN:VEVENT
DTSTART;TZID=Europe/Berlin:20251117T190000
DTEND;TZID=Europe/Berlin:20251117T210000
DTSTAMP:20260422T012825
CREATED:20251027T170959Z
LAST-MODIFIED:20251027T170959Z
UID:10006730-1763406000-1763413200@wandelstadt-esslingen.de
SUMMARY:Wenn nicht jetzt\, wann dann?
DESCRIPTION:Podiumsdiskussion mit Prof. Barbara Traub (Vorstandssprecherin IRGW) und Dr. Michael Blume (Beauftragter der Landesregierung gegen Antisemitismus\nund für jüdisches Leben) \n2021 wurden 1.700 Jahre jüdisches Leben in Deutschland\ngefeiert. Ihre Gespräche im Jubiläumsjahr hatten Prof. Barbara Traub und Dr. Michael Blume in ihrem Buch „Wenn nicht wir\, wer dann?“ veröffentlicht.\n41\, teils dramatische Monate später\, ziehen die beiden gemeinsam Bilanz.\nIm Anschluss Get-together mit Wein und Häppchen \nKOSTEN:\nFreier Eintritt \nVERANSTALTER:\nIsraelitische Religionsgemeinschaft\nWürttembergs K.d.ö.R.
URL:https://wandelstadt-esslingen.de/event/wenn-nicht-jetzt-wann-dann/
LOCATION:ECONVENT\, Ritterstraße 6\, Esslingen\, 73728\, Deutschland
CATEGORIES:Kulturveranstaltung,Live-Veranstaltung
END:VEVENT
BEGIN:VEVENT
DTSTART;TZID=Europe/Berlin:20231211T190000
DTEND;TZID=Europe/Berlin:20231211T190000
DTSTAMP:20260422T012825
CREATED:20231124T114344Z
LAST-MODIFIED:20231124T114344Z
UID:10002117-1702321200-1702321200@wandelstadt-esslingen.de
SUMMARY:Jüdisches Leben seit dem Terror des 7. Oktober
DESCRIPTION:Zeit: Montag\, 11. Dezember 2023\, 19:00 Uhr \nOrt: ECONVENT Esslingen\, Ritterstraße 16\, 73728 Esslingen am Neckar \nDer Terrorangriff der Hamas auf Israel am 7. Oktober und seine Folgen sind ein schlimmer und dramatischer Einschnitt in das jüdische Leben – in Israel und auch bei uns in Esslingen. Nie wieder Holocaust heißt auch\, dass es mit dem Staat Israel einen sicheren Ort für Jüdinnen und Juden geben muss. Dieser ist tief erschüttert. \nGleichzeitig werden Jüdinnen und Juden in Deutschland seit dem 7. Oktober mehr bedroht als zuvor. Die Zahl antisemitischer Straftaten nimmt zu. In Esslingen ist die vor dem Rathaus gehisste Israel-Flagge schon zweimal beschmutzt worden\, und immer neue antisemitische Schmierereien in unserer Stadt werden gemeldet. \nÜber jüdisches Leben seit dem Terrorangriff der Hamas des 7. Oktober spreche ich zum einen mit Michael Kashi. Er ist engagiert im Vorstand der Israelischen Religionsgemeinschaft Württemberg. Mein zweiter Gast ist mein Landtagskollege aus Ulm Michael Joukov MdL (GRÜNE). Er ist der erste und einzige jüdische Abgeordnete des Landtags von Baden-Württemberg und kann von seiner Abgeordnetenreise nach Israel berichten\, bei der er sich jüngst ein Bild der Situation gemacht und tiefgehende Eindrücke mitgebracht hat. Und mit allen möchte ich darüber sprechen\, was Solidarität mit Jüdinnen und Juden und das Eintreten gegen Antisemitismus und Terror bei uns heute heißt. \nIch freue mich auf Ihr Kommen und den Austausch mit meinen beiden Gästen und mit Ihnen!
URL:https://wandelstadt-esslingen.de/event/juedisches-leben-seit-dem-terror-des-7-oktober/
LOCATION:ECONVENT\, Ritterstraße 6\, Esslingen\, 73728\, Deutschland
END:VEVENT
END:VCALENDAR