BEGIN:VCALENDAR
VERSION:2.0
PRODID:-//Wandelstadt Esslingen - ECPv6.15.20//NONSGML v1.0//EN
CALSCALE:GREGORIAN
METHOD:PUBLISH
X-WR-CALNAME:Wandelstadt Esslingen
X-ORIGINAL-URL:https://wandelstadt-esslingen.de
X-WR-CALDESC:Veranstaltungen für Wandelstadt Esslingen
REFRESH-INTERVAL;VALUE=DURATION:PT1H
X-Robots-Tag:noindex
X-PUBLISHED-TTL:PT1H
BEGIN:VTIMEZONE
TZID:Europe/Berlin
BEGIN:DAYLIGHT
TZOFFSETFROM:+0100
TZOFFSETTO:+0200
TZNAME:CEST
DTSTART:20230326T010000
END:DAYLIGHT
BEGIN:STANDARD
TZOFFSETFROM:+0200
TZOFFSETTO:+0100
TZNAME:CET
DTSTART:20231029T010000
END:STANDARD
BEGIN:DAYLIGHT
TZOFFSETFROM:+0100
TZOFFSETTO:+0200
TZNAME:CEST
DTSTART:20240331T010000
END:DAYLIGHT
BEGIN:STANDARD
TZOFFSETFROM:+0200
TZOFFSETTO:+0100
TZNAME:CET
DTSTART:20241027T010000
END:STANDARD
BEGIN:DAYLIGHT
TZOFFSETFROM:+0100
TZOFFSETTO:+0200
TZNAME:CEST
DTSTART:20250330T010000
END:DAYLIGHT
BEGIN:STANDARD
TZOFFSETFROM:+0200
TZOFFSETTO:+0100
TZNAME:CET
DTSTART:20251026T010000
END:STANDARD
BEGIN:DAYLIGHT
TZOFFSETFROM:+0100
TZOFFSETTO:+0200
TZNAME:CEST
DTSTART:20260329T010000
END:DAYLIGHT
BEGIN:STANDARD
TZOFFSETFROM:+0200
TZOFFSETTO:+0100
TZNAME:CET
DTSTART:20261025T010000
END:STANDARD
END:VTIMEZONE
BEGIN:VEVENT
DTSTART;TZID=Europe/Berlin:20251003T110000
DTEND;TZID=Europe/Berlin:20251003T180000
DTSTAMP:20260422T012750
CREATED:20250927T125635Z
LAST-MODIFIED:20250927T125635Z
UID:10006601-1759489200-1759514400@wandelstadt-esslingen.de
SUMMARY:Tag der offenen Moscheen
DESCRIPTION:03. Oktober bis 06. Oktobe. \nWir laden Sie herzlich ein\, mit uns in den Dialog zu treten und ins Gespräch zu kommen. An diesem Tag bieten wir spezielle Moscheeführungen an und stehen Ihnen für Ihre Fragen zur Verfügung. Unsere Führungen finden um 11:00 Uhr\, 12:00 Uhr\, 14:00 Uhr und 15:00 Uhr statt. Im Anschluss haben Sie die Möglichkeit\, bei einem Glas türkischem Tee ins Gespräch zu kommen und dabei Köstlichkeiten aus der türkischen Küche zu genießen. \nDie Führungen sind kostenlos und werden in Gruppen durchgeführt. \nDas Gelände\, das Moscheegebäude und die Gebetsräume sind komplett barrierefrei zugänglich. Bitte wenden Sie sich am Infoschalter am Eingang\, wenn Sie Unterstützung benötigen. Für den Gebetsbereich stellen wir aufgrund von Hygienemaßnahmen einen separaten Rollstuhl oder Rollator zur Verfügung. \nDarüber hinaus erweitern wir über den Brückentag und das Wochenende die Veranstaltung und laden zum Tag der offenen Tür bis einschließlich dem 06.10.2024 ein.
URL:https://wandelstadt-esslingen.de/event/tag-der-offenen-moscheen/
LOCATION:Ditib-Moschee\, Rennstraße 9-11\, Esslingen am Neckar\, Deutschland
ORGANIZER;CN="Esslinger Moschee":MAILTO:info@esslinger-moschee.de
END:VEVENT
BEGIN:VEVENT
DTSTART;TZID=Europe/Berlin:20241104T190000
DTEND;TZID=Europe/Berlin:20241104T190000
DTSTAMP:20260422T012750
CREATED:20241024T220305Z
LAST-MODIFIED:20241024T220305Z
UID:10004405-1730746800-1730746800@wandelstadt-esslingen.de
SUMMARY:Nachhaltig leben. Was Juden\, Muslime und Christen dazu sagen...
DESCRIPTION:Was hat Nachhaltigkeit mit den Religionen zu tun?\nAm Anfang der Bibel im Buch Genesis bekommen die Menschen von Gott den Auftrag\, die Schöpfung zu bewahren. Auch im\nIslam bekommt der Mensch die Verantwortung\, die Schöpfung zu respektieren und zu achten und mit Vernunft und Demut\ndie Ressourcen zu nutzen.\nWas bedeutet das für uns als Jude\, Muslim oder Christ in unserer heutigen Zeit und angesichts der aktuellen Herausforderun-\ngen und Debatten um den Klimaschutz? Darüber wollen wir an diesem Abend ins Gespräch kommen.\nIm Anschluss wird bei einem kleinen Ständerling Zeit für Begegnung sein.\nEintritt frei.\nAuf dem Podium:\nIslam: Ridvan Sarikaya\, Islamische Gemeinschaft Esslingen e.V.; Christentum: Pfarrer Stefan Möhler (kath.);\nJudentum: Israel Itzhak Schmitt (IRGW); Moderation: Dr. Markus Geiger (Evangelisches Bildungswerk)
URL:https://wandelstadt-esslingen.de/event/nachhaltig-leben-was-juden-muslime-und-christen-dazu-sagen/
LOCATION:Ditib-Moschee\, Rennstraße 9-11\, Esslingen am Neckar\, Deutschland
END:VEVENT
END:VCALENDAR