BEGIN:VCALENDAR
VERSION:2.0
PRODID:-//Wandelstadt Esslingen - ECPv6.15.20//NONSGML v1.0//EN
CALSCALE:GREGORIAN
METHOD:PUBLISH
X-WR-CALNAME:Wandelstadt Esslingen
X-ORIGINAL-URL:https://wandelstadt-esslingen.de
X-WR-CALDESC:Veranstaltungen für Wandelstadt Esslingen
REFRESH-INTERVAL;VALUE=DURATION:PT1H
X-Robots-Tag:noindex
X-PUBLISHED-TTL:PT1H
BEGIN:VTIMEZONE
TZID:Europe/Berlin
BEGIN:DAYLIGHT
TZOFFSETFROM:+0100
TZOFFSETTO:+0200
TZNAME:CEST
DTSTART:20240331T010000
END:DAYLIGHT
BEGIN:STANDARD
TZOFFSETFROM:+0200
TZOFFSETTO:+0100
TZNAME:CET
DTSTART:20241027T010000
END:STANDARD
BEGIN:DAYLIGHT
TZOFFSETFROM:+0100
TZOFFSETTO:+0200
TZNAME:CEST
DTSTART:20250330T010000
END:DAYLIGHT
BEGIN:STANDARD
TZOFFSETFROM:+0200
TZOFFSETTO:+0100
TZNAME:CET
DTSTART:20251026T010000
END:STANDARD
BEGIN:DAYLIGHT
TZOFFSETFROM:+0100
TZOFFSETTO:+0200
TZNAME:CEST
DTSTART:20260329T010000
END:DAYLIGHT
BEGIN:STANDARD
TZOFFSETFROM:+0200
TZOFFSETTO:+0100
TZNAME:CET
DTSTART:20261025T010000
END:STANDARD
BEGIN:DAYLIGHT
TZOFFSETFROM:+0100
TZOFFSETTO:+0200
TZNAME:CEST
DTSTART:20270328T010000
END:DAYLIGHT
BEGIN:STANDARD
TZOFFSETFROM:+0200
TZOFFSETTO:+0100
TZNAME:CET
DTSTART:20271031T010000
END:STANDARD
END:VTIMEZONE
BEGIN:VEVENT
DTSTART;TZID=Europe/Berlin:20260122T180000
DTEND;TZID=Europe/Berlin:20260122T200000
DTSTAMP:20260421T184322
CREATED:20250329T050707Z
LAST-MODIFIED:20250329T050707Z
UID:10005133-1769104800-1769112000@wandelstadt-esslingen.de
SUMMARY:Orte des Zuhörens
DESCRIPTION:Donnerstags \n18 : 00 – 20 : 00 Uhr\nOrte des Zuhörens – Caritas-Zentrum Esslingen\n Geschulte haupt- und ehrenamtliche Mitarbeiter:innen nehmen sich Zeit zum\nZuhören. Sie bieten ein offenes Ohr für alle Anliegen in sozialen und finanziellen\nFragen\, Unterstützung bei Anträgen und Bewerbungen sowie Hilfe im Umgang\nmit Behörden. Vertraulich und kostenlos!\nKontakt: Caritas Fils-Neckar-Alb\, Anniko Benedek\,  0711 3969 – 5422
URL:https://wandelstadt-esslingen.de/event/orte-des-zuhoerens/2026-01-22/
LOCATION:Caritas-Zentrum Esslingen\, Mettinger Str. 123\, Esslingen am Neckar\, 73728\, Deutschland
END:VEVENT
BEGIN:VEVENT
DTSTART;TZID=Europe/Berlin:20260115T180000
DTEND;TZID=Europe/Berlin:20260115T200000
DTSTAMP:20260421T184322
CREATED:20250329T050707Z
LAST-MODIFIED:20250329T050707Z
UID:10005132-1768500000-1768507200@wandelstadt-esslingen.de
SUMMARY:Orte des Zuhörens
DESCRIPTION:Donnerstags \n18 : 00 – 20 : 00 Uhr\nOrte des Zuhörens – Caritas-Zentrum Esslingen\n Geschulte haupt- und ehrenamtliche Mitarbeiter:innen nehmen sich Zeit zum\nZuhören. Sie bieten ein offenes Ohr für alle Anliegen in sozialen und finanziellen\nFragen\, Unterstützung bei Anträgen und Bewerbungen sowie Hilfe im Umgang\nmit Behörden. Vertraulich und kostenlos!\nKontakt: Caritas Fils-Neckar-Alb\, Anniko Benedek\,  0711 3969 – 5422
URL:https://wandelstadt-esslingen.de/event/orte-des-zuhoerens/2026-01-15/
LOCATION:Caritas-Zentrum Esslingen\, Mettinger Str. 123\, Esslingen am Neckar\, 73728\, Deutschland
END:VEVENT
BEGIN:VEVENT
DTSTART;TZID=Europe/Berlin:20260108T180000
DTEND;TZID=Europe/Berlin:20260108T200000
DTSTAMP:20260421T184322
CREATED:20250329T050707Z
LAST-MODIFIED:20250329T050707Z
UID:10005131-1767895200-1767902400@wandelstadt-esslingen.de
SUMMARY:Orte des Zuhörens
DESCRIPTION:Donnerstags \n18 : 00 – 20 : 00 Uhr\nOrte des Zuhörens – Caritas-Zentrum Esslingen\n Geschulte haupt- und ehrenamtliche Mitarbeiter:innen nehmen sich Zeit zum\nZuhören. Sie bieten ein offenes Ohr für alle Anliegen in sozialen und finanziellen\nFragen\, Unterstützung bei Anträgen und Bewerbungen sowie Hilfe im Umgang\nmit Behörden. Vertraulich und kostenlos!\nKontakt: Caritas Fils-Neckar-Alb\, Anniko Benedek\,  0711 3969 – 5422
URL:https://wandelstadt-esslingen.de/event/orte-des-zuhoerens/2026-01-08/
LOCATION:Caritas-Zentrum Esslingen\, Mettinger Str. 123\, Esslingen am Neckar\, 73728\, Deutschland
END:VEVENT
BEGIN:VEVENT
DTSTART;TZID=Europe/Berlin:20251218T180000
DTEND;TZID=Europe/Berlin:20251218T200000
DTSTAMP:20260421T184322
CREATED:20250329T050707Z
LAST-MODIFIED:20250329T050707Z
UID:10005128-1766080800-1766088000@wandelstadt-esslingen.de
SUMMARY:Orte des Zuhörens
DESCRIPTION:Donnerstags \n18 : 00 – 20 : 00 Uhr\nOrte des Zuhörens – Caritas-Zentrum Esslingen\n Geschulte haupt- und ehrenamtliche Mitarbeiter:innen nehmen sich Zeit zum\nZuhören. Sie bieten ein offenes Ohr für alle Anliegen in sozialen und finanziellen\nFragen\, Unterstützung bei Anträgen und Bewerbungen sowie Hilfe im Umgang\nmit Behörden. Vertraulich und kostenlos!\nKontakt: Caritas Fils-Neckar-Alb\, Anniko Benedek\,  0711 3969 – 5422
URL:https://wandelstadt-esslingen.de/event/orte-des-zuhoerens/2025-12-18/
LOCATION:Caritas-Zentrum Esslingen\, Mettinger Str. 123\, Esslingen am Neckar\, 73728\, Deutschland
END:VEVENT
BEGIN:VEVENT
DTSTART;TZID=Europe/Berlin:20251211T180000
DTEND;TZID=Europe/Berlin:20251211T200000
DTSTAMP:20260421T184322
CREATED:20250329T050707Z
LAST-MODIFIED:20250329T050707Z
UID:10005127-1765476000-1765483200@wandelstadt-esslingen.de
SUMMARY:Orte des Zuhörens
DESCRIPTION:Donnerstags \n18 : 00 – 20 : 00 Uhr\nOrte des Zuhörens – Caritas-Zentrum Esslingen\n Geschulte haupt- und ehrenamtliche Mitarbeiter:innen nehmen sich Zeit zum\nZuhören. Sie bieten ein offenes Ohr für alle Anliegen in sozialen und finanziellen\nFragen\, Unterstützung bei Anträgen und Bewerbungen sowie Hilfe im Umgang\nmit Behörden. Vertraulich und kostenlos!\nKontakt: Caritas Fils-Neckar-Alb\, Anniko Benedek\,  0711 3969 – 5422
URL:https://wandelstadt-esslingen.de/event/orte-des-zuhoerens/2025-12-11/
LOCATION:Caritas-Zentrum Esslingen\, Mettinger Str. 123\, Esslingen am Neckar\, 73728\, Deutschland
END:VEVENT
BEGIN:VEVENT
DTSTART;TZID=Europe/Berlin:20251204T180000
DTEND;TZID=Europe/Berlin:20251204T200000
DTSTAMP:20260421T184322
CREATED:20250329T050707Z
LAST-MODIFIED:20250329T050707Z
UID:10005126-1764871200-1764878400@wandelstadt-esslingen.de
SUMMARY:Orte des Zuhörens
DESCRIPTION:Donnerstags \n18 : 00 – 20 : 00 Uhr\nOrte des Zuhörens – Caritas-Zentrum Esslingen\n Geschulte haupt- und ehrenamtliche Mitarbeiter:innen nehmen sich Zeit zum\nZuhören. Sie bieten ein offenes Ohr für alle Anliegen in sozialen und finanziellen\nFragen\, Unterstützung bei Anträgen und Bewerbungen sowie Hilfe im Umgang\nmit Behörden. Vertraulich und kostenlos!\nKontakt: Caritas Fils-Neckar-Alb\, Anniko Benedek\,  0711 3969 – 5422
URL:https://wandelstadt-esslingen.de/event/orte-des-zuhoerens/2025-12-04/
LOCATION:Caritas-Zentrum Esslingen\, Mettinger Str. 123\, Esslingen am Neckar\, 73728\, Deutschland
END:VEVENT
BEGIN:VEVENT
DTSTART;TZID=Europe/Berlin:20251127T180000
DTEND;TZID=Europe/Berlin:20251127T200000
DTSTAMP:20260421T184322
CREATED:20250329T050707Z
LAST-MODIFIED:20250329T050707Z
UID:10005125-1764266400-1764273600@wandelstadt-esslingen.de
SUMMARY:Orte des Zuhörens
DESCRIPTION:Donnerstags \n18 : 00 – 20 : 00 Uhr\nOrte des Zuhörens – Caritas-Zentrum Esslingen\n Geschulte haupt- und ehrenamtliche Mitarbeiter:innen nehmen sich Zeit zum\nZuhören. Sie bieten ein offenes Ohr für alle Anliegen in sozialen und finanziellen\nFragen\, Unterstützung bei Anträgen und Bewerbungen sowie Hilfe im Umgang\nmit Behörden. Vertraulich und kostenlos!\nKontakt: Caritas Fils-Neckar-Alb\, Anniko Benedek\,  0711 3969 – 5422
URL:https://wandelstadt-esslingen.de/event/orte-des-zuhoerens/2025-11-27/
LOCATION:Caritas-Zentrum Esslingen\, Mettinger Str. 123\, Esslingen am Neckar\, 73728\, Deutschland
END:VEVENT
BEGIN:VEVENT
DTSTART;TZID=Europe/Berlin:20251120T180000
DTEND;TZID=Europe/Berlin:20251120T200000
DTSTAMP:20260421T184322
CREATED:20250329T050707Z
LAST-MODIFIED:20250329T050707Z
UID:10005124-1763661600-1763668800@wandelstadt-esslingen.de
SUMMARY:Orte des Zuhörens
DESCRIPTION:Donnerstags \n18 : 00 – 20 : 00 Uhr\nOrte des Zuhörens – Caritas-Zentrum Esslingen\n Geschulte haupt- und ehrenamtliche Mitarbeiter:innen nehmen sich Zeit zum\nZuhören. Sie bieten ein offenes Ohr für alle Anliegen in sozialen und finanziellen\nFragen\, Unterstützung bei Anträgen und Bewerbungen sowie Hilfe im Umgang\nmit Behörden. Vertraulich und kostenlos!\nKontakt: Caritas Fils-Neckar-Alb\, Anniko Benedek\,  0711 3969 – 5422
URL:https://wandelstadt-esslingen.de/event/orte-des-zuhoerens/2025-11-20/
LOCATION:Caritas-Zentrum Esslingen\, Mettinger Str. 123\, Esslingen am Neckar\, 73728\, Deutschland
END:VEVENT
BEGIN:VEVENT
DTSTART;TZID=Europe/Berlin:20251113T180000
DTEND;TZID=Europe/Berlin:20251113T200000
DTSTAMP:20260421T184322
CREATED:20250329T050707Z
LAST-MODIFIED:20250329T050707Z
UID:10005123-1763056800-1763064000@wandelstadt-esslingen.de
SUMMARY:Orte des Zuhörens
DESCRIPTION:Donnerstags \n18 : 00 – 20 : 00 Uhr\nOrte des Zuhörens – Caritas-Zentrum Esslingen\n Geschulte haupt- und ehrenamtliche Mitarbeiter:innen nehmen sich Zeit zum\nZuhören. Sie bieten ein offenes Ohr für alle Anliegen in sozialen und finanziellen\nFragen\, Unterstützung bei Anträgen und Bewerbungen sowie Hilfe im Umgang\nmit Behörden. Vertraulich und kostenlos!\nKontakt: Caritas Fils-Neckar-Alb\, Anniko Benedek\,  0711 3969 – 5422
URL:https://wandelstadt-esslingen.de/event/orte-des-zuhoerens/2025-11-13/
LOCATION:Caritas-Zentrum Esslingen\, Mettinger Str. 123\, Esslingen am Neckar\, 73728\, Deutschland
END:VEVENT
BEGIN:VEVENT
DTSTART;TZID=Europe/Berlin:20251106T180000
DTEND;TZID=Europe/Berlin:20251106T200000
DTSTAMP:20260421T184322
CREATED:20250329T050707Z
LAST-MODIFIED:20250329T050707Z
UID:10005122-1762452000-1762459200@wandelstadt-esslingen.de
SUMMARY:Orte des Zuhörens
DESCRIPTION:Donnerstags \n18 : 00 – 20 : 00 Uhr\nOrte des Zuhörens – Caritas-Zentrum Esslingen\n Geschulte haupt- und ehrenamtliche Mitarbeiter:innen nehmen sich Zeit zum\nZuhören. Sie bieten ein offenes Ohr für alle Anliegen in sozialen und finanziellen\nFragen\, Unterstützung bei Anträgen und Bewerbungen sowie Hilfe im Umgang\nmit Behörden. Vertraulich und kostenlos!\nKontakt: Caritas Fils-Neckar-Alb\, Anniko Benedek\,  0711 3969 – 5422
URL:https://wandelstadt-esslingen.de/event/orte-des-zuhoerens/2025-11-06/
LOCATION:Caritas-Zentrum Esslingen\, Mettinger Str. 123\, Esslingen am Neckar\, 73728\, Deutschland
END:VEVENT
BEGIN:VEVENT
DTSTART;TZID=Europe/Berlin:20251030T180000
DTEND;TZID=Europe/Berlin:20251030T200000
DTSTAMP:20260421T184322
CREATED:20250329T050707Z
LAST-MODIFIED:20250329T050707Z
UID:10005121-1761847200-1761854400@wandelstadt-esslingen.de
SUMMARY:Orte des Zuhörens
DESCRIPTION:Donnerstags \n18 : 00 – 20 : 00 Uhr\nOrte des Zuhörens – Caritas-Zentrum Esslingen\n Geschulte haupt- und ehrenamtliche Mitarbeiter:innen nehmen sich Zeit zum\nZuhören. Sie bieten ein offenes Ohr für alle Anliegen in sozialen und finanziellen\nFragen\, Unterstützung bei Anträgen und Bewerbungen sowie Hilfe im Umgang\nmit Behörden. Vertraulich und kostenlos!\nKontakt: Caritas Fils-Neckar-Alb\, Anniko Benedek\,  0711 3969 – 5422
URL:https://wandelstadt-esslingen.de/event/orte-des-zuhoerens/2025-10-30/
LOCATION:Caritas-Zentrum Esslingen\, Mettinger Str. 123\, Esslingen am Neckar\, 73728\, Deutschland
END:VEVENT
BEGIN:VEVENT
DTSTART;TZID=Europe/Berlin:20251023T180000
DTEND;TZID=Europe/Berlin:20251023T200000
DTSTAMP:20260421T184322
CREATED:20250329T050707Z
LAST-MODIFIED:20250329T050707Z
UID:10005120-1761242400-1761249600@wandelstadt-esslingen.de
SUMMARY:Orte des Zuhörens
DESCRIPTION:Donnerstags \n18 : 00 – 20 : 00 Uhr\nOrte des Zuhörens – Caritas-Zentrum Esslingen\n Geschulte haupt- und ehrenamtliche Mitarbeiter:innen nehmen sich Zeit zum\nZuhören. Sie bieten ein offenes Ohr für alle Anliegen in sozialen und finanziellen\nFragen\, Unterstützung bei Anträgen und Bewerbungen sowie Hilfe im Umgang\nmit Behörden. Vertraulich und kostenlos!\nKontakt: Caritas Fils-Neckar-Alb\, Anniko Benedek\,  0711 3969 – 5422
URL:https://wandelstadt-esslingen.de/event/orte-des-zuhoerens/2025-10-23/
LOCATION:Caritas-Zentrum Esslingen\, Mettinger Str. 123\, Esslingen am Neckar\, 73728\, Deutschland
END:VEVENT
BEGIN:VEVENT
DTSTART;TZID=Europe/Berlin:20251016T180000
DTEND;TZID=Europe/Berlin:20251016T200000
DTSTAMP:20260421T184322
CREATED:20250329T050707Z
LAST-MODIFIED:20250329T050707Z
UID:10005119-1760637600-1760644800@wandelstadt-esslingen.de
SUMMARY:Orte des Zuhörens
DESCRIPTION:Donnerstags \n18 : 00 – 20 : 00 Uhr\nOrte des Zuhörens – Caritas-Zentrum Esslingen\n Geschulte haupt- und ehrenamtliche Mitarbeiter:innen nehmen sich Zeit zum\nZuhören. Sie bieten ein offenes Ohr für alle Anliegen in sozialen und finanziellen\nFragen\, Unterstützung bei Anträgen und Bewerbungen sowie Hilfe im Umgang\nmit Behörden. Vertraulich und kostenlos!\nKontakt: Caritas Fils-Neckar-Alb\, Anniko Benedek\,  0711 3969 – 5422
URL:https://wandelstadt-esslingen.de/event/orte-des-zuhoerens/2025-10-16/
LOCATION:Caritas-Zentrum Esslingen\, Mettinger Str. 123\, Esslingen am Neckar\, 73728\, Deutschland
END:VEVENT
BEGIN:VEVENT
DTSTART;TZID=Europe/Berlin:20251009T180000
DTEND;TZID=Europe/Berlin:20251009T200000
DTSTAMP:20260421T184323
CREATED:20250329T050707Z
LAST-MODIFIED:20250329T050707Z
UID:10005118-1760032800-1760040000@wandelstadt-esslingen.de
SUMMARY:Orte des Zuhörens
DESCRIPTION:Donnerstags \n18 : 00 – 20 : 00 Uhr\nOrte des Zuhörens – Caritas-Zentrum Esslingen\n Geschulte haupt- und ehrenamtliche Mitarbeiter:innen nehmen sich Zeit zum\nZuhören. Sie bieten ein offenes Ohr für alle Anliegen in sozialen und finanziellen\nFragen\, Unterstützung bei Anträgen und Bewerbungen sowie Hilfe im Umgang\nmit Behörden. Vertraulich und kostenlos!\nKontakt: Caritas Fils-Neckar-Alb\, Anniko Benedek\,  0711 3969 – 5422
URL:https://wandelstadt-esslingen.de/event/orte-des-zuhoerens/2025-10-09/
LOCATION:Caritas-Zentrum Esslingen\, Mettinger Str. 123\, Esslingen am Neckar\, 73728\, Deutschland
END:VEVENT
BEGIN:VEVENT
DTSTART;TZID=Europe/Berlin:20251002T180000
DTEND;TZID=Europe/Berlin:20251002T200000
DTSTAMP:20260421T184323
CREATED:20250329T050707Z
LAST-MODIFIED:20250329T050707Z
UID:10005117-1759428000-1759435200@wandelstadt-esslingen.de
SUMMARY:Orte des Zuhörens
DESCRIPTION:Donnerstags \n18 : 00 – 20 : 00 Uhr\nOrte des Zuhörens – Caritas-Zentrum Esslingen\n Geschulte haupt- und ehrenamtliche Mitarbeiter:innen nehmen sich Zeit zum\nZuhören. Sie bieten ein offenes Ohr für alle Anliegen in sozialen und finanziellen\nFragen\, Unterstützung bei Anträgen und Bewerbungen sowie Hilfe im Umgang\nmit Behörden. Vertraulich und kostenlos!\nKontakt: Caritas Fils-Neckar-Alb\, Anniko Benedek\,  0711 3969 – 5422
URL:https://wandelstadt-esslingen.de/event/orte-des-zuhoerens/2025-10-02/
LOCATION:Caritas-Zentrum Esslingen\, Mettinger Str. 123\, Esslingen am Neckar\, 73728\, Deutschland
END:VEVENT
BEGIN:VEVENT
DTSTART;TZID=Europe/Berlin:20250925T180000
DTEND;TZID=Europe/Berlin:20250925T200000
DTSTAMP:20260421T184323
CREATED:20250329T050707Z
LAST-MODIFIED:20250329T050707Z
UID:10005116-1758823200-1758830400@wandelstadt-esslingen.de
SUMMARY:Orte des Zuhörens
DESCRIPTION:Donnerstags \n18 : 00 – 20 : 00 Uhr\nOrte des Zuhörens – Caritas-Zentrum Esslingen\n Geschulte haupt- und ehrenamtliche Mitarbeiter:innen nehmen sich Zeit zum\nZuhören. Sie bieten ein offenes Ohr für alle Anliegen in sozialen und finanziellen\nFragen\, Unterstützung bei Anträgen und Bewerbungen sowie Hilfe im Umgang\nmit Behörden. Vertraulich und kostenlos!\nKontakt: Caritas Fils-Neckar-Alb\, Anniko Benedek\,  0711 3969 – 5422
URL:https://wandelstadt-esslingen.de/event/orte-des-zuhoerens/2025-09-25/
LOCATION:Caritas-Zentrum Esslingen\, Mettinger Str. 123\, Esslingen am Neckar\, 73728\, Deutschland
END:VEVENT
BEGIN:VEVENT
DTSTART;TZID=Europe/Berlin:20250918T180000
DTEND;TZID=Europe/Berlin:20250918T200000
DTSTAMP:20260421T184323
CREATED:20250329T050707Z
LAST-MODIFIED:20250329T050707Z
UID:10005115-1758218400-1758225600@wandelstadt-esslingen.de
SUMMARY:Orte des Zuhörens
DESCRIPTION:Donnerstags \n18 : 00 – 20 : 00 Uhr\nOrte des Zuhörens – Caritas-Zentrum Esslingen\n Geschulte haupt- und ehrenamtliche Mitarbeiter:innen nehmen sich Zeit zum\nZuhören. Sie bieten ein offenes Ohr für alle Anliegen in sozialen und finanziellen\nFragen\, Unterstützung bei Anträgen und Bewerbungen sowie Hilfe im Umgang\nmit Behörden. Vertraulich und kostenlos!\nKontakt: Caritas Fils-Neckar-Alb\, Anniko Benedek\,  0711 3969 – 5422
URL:https://wandelstadt-esslingen.de/event/orte-des-zuhoerens/2025-09-18/
LOCATION:Caritas-Zentrum Esslingen\, Mettinger Str. 123\, Esslingen am Neckar\, 73728\, Deutschland
END:VEVENT
BEGIN:VEVENT
DTSTART;TZID=Europe/Berlin:20250911T180000
DTEND;TZID=Europe/Berlin:20250911T200000
DTSTAMP:20260421T184323
CREATED:20250329T050707Z
LAST-MODIFIED:20250329T050707Z
UID:10005114-1757613600-1757620800@wandelstadt-esslingen.de
SUMMARY:Orte des Zuhörens
DESCRIPTION:Donnerstags \n18 : 00 – 20 : 00 Uhr\nOrte des Zuhörens – Caritas-Zentrum Esslingen\n Geschulte haupt- und ehrenamtliche Mitarbeiter:innen nehmen sich Zeit zum\nZuhören. Sie bieten ein offenes Ohr für alle Anliegen in sozialen und finanziellen\nFragen\, Unterstützung bei Anträgen und Bewerbungen sowie Hilfe im Umgang\nmit Behörden. Vertraulich und kostenlos!\nKontakt: Caritas Fils-Neckar-Alb\, Anniko Benedek\,  0711 3969 – 5422
URL:https://wandelstadt-esslingen.de/event/orte-des-zuhoerens/2025-09-11/
LOCATION:Caritas-Zentrum Esslingen\, Mettinger Str. 123\, Esslingen am Neckar\, 73728\, Deutschland
END:VEVENT
BEGIN:VEVENT
DTSTART;TZID=Europe/Berlin:20250904T180000
DTEND;TZID=Europe/Berlin:20250904T200000
DTSTAMP:20260421T184323
CREATED:20250329T050707Z
LAST-MODIFIED:20250329T050707Z
UID:10005113-1757008800-1757016000@wandelstadt-esslingen.de
SUMMARY:Orte des Zuhörens
DESCRIPTION:Donnerstags \n18 : 00 – 20 : 00 Uhr\nOrte des Zuhörens – Caritas-Zentrum Esslingen\n Geschulte haupt- und ehrenamtliche Mitarbeiter:innen nehmen sich Zeit zum\nZuhören. Sie bieten ein offenes Ohr für alle Anliegen in sozialen und finanziellen\nFragen\, Unterstützung bei Anträgen und Bewerbungen sowie Hilfe im Umgang\nmit Behörden. Vertraulich und kostenlos!\nKontakt: Caritas Fils-Neckar-Alb\, Anniko Benedek\,  0711 3969 – 5422
URL:https://wandelstadt-esslingen.de/event/orte-des-zuhoerens/2025-09-04/
LOCATION:Caritas-Zentrum Esslingen\, Mettinger Str. 123\, Esslingen am Neckar\, 73728\, Deutschland
END:VEVENT
BEGIN:VEVENT
DTSTART;TZID=Europe/Berlin:20250828T180000
DTEND;TZID=Europe/Berlin:20250828T200000
DTSTAMP:20260421T184323
CREATED:20250329T050707Z
LAST-MODIFIED:20250329T050707Z
UID:10005112-1756404000-1756411200@wandelstadt-esslingen.de
SUMMARY:Orte des Zuhörens
DESCRIPTION:Donnerstags \n18 : 00 – 20 : 00 Uhr\nOrte des Zuhörens – Caritas-Zentrum Esslingen\n Geschulte haupt- und ehrenamtliche Mitarbeiter:innen nehmen sich Zeit zum\nZuhören. Sie bieten ein offenes Ohr für alle Anliegen in sozialen und finanziellen\nFragen\, Unterstützung bei Anträgen und Bewerbungen sowie Hilfe im Umgang\nmit Behörden. Vertraulich und kostenlos!\nKontakt: Caritas Fils-Neckar-Alb\, Anniko Benedek\,  0711 3969 – 5422
URL:https://wandelstadt-esslingen.de/event/orte-des-zuhoerens/2025-08-28/
LOCATION:Caritas-Zentrum Esslingen\, Mettinger Str. 123\, Esslingen am Neckar\, 73728\, Deutschland
END:VEVENT
BEGIN:VEVENT
DTSTART;TZID=Europe/Berlin:20250821T180000
DTEND;TZID=Europe/Berlin:20250821T200000
DTSTAMP:20260421T184323
CREATED:20250329T050707Z
LAST-MODIFIED:20250329T050707Z
UID:10005111-1755799200-1755806400@wandelstadt-esslingen.de
SUMMARY:Orte des Zuhörens
DESCRIPTION:Donnerstags \n18 : 00 – 20 : 00 Uhr\nOrte des Zuhörens – Caritas-Zentrum Esslingen\n Geschulte haupt- und ehrenamtliche Mitarbeiter:innen nehmen sich Zeit zum\nZuhören. Sie bieten ein offenes Ohr für alle Anliegen in sozialen und finanziellen\nFragen\, Unterstützung bei Anträgen und Bewerbungen sowie Hilfe im Umgang\nmit Behörden. Vertraulich und kostenlos!\nKontakt: Caritas Fils-Neckar-Alb\, Anniko Benedek\,  0711 3969 – 5422
URL:https://wandelstadt-esslingen.de/event/orte-des-zuhoerens/2025-08-21/
LOCATION:Caritas-Zentrum Esslingen\, Mettinger Str. 123\, Esslingen am Neckar\, 73728\, Deutschland
END:VEVENT
BEGIN:VEVENT
DTSTART;TZID=Europe/Berlin:20250814T180000
DTEND;TZID=Europe/Berlin:20250814T200000
DTSTAMP:20260421T184323
CREATED:20250329T050707Z
LAST-MODIFIED:20250329T050707Z
UID:10005110-1755194400-1755201600@wandelstadt-esslingen.de
SUMMARY:Orte des Zuhörens
DESCRIPTION:Donnerstags \n18 : 00 – 20 : 00 Uhr\nOrte des Zuhörens – Caritas-Zentrum Esslingen\n Geschulte haupt- und ehrenamtliche Mitarbeiter:innen nehmen sich Zeit zum\nZuhören. Sie bieten ein offenes Ohr für alle Anliegen in sozialen und finanziellen\nFragen\, Unterstützung bei Anträgen und Bewerbungen sowie Hilfe im Umgang\nmit Behörden. Vertraulich und kostenlos!\nKontakt: Caritas Fils-Neckar-Alb\, Anniko Benedek\,  0711 3969 – 5422
URL:https://wandelstadt-esslingen.de/event/orte-des-zuhoerens/2025-08-14/
LOCATION:Caritas-Zentrum Esslingen\, Mettinger Str. 123\, Esslingen am Neckar\, 73728\, Deutschland
END:VEVENT
BEGIN:VEVENT
DTSTART;TZID=Europe/Berlin:20250807T180000
DTEND;TZID=Europe/Berlin:20250807T200000
DTSTAMP:20260421T184323
CREATED:20250329T050707Z
LAST-MODIFIED:20250329T050707Z
UID:10005109-1754589600-1754596800@wandelstadt-esslingen.de
SUMMARY:Orte des Zuhörens
DESCRIPTION:Donnerstags \n18 : 00 – 20 : 00 Uhr\nOrte des Zuhörens – Caritas-Zentrum Esslingen\n Geschulte haupt- und ehrenamtliche Mitarbeiter:innen nehmen sich Zeit zum\nZuhören. Sie bieten ein offenes Ohr für alle Anliegen in sozialen und finanziellen\nFragen\, Unterstützung bei Anträgen und Bewerbungen sowie Hilfe im Umgang\nmit Behörden. Vertraulich und kostenlos!\nKontakt: Caritas Fils-Neckar-Alb\, Anniko Benedek\,  0711 3969 – 5422
URL:https://wandelstadt-esslingen.de/event/orte-des-zuhoerens/2025-08-07/
LOCATION:Caritas-Zentrum Esslingen\, Mettinger Str. 123\, Esslingen am Neckar\, 73728\, Deutschland
END:VEVENT
BEGIN:VEVENT
DTSTART;TZID=Europe/Berlin:20250731T180000
DTEND;TZID=Europe/Berlin:20250731T200000
DTSTAMP:20260421T184323
CREATED:20250329T050707Z
LAST-MODIFIED:20250329T050707Z
UID:10005108-1753984800-1753992000@wandelstadt-esslingen.de
SUMMARY:Orte des Zuhörens
DESCRIPTION:Donnerstags \n18 : 00 – 20 : 00 Uhr\nOrte des Zuhörens – Caritas-Zentrum Esslingen\n Geschulte haupt- und ehrenamtliche Mitarbeiter:innen nehmen sich Zeit zum\nZuhören. Sie bieten ein offenes Ohr für alle Anliegen in sozialen und finanziellen\nFragen\, Unterstützung bei Anträgen und Bewerbungen sowie Hilfe im Umgang\nmit Behörden. Vertraulich und kostenlos!\nKontakt: Caritas Fils-Neckar-Alb\, Anniko Benedek\,  0711 3969 – 5422
URL:https://wandelstadt-esslingen.de/event/orte-des-zuhoerens/2025-07-31/
LOCATION:Caritas-Zentrum Esslingen\, Mettinger Str. 123\, Esslingen am Neckar\, 73728\, Deutschland
END:VEVENT
BEGIN:VEVENT
DTSTART;TZID=Europe/Berlin:20250724T180000
DTEND;TZID=Europe/Berlin:20250724T200000
DTSTAMP:20260421T184323
CREATED:20250329T050707Z
LAST-MODIFIED:20250329T050707Z
UID:10005107-1753380000-1753387200@wandelstadt-esslingen.de
SUMMARY:Orte des Zuhörens
DESCRIPTION:Donnerstags \n18 : 00 – 20 : 00 Uhr\nOrte des Zuhörens – Caritas-Zentrum Esslingen\n Geschulte haupt- und ehrenamtliche Mitarbeiter:innen nehmen sich Zeit zum\nZuhören. Sie bieten ein offenes Ohr für alle Anliegen in sozialen und finanziellen\nFragen\, Unterstützung bei Anträgen und Bewerbungen sowie Hilfe im Umgang\nmit Behörden. Vertraulich und kostenlos!\nKontakt: Caritas Fils-Neckar-Alb\, Anniko Benedek\,  0711 3969 – 5422
URL:https://wandelstadt-esslingen.de/event/orte-des-zuhoerens/2025-07-24/
LOCATION:Caritas-Zentrum Esslingen\, Mettinger Str. 123\, Esslingen am Neckar\, 73728\, Deutschland
END:VEVENT
BEGIN:VEVENT
DTSTART;TZID=Europe/Berlin:20250717T180000
DTEND;TZID=Europe/Berlin:20250717T200000
DTSTAMP:20260421T184323
CREATED:20250329T050707Z
LAST-MODIFIED:20250329T050707Z
UID:10005106-1752775200-1752782400@wandelstadt-esslingen.de
SUMMARY:Orte des Zuhörens
DESCRIPTION:Donnerstags \n18 : 00 – 20 : 00 Uhr\nOrte des Zuhörens – Caritas-Zentrum Esslingen\n Geschulte haupt- und ehrenamtliche Mitarbeiter:innen nehmen sich Zeit zum\nZuhören. Sie bieten ein offenes Ohr für alle Anliegen in sozialen und finanziellen\nFragen\, Unterstützung bei Anträgen und Bewerbungen sowie Hilfe im Umgang\nmit Behörden. Vertraulich und kostenlos!\nKontakt: Caritas Fils-Neckar-Alb\, Anniko Benedek\,  0711 3969 – 5422
URL:https://wandelstadt-esslingen.de/event/orte-des-zuhoerens/2025-07-17/
LOCATION:Caritas-Zentrum Esslingen\, Mettinger Str. 123\, Esslingen am Neckar\, 73728\, Deutschland
END:VEVENT
BEGIN:VEVENT
DTSTART;TZID=Europe/Berlin:20250710T180000
DTEND;TZID=Europe/Berlin:20250710T200000
DTSTAMP:20260421T184323
CREATED:20250329T050707Z
LAST-MODIFIED:20250329T050707Z
UID:10005105-1752170400-1752177600@wandelstadt-esslingen.de
SUMMARY:Orte des Zuhörens
DESCRIPTION:Donnerstags \n18 : 00 – 20 : 00 Uhr\nOrte des Zuhörens – Caritas-Zentrum Esslingen\n Geschulte haupt- und ehrenamtliche Mitarbeiter:innen nehmen sich Zeit zum\nZuhören. Sie bieten ein offenes Ohr für alle Anliegen in sozialen und finanziellen\nFragen\, Unterstützung bei Anträgen und Bewerbungen sowie Hilfe im Umgang\nmit Behörden. Vertraulich und kostenlos!\nKontakt: Caritas Fils-Neckar-Alb\, Anniko Benedek\,  0711 3969 – 5422
URL:https://wandelstadt-esslingen.de/event/orte-des-zuhoerens/2025-07-10/
LOCATION:Caritas-Zentrum Esslingen\, Mettinger Str. 123\, Esslingen am Neckar\, 73728\, Deutschland
END:VEVENT
BEGIN:VEVENT
DTSTART;TZID=Europe/Berlin:20250703T180000
DTEND;TZID=Europe/Berlin:20250703T200000
DTSTAMP:20260421T184323
CREATED:20250329T050707Z
LAST-MODIFIED:20250329T050707Z
UID:10005104-1751565600-1751572800@wandelstadt-esslingen.de
SUMMARY:Orte des Zuhörens
DESCRIPTION:Donnerstags \n18 : 00 – 20 : 00 Uhr\nOrte des Zuhörens – Caritas-Zentrum Esslingen\n Geschulte haupt- und ehrenamtliche Mitarbeiter:innen nehmen sich Zeit zum\nZuhören. Sie bieten ein offenes Ohr für alle Anliegen in sozialen und finanziellen\nFragen\, Unterstützung bei Anträgen und Bewerbungen sowie Hilfe im Umgang\nmit Behörden. Vertraulich und kostenlos!\nKontakt: Caritas Fils-Neckar-Alb\, Anniko Benedek\,  0711 3969 – 5422
URL:https://wandelstadt-esslingen.de/event/orte-des-zuhoerens/2025-07-03/
LOCATION:Caritas-Zentrum Esslingen\, Mettinger Str. 123\, Esslingen am Neckar\, 73728\, Deutschland
END:VEVENT
BEGIN:VEVENT
DTSTART;TZID=Europe/Berlin:20250626T180000
DTEND;TZID=Europe/Berlin:20250626T200000
DTSTAMP:20260421T184323
CREATED:20250329T050707Z
LAST-MODIFIED:20250329T050707Z
UID:10005103-1750960800-1750968000@wandelstadt-esslingen.de
SUMMARY:Orte des Zuhörens
DESCRIPTION:Donnerstags \n18 : 00 – 20 : 00 Uhr\nOrte des Zuhörens – Caritas-Zentrum Esslingen\n Geschulte haupt- und ehrenamtliche Mitarbeiter:innen nehmen sich Zeit zum\nZuhören. Sie bieten ein offenes Ohr für alle Anliegen in sozialen und finanziellen\nFragen\, Unterstützung bei Anträgen und Bewerbungen sowie Hilfe im Umgang\nmit Behörden. Vertraulich und kostenlos!\nKontakt: Caritas Fils-Neckar-Alb\, Anniko Benedek\,  0711 3969 – 5422
URL:https://wandelstadt-esslingen.de/event/orte-des-zuhoerens/2025-06-26/
LOCATION:Caritas-Zentrum Esslingen\, Mettinger Str. 123\, Esslingen am Neckar\, 73728\, Deutschland
END:VEVENT
BEGIN:VEVENT
DTSTART;TZID=Europe/Berlin:20250619T180000
DTEND;TZID=Europe/Berlin:20250619T200000
DTSTAMP:20260421T184323
CREATED:20250329T050707Z
LAST-MODIFIED:20250329T050707Z
UID:10005102-1750356000-1750363200@wandelstadt-esslingen.de
SUMMARY:Orte des Zuhörens
DESCRIPTION:Donnerstags \n18 : 00 – 20 : 00 Uhr\nOrte des Zuhörens – Caritas-Zentrum Esslingen\n Geschulte haupt- und ehrenamtliche Mitarbeiter:innen nehmen sich Zeit zum\nZuhören. Sie bieten ein offenes Ohr für alle Anliegen in sozialen und finanziellen\nFragen\, Unterstützung bei Anträgen und Bewerbungen sowie Hilfe im Umgang\nmit Behörden. Vertraulich und kostenlos!\nKontakt: Caritas Fils-Neckar-Alb\, Anniko Benedek\,  0711 3969 – 5422
URL:https://wandelstadt-esslingen.de/event/orte-des-zuhoerens/2025-06-19/
LOCATION:Caritas-Zentrum Esslingen\, Mettinger Str. 123\, Esslingen am Neckar\, 73728\, Deutschland
END:VEVENT
END:VCALENDAR