BEGIN:VCALENDAR
VERSION:2.0
PRODID:-//Wandelstadt Esslingen - ECPv6.15.20//NONSGML v1.0//EN
CALSCALE:GREGORIAN
METHOD:PUBLISH
X-ORIGINAL-URL:https://wandelstadt-esslingen.de
X-WR-CALDESC:Veranstaltungen für Wandelstadt Esslingen
REFRESH-INTERVAL;VALUE=DURATION:PT1H
X-Robots-Tag:noindex
X-PUBLISHED-TTL:PT1H
BEGIN:VTIMEZONE
TZID:Europe/Berlin
BEGIN:DAYLIGHT
TZOFFSETFROM:+0100
TZOFFSETTO:+0200
TZNAME:CEST
DTSTART:20250330T010000
END:DAYLIGHT
BEGIN:STANDARD
TZOFFSETFROM:+0200
TZOFFSETTO:+0100
TZNAME:CET
DTSTART:20251026T010000
END:STANDARD
BEGIN:DAYLIGHT
TZOFFSETFROM:+0100
TZOFFSETTO:+0200
TZNAME:CEST
DTSTART:20260329T010000
END:DAYLIGHT
BEGIN:STANDARD
TZOFFSETFROM:+0200
TZOFFSETTO:+0100
TZNAME:CET
DTSTART:20261025T010000
END:STANDARD
BEGIN:DAYLIGHT
TZOFFSETFROM:+0100
TZOFFSETTO:+0200
TZNAME:CEST
DTSTART:20270328T010000
END:DAYLIGHT
BEGIN:STANDARD
TZOFFSETFROM:+0200
TZOFFSETTO:+0100
TZNAME:CET
DTSTART:20271031T010000
END:STANDARD
END:VTIMEZONE
BEGIN:VEVENT
DTSTART;TZID=Europe/Berlin:20260616T180000
DTEND;TZID=Europe/Berlin:20260616T200000
DTSTAMP:20260421T215820
CREATED:20260323T133138Z
LAST-MODIFIED:20260323T133138Z
UID:10009256-1781632800-1781640000@wandelstadt-esslingen.de
SUMMARY:Damit es gut bleibt\, muss es sich verändern - Gemeinschaftsprojekt Gesundheit
DESCRIPTION:18:00 Uhr\nOnline und vor Ort Hochschule Esslingen\, Campus Stadtmitte\, Kanalstr. 33\, Gebäude 1\, Senatssaal\, Raum S 01.021 \nUnser Gesundheitssystem hat bisher verlässlich Gesundheitsversorgung für alle Menschen in Deutschland geliefert. Jetzt scheint es aus den Fugen zu geraten. Die Beiträge zur Kranken- und Pflegeversicherung steigen\, Krankenhausstandorte sind unter Druck\, Hausärzte gehen in Rente und hinterlassen weiße Flecken\, Fachkraftmangel auch in der Pflege. Eindeutig muss sich etwas ändern. Sollen wir einfach noch mehr bezahlen für unsere Gesundheitsversorgung und gleichzeitig Leistungskürzungen hinnehmen? Oder gibt es andere Lösungen? Der Vortrag wird einen Überblick über wesentliche Herausforderungen für unser Gesundheitssystem geben\, zeigen\, wo Lösungen liegen und welchen Mut wir für Veränderung brauchen\, um weiterhin verlässliche Gesundheitsversorgung zur Verfügung zu haben. \n\n\n\n\nReferentin: Dr. Bernadette Klapper \nDr. Bernadette Klapper ist Krankenschwester und Soziologin. Sie ist Leiterin der Forschungsstelle Pflegeversicherung des Spitzenverbands Gesetzliche Krankenversicherung. Zuvor war sie Bundesgeschäftsführerin des Deutschen Berufsverbands für Pflegeberufe und Bereichsleiterin Gesundheit bei der Robert Bosch Stiftung. Sie hat weitere Berufserfahrungen in der Telemedizin und in der praktischen Pflege in Deutschland und Frankreich. Als Expertin für Fragen zum Gesundheitssystem war und ist sie Mitglied verschiedener Arbeitskreise und Mitherausgeberin der Zeitschrift „Gesundheits- und Sozialpolitik“.
URL:https://wandelstadt-esslingen.de/event/damit-es-gut-bleibt-muss-es-sich-veraendern-gemeinschaftsprojekt-gesundheit/
LOCATION:Campus Stadtmitte / Hochschule Eslingen\, Kanalstraße 33\, Esslingen\, Deutschland
CATEGORIES:Infoveranstaltung,Live-Veranstaltung
END:VEVENT
BEGIN:VEVENT
DTSTART;TZID=Europe/Berlin:20260707T180000
DTEND;TZID=Europe/Berlin:20260707T200000
DTSTAMP:20260421T215820
CREATED:20260323T133401Z
LAST-MODIFIED:20260323T133401Z
UID:10009257-1783447200-1783454400@wandelstadt-esslingen.de
SUMMARY:"Wer immer tut\, was er schon kann\, bleibt immer das was er schon ist." Neue Chancen für den Mittelstand durch KI
DESCRIPTION:18:00 Uhr\nOnline und vor Ort Hochschule Esslingen\, Campus Stadtmitte\, Kanalstr. 33\, Gebäude 1\, Senatssaal\, Raum S 01.021 \nKünstliche Intelligenz verändert unsere Wirtschaft – und stellt den Mittelstand vor zentrale Fragen: Wie bleiben kleine und mittlere Unternehmen wettbewerbsfähig? Welche Chancen bietet KI jenseits von Schlagworten und Zukunftsängsten?\nKI ist kein Privileg mehr für große Konzerne\, sondern ein praxisnahes Instrument für Innovation\, Effizienz und neue Geschäftsmodelle. Zugleich wird offen benannt\, warum viele Unternehmen zögern – und welche Risiken das Festhalten am Bewährten birgt. Vorgestellt werden reale Praxisbeispiele\, typische Hürden und zentrale Erfolgsfaktoren – verständlich und mit Fokus auf das heute Umsetzbare. Der Abend lädt ein\, Mut zur Veränderung zu fassen für alle\, die Zukunft aktiv gestalten wollen. \n\n\n\n\nReferent: Prof. Dr. Dorothee Brauner\nProf. Dr. Dorothee Brauner studierte Betriebswirtschaftslehre mit Schwerpunkt Markt- und Kommunikationsforschung an der Hochschule Pforzheim. Nach Stationen unter anderem in der Automobilmarktforschung bei Kantar\, wurde sie an der Leeds Beckett University (UK) promoviert. Im Anschluss war sie als Managerin im Bereich Analytisches CRM bei MHP – A Porsche Company tätig. Seit September 2016 ist sie Professorin für Betriebswirtschaftslehre mit Schwerpunkt quantitative Methoden der Marktforschung an der Hochschule Esslingen.
URL:https://wandelstadt-esslingen.de/event/wer-immer-tut-was-er-schon-kann-bleibt-immer-das-was-er-schon-ist-neue-chancen-fuer-den-mittelstand-durch-ki/
LOCATION:Campus Stadtmitte / Hochschule Eslingen\, Kanalstraße 33\, Esslingen\, Deutschland
CATEGORIES:Gemütliches Treffen,Infoveranstaltung,Kulturveranstaltung,Live-Veranstaltung
END:VEVENT
END:VCALENDAR