BEGIN:VCALENDAR
VERSION:2.0
PRODID:-//Wandelstadt Esslingen - ECPv6.15.20//NONSGML v1.0//EN
CALSCALE:GREGORIAN
METHOD:PUBLISH
X-WR-CALNAME:Wandelstadt Esslingen
X-ORIGINAL-URL:https://wandelstadt-esslingen.de
X-WR-CALDESC:Veranstaltungen für Wandelstadt Esslingen
REFRESH-INTERVAL;VALUE=DURATION:PT1H
X-Robots-Tag:noindex
X-PUBLISHED-TTL:PT1H
BEGIN:VTIMEZONE
TZID:Europe/Berlin
BEGIN:DAYLIGHT
TZOFFSETFROM:+0100
TZOFFSETTO:+0200
TZNAME:CEST
DTSTART:20220327T010000
END:DAYLIGHT
BEGIN:STANDARD
TZOFFSETFROM:+0200
TZOFFSETTO:+0100
TZNAME:CET
DTSTART:20221030T010000
END:STANDARD
BEGIN:DAYLIGHT
TZOFFSETFROM:+0100
TZOFFSETTO:+0200
TZNAME:CEST
DTSTART:20230326T010000
END:DAYLIGHT
BEGIN:STANDARD
TZOFFSETFROM:+0200
TZOFFSETTO:+0100
TZNAME:CET
DTSTART:20231029T010000
END:STANDARD
BEGIN:DAYLIGHT
TZOFFSETFROM:+0100
TZOFFSETTO:+0200
TZNAME:CEST
DTSTART:20240331T010000
END:DAYLIGHT
BEGIN:STANDARD
TZOFFSETFROM:+0200
TZOFFSETTO:+0100
TZNAME:CET
DTSTART:20241027T010000
END:STANDARD
BEGIN:DAYLIGHT
TZOFFSETFROM:+0100
TZOFFSETTO:+0200
TZNAME:CEST
DTSTART:20250330T010000
END:DAYLIGHT
BEGIN:STANDARD
TZOFFSETFROM:+0200
TZOFFSETTO:+0100
TZNAME:CET
DTSTART:20251026T010000
END:STANDARD
BEGIN:DAYLIGHT
TZOFFSETFROM:+0100
TZOFFSETTO:+0200
TZNAME:CEST
DTSTART:20260329T010000
END:DAYLIGHT
BEGIN:STANDARD
TZOFFSETFROM:+0200
TZOFFSETTO:+0100
TZNAME:CET
DTSTART:20261025T010000
END:STANDARD
END:VTIMEZONE
BEGIN:VEVENT
DTSTART;TZID=Europe/Berlin:20250309T110000
DTEND;TZID=Europe/Berlin:20250309T140000
DTSTAMP:20260421T200455
CREATED:20250228T190413Z
LAST-MODIFIED:20250228T190440Z
UID:10004916-1741518000-1741528800@wandelstadt-esslingen.de
SUMMARY:Veganer Mitbringbrunch mit Vortrag
DESCRIPTION:Unser Brunch findet am Sonntag im Bürgerhaus in der Pliensauvorstadt statt. Beginn ist um 11.00 Uhr\, Einlass ab 10.30 Uhr. Jeder Gast bringt ein veganes Gericht mit und schlemmt sich durch die mitgebrachten Gerichte der anderen Gäste. Getränke und Brot stellen wir kostenlos zur Verfügung\, eine Teilnahmegebühr wird nicht erhoben – Spenden sind natürlich gern gesehen. Eine Anmeldung ist nicht erforderlich. Der Brunch endet gegen 14.00 Uhr. \nBitte melde dich bei Fragen unter esslingen@ariwa.org. \nVortrag \nBei jedem Brunch wird es einen besonderen Gast geben\, der/die uns zu den Themen Veganismus\, Tierrecht\, Umweltschutz oder/und Nachhaltigkeit neue Denkanstöße gibt. Im März 2025 kommt Sonia von Foodsharing Esslingen zu uns mit dem Thema „Foodsharing: Verwenden statt verschwenden“. \nWas bedeutet vegan? \nVegan heißt frei von allen tierischen Produkten\, also auch Honig\, Joghurt\, Sahne\, tierfetthaltiger Margarine usw.\, wenn du unsicher bist\, melde dich bei uns unter esslingen@ariwa.org. Da auch Kinder bei dem Brunch dabei sind\, bitten wir auf alkoholische Bestandteile zu verzichten.
URL:https://wandelstadt-esslingen.de/event/veganer-mitbringbrunch-mit-vortrag-5/
LOCATION:Bürgerhaus Pliensauvorstadt\, Weilstraße 8\, Esslingen\, 73734
ORGANIZER;CN="ARIWA - Ortsgruppe Esslingen":MAILTO:esslingen@ariwa.org
END:VEVENT
BEGIN:VEVENT
DTSTART;TZID=Europe/Berlin:20250112T110000
DTEND;TZID=Europe/Berlin:20250112T140000
DTSTAMP:20260421T200455
CREATED:20241224T102708Z
LAST-MODIFIED:20241224T102708Z
UID:10004512-1736679600-1736690400@wandelstadt-esslingen.de
SUMMARY:Veganer Mitbringbrunch mit Vortrag
DESCRIPTION:Unser Brunch findet am Sonntag im Bürgerhaus in der Pliensauvorstadt statt. Beginn ist um 11.00 Uhr\, Einlass ab 10.30 Uhr. Jeder Gast bringt ein veganes Gericht mit und schlemmt sich durch die mitgebrachten Gerichte der anderen Gäste. Getränke und Brot stellen wir kostenlos zur Verfügung\, eine Teilnahmegebühr wird nicht erhoben – Spenden sind natürlich gern gesehen. Eine Anmeldung ist nicht erforderlich. Der Brunch endet gegen 14.00 Uhr. \nBitte melde dich bei Fragen unter esslingen@ariwa.org. \nVortrag \nBei jedem Brunch wird es einen besonderen Gast geben\, der/die uns zu den Themen Veganismus\, Tierrecht\, Umweltschutz oder/und Nachhaltigkeit neue Denkanstöße gibt. Im Januar 2025 kommen Antonio und Nina von Omega Tattoo für ein Interview zu uns mit dem Thema „Vegane Tattoo-Kunst“. \nWas bedeutet vegan? \nVegan heißt frei von allen tierischen Produkten\, also auch Honig\, Joghurt\, Sahne\, tierfetthaltiger Margarine usw.\,  wenn du unsicher bist\, melde dich bei uns unter esslingen@ariwa.org. Da auch Kinder bei dem Brunch dabei sind\, bitten wir auf alkoholische Bestandteile zu verzichten.
URL:https://wandelstadt-esslingen.de/event/veganer-mitbringbrunch-mit-vortrag-4/
LOCATION:Bürgerhaus Pliensauvorstadt\, Weilstraße 8\, Esslingen\, 73734
CATEGORIES:Gemütliches Treffen,Infoveranstaltung
ORGANIZER;CN="ARIWA - Ortsgruppe Esslingen":MAILTO:esslingen@ariwa.org
END:VEVENT
BEGIN:VEVENT
DTSTART;TZID=Europe/Berlin:20241208T110000
DTEND;TZID=Europe/Berlin:20241208T140000
DTSTAMP:20260421T200455
CREATED:20241024T215243Z
LAST-MODIFIED:20241024T215244Z
UID:10004404-1733655600-1733666400@wandelstadt-esslingen.de
SUMMARY:Veganer Mitbringbrunch mit Vortrag
DESCRIPTION:Unser Brunch findet am Sonntag im Bürgerhaus in der Pliensauvorstadt statt. Beginn ist um 11.00 Uhr\, Einlass ab 10.30 Uhr. Jeder Gast bringt ein veganes Gericht mit und schlemmt sich durch die mitgebrachten Gerichte der anderen Gäste. Getränke und Brot stellen wir kostenlos zur Verfügung\, eine Teilnahmegebühr wird nicht erhoben – Spenden sind natürlich gern gesehen. Eine Anmeldung ist nicht erforderlich. Der Brunch endet gegen 14.00 Uhr. \nBitte melde dich bei Fragen unter esslingen@ariwa.org. \nVortrag\nBei jedem Brunch wird es einen besonderen Gast geben\, der/die uns zu den Themen Veganismus\, Tierrecht\, Umweltschutz oder/und Nachhaltigkeit neue Denkanstöße gibt. Im Dezember 2024 kommt Yvonne Kratz (Demokratisches Zentrum Ludwigsburg e.V.\, https://www.demoz-lb.de/) zu uns mit dem Thema “Gemeinnützigkeit von Vereinen – ein Erfahrungsbericht”.
URL:https://wandelstadt-esslingen.de/event/veganer-mitbringbrunch-mit-vortrag-3/
LOCATION:Bürgerhaus Pliensauvorstadt\, Weilstraße 8\, Esslingen\, 73734
CATEGORIES:Gemütliches Treffen,Infoveranstaltung
ORGANIZER;CN="ARIWA - Ortsgruppe Esslingen":MAILTO:esslingen@ariwa.org
END:VEVENT
BEGIN:VEVENT
DTSTART;TZID=Europe/Berlin:20241110T110000
DTEND;TZID=Europe/Berlin:20241110T140000
DTSTAMP:20260421T200455
CREATED:20241024T214914Z
LAST-MODIFIED:20241024T214914Z
UID:10004403-1731236400-1731247200@wandelstadt-esslingen.de
SUMMARY:Veganer Mitbringbrunch mit Vortrag
DESCRIPTION:Unser Brunch findet am Sonntag im Bürgerhaus in der Pliensauvorstadt statt. Beginn ist um 11.00 Uhr\, Einlass ab 10.30 Uhr. Jeder Gast bringt ein veganes Gericht mit und schlemmt sich durch die mitgebrachten Gerichte der anderen Gäste. Getränke und Brot stellen wir kostenlos zur Verfügung\, eine Teilnahmegebühr wird nicht erhoben – Spenden sind natürlich gern gesehen. Eine Anmeldung ist nicht erforderlich. Der Brunch endet gegen 14.00 Uhr. \nBitte melde dich bei Fragen unter esslingen@ariwa.org. \nVortrag\nBei jedem Brunch wird es einen besonderen Gast geben\, der/die uns zu den Themen Veganismus\, Tierrecht\, Umweltschutz oder/und Nachhaltigkeit neue Denkanstöße gibt. Im November 2024 kommt Tanja Helfert (Animal Rights Watch e.V.\, https://www.ariwa.org) zu uns mit dem Thema “Das stille Leiden der Heimtiere”.
URL:https://wandelstadt-esslingen.de/event/veganer-mitbringbrunch-mit-vortrag-2/
LOCATION:Bürgerhaus Pliensauvorstadt\, Weilstraße 8\, Esslingen\, 73734
CATEGORIES:Gemütliches Treffen,Infoveranstaltung
ORGANIZER;CN="ARIWA - Ortsgruppe Esslingen":MAILTO:esslingen@ariwa.org
END:VEVENT
BEGIN:VEVENT
DTSTART;TZID=Europe/Berlin:20241013T110000
DTEND;TZID=Europe/Berlin:20241013T140000
DTSTAMP:20260421T200455
CREATED:20240926T203056Z
LAST-MODIFIED:20240926T203056Z
UID:10004046-1728817200-1728828000@wandelstadt-esslingen.de
SUMMARY:Veganer Mitbringbrunch mit Vortrag: Veganismus und Nachhaltigkeit – ein Widerspruch?
DESCRIPTION:Unser Brunch findet am Sonntag im Bürgerhaus in der Pliensauvorstadt statt. Beginn ist um 11.00 Uhr\, Einlass ab 10.30 Uhr. Jeder Gast bringt ein veganes Gericht mit und schlemmt sich durch die mitgebrachten Gerichte der anderen Gäste. Getränke und Brot stellen wir kostenlos zur Verfügung\, eine Teilnahmegebühr wird nicht erhoben – Spenden sind natürlich gern gesehen. Eine Anmeldung ist nicht erforderlich. Der Brunch endet gegen 14.00 Uhr. \nBitte melde dich bei Fragen unter esslingen@ariwa.org. \nVortrag \nBei jedem Brunch wird es einen besonderen Gast geben\, der/die uns zu den Themen Veganismus\, Tierrecht\, Umweltschutz oder/und Nachhaltigkeit neue Denkanstöße gibt. Im Oktober 2024 kommen Cornelia Mangold & Sven Teufel (ZuZule – Zusammen Zukunft leben gUG\, https://zuzule.net/) zu uns mit dem Thema “Veganismus und Nachhaltigkeit – ein Widerspruch?” \nWas bedeutet vegan? \nVegan heißt frei von allen tierischen Produkten\, also auch Honig\, Joghurt\, Sahne\, tierfetthaltiger Margarine usw.\,  wenn du unsicher bist\, melde dich bei uns unter esslingen@ariwa.org. Da auch Kinder bei dem Brunch dabei sind\, bitten wir auf alkoholische Bestandteile zu verzichten. \nEin Termin von ARIWA OG Esslingen. \n\n\n\nHinweis:\nARIWA lehnt alle Formen allgemeiner und gruppenbezogener Menschenfeindlichkeit (wie Sexismus\, Homo- und Trans*feindlichkeit\, Rassismus oder Antisemitismus) sowie verschwörungsideologische Denkmuster ab. Personen und Gruppen mit solchen Hintergründen sind bei der Veranstaltung ausdrücklich nicht erwünscht.
URL:https://wandelstadt-esslingen.de/event/veganer-mitbringbrunch-mit-vortrag-2024-10/
LOCATION:Bürgerhaus Pliensauvorstadt\, Weilstraße 8\, Esslingen\, 73734
CATEGORIES:Gemütliches Treffen,Infoveranstaltung,Vernetzungsveranstaltung
ORGANIZER;CN="ARIWA - Ortsgruppe Esslingen":MAILTO:esslingen@ariwa.org
END:VEVENT
BEGIN:VEVENT
DTSTART;TZID=Europe/Berlin:20240908T110000
DTEND;TZID=Europe/Berlin:20240908T140000
DTSTAMP:20260421T200455
CREATED:20240828T170751Z
LAST-MODIFIED:20241024T214749Z
UID:10003983-1725793200-1725804000@wandelstadt-esslingen.de
SUMMARY:Veganer Mitbringbrunch mit Vortrag
DESCRIPTION:Unser Brunch findet am Sonntag im Bürgerhaus in der Pliensauvorstadt statt. Beginn ist um 11.00 Uhr\, Einlass ab 10.30 Uhr. Jeder Gast bringt ein veganes Gericht mit und schlemmt sich durch die mitgebrachten Gerichte der anderen Gäste. Getränke und Brot stellen wir kostenlos zur Verfügung\, eine Teilnahmegebühr wird nicht erhoben – Spenden sind natürlich gern gesehen. Eine Anmeldung ist nicht erforderlich. Der Brunch endet gegen 14.00 Uhr. \nBitte melde dich bei Fragen unter esslingen@ariwa.org. \nVortrag\nBei jedem Brunch wird es einen besonderen Gast geben\, der/die uns zu den Themen Veganismus\, Tierrecht\, Umweltschutz oder/und Nachhaltigkeit neue Denkanstöße gibt. Im September 2024 blicken wir gemeinsam zurück auf 20 Jahre Tierrechtsaktivmus anlässlich des 20. Jahrestages der Vereinsgründung von ARIWA und schauen in die aktuelle Veröffentlichung zu CO2-Betäubung bei Schweinen in Schlachthöfen. \nDer ursprünglich geplante Vortrag von Dagmar Rothfuß (Mobbing-Mentorin\, https://www.dagmar-rothfuss.de/) zum Thema “Starke vegane Familien” verschiebt sich auf April 2025.
URL:https://wandelstadt-esslingen.de/event/veganer-mitbringbrunch-mit-vortrag/
LOCATION:Bürgerhaus Pliensauvorstadt\, Weilstraße 8\, Esslingen\, 73734
CATEGORIES:Gemütliches Treffen,Infoveranstaltung
ORGANIZER;CN="ARIWA - Ortsgruppe Esslingen":MAILTO:esslingen@ariwa.org
END:VEVENT
BEGIN:VEVENT
DTSTART;TZID=Europe/Berlin:20231121T190000
DTEND;TZID=Europe/Berlin:20231121T210000
DTSTAMP:20260421T200455
CREATED:20231019T132024Z
LAST-MODIFIED:20231019T132210Z
UID:10002024-1700593200-1700600400@wandelstadt-esslingen.de
SUMMARY:Wärmepumpe\, PV & Co.
DESCRIPTION:Die Regionalgruppe Esslingen der Teckwerke Bürgerenergie lädt ein zum Energieabend \n„Wärmepumpe\, PV & Co. „ \nam 21.11.2023 von 19 bis 21 Uhr  im Mehrgenerationenhaus Esslingen\, Weilstr. 8 \nAnmeldung erwünscht unter: energie@klimagerechtigkeit-esslingen.de
URL:https://wandelstadt-esslingen.de/event/waermepumpe-pv-co/
LOCATION:Bürgerhaus Pliensauvorstadt\, Weilstraße 8\, Esslingen\, 73734
ATTACH;FMTTYPE=image/jpeg:https://wandelstadt-esslingen.de/wp-content/uploads/2023/10/Energieabend-21.11.-1.jpg
ORGANIZER;CN="Regionalgruppe Esslingen der Teckwerke B%C3%BCrgerenergie":MAILTO:esslingen@teckwerke.de
END:VEVENT
BEGIN:VEVENT
DTSTART;TZID=Europe/Berlin:20231114T180000
DTEND;TZID=Europe/Berlin:20231114T203000
DTSTAMP:20260421T200455
CREATED:20231030T221035Z
LAST-MODIFIED:20231030T221035Z
UID:10002108-1699984800-1699993800@wandelstadt-esslingen.de
SUMMARY:Planspiel "Ankommen" - Dialoge und Perspektiven
DESCRIPTION:Ein Perspektivwechsel im Kontext Flucht und Asyl – ein interaktives Planspiel durchgeführt von Menschen mit Fluchterfahrung  \n\n\n\n\nWie ist es nach Deutschland zu flüchten?\nWie gestaltet sich das Ankommen?\nWelche Herausforderungen warten hier auf einen?\nWer ist alles beim Ankommen involviert?\n\n\n\n\nDas 2\,5 stündige Planspiel ermöglicht einem\, diese Fragestellungen zu durchlaufen. Es gibt über 30 unterschiedliche Rollen\, in die man schlüpfen kann. Das Spiel ist fiktiv\, ahmt aber ein realitätsnahes Szenario nach. Konzipiert und organisiert wird das Planspiel von dem Stuttgarter Verein Pyramidea e.V.. Das Planspiel wurde von Menschen mit Fluchterfahrung mitgestaltet\, mit dem Ziel ein empathisches Miteinander zu fördern. Am 14. November kommt das Planspiel nun nach Esslingen! Das Planspiel ist offen für alle Engagierte und Interessierte\, die Lust haben\, sich auf einen Perspektivwechsel einzulassen. Es braucht dazu keinerlei Vorkenntnisse. \n\n\n\n\nDienstag\, 14. November 2023\n18 – 20.30 Uhr\nMehrgenerationen- und Bürgerhaus Pliensauvorstadt (Saal)\nWeilstraße 8\, 73728 Esslingen\nReferent: : Benjamin Scholz zusammen mit ehrenamtlich Engagierten mit Fluchthintergrund\,\nPyramidea e.V. Stuttgart\nZahl der Teilnehmenden: max. 30 Personen\nAnmeldeschluss: Sonntag\, 30. Oktober 2023
URL:https://wandelstadt-esslingen.de/event/planspiel-ankommen-dialoge-und-perspektiven/
LOCATION:Bürgerhaus Pliensauvorstadt\, Weilstraße 8\, Esslingen\, 73734
END:VEVENT
BEGIN:VEVENT
DTSTART;VALUE=DATE:20231028
DTEND;VALUE=DATE:20231030
DTSTAMP:20260421T200455
CREATED:20230625T105150Z
LAST-MODIFIED:20230920T191411Z
UID:10001706-1698451200-1698623999@wandelstadt-esslingen.de
SUMMARY:Jubiläum 10 Jahre Transition Town Esslingen
DESCRIPTION:10 Jahre und weiter gehts!\n \nEs ist soweit: In diesem Jahr wird Transition Town Esslingen stolze 10 Jahre jung! Seitdem ist einiges geschehen: Gruppen haben sich etabliert\, aus Ideen wurden Taten\, es sind Projekte entstanden\, sind gewachsen\, anderes wurde im Laufe der Zeit wieder verworfen. So wie die Stadt Esslingen selbst unterliegt auch Transition Town Esslingen dem ständigen Wandel. Einladungsflyer \nUnser buntes Programm:\n  \n\n\n\n\n\n\n\nSamstag 28.10.2023\n \n \n \n \n\n\nUhrzeit\nSaal\nRuheraum\nGruppenraum\nDraußen\n\n\n14.00-14.15\nBegrüßung\n \n \n \n\n\n14.15-14.45\n \nMeditation (10 Min)\nEinführung Schenkökonomie\nExkursion zum Stadtgärtle (60 Min)\n\n\n14.45-15.15\n \nEinführung Gewaltfreie Kommunikation\nWorkshop Putzmittel mischen\nMüllsammeltour\n\n\n15.15-16.00\nKaffeepause & Marktplatz\n \n \n \n\n\n16.00-16.30\n \n \nDiskussionsrunde Sehnsucht nach dem Wandel wecken (45 Min)\nMüllsammeltour\n\n\n16.30-16.45\n \nMeditation (10 Min)\n \n \n\n\n16.45-17.00\nAbschlussrunde\n \n \n \n\n\nSonntag 29.10.2023\n \n \n \n \n\n\n14.00-14.30\nMarktplatz & Kaffee & Kuchen\nMeditation (10 Min)\n \n \n\n\n14.30-16.00\nÖffnung Nutzpflanzen-bibliothek\n \n \nPflanzen-tauschbörse\n\n\n16.00-16.30\nMarktplatz & Kaffee & Kuchen\n \nVortrag 10 Jahre Transition Town Esslingen\n\n\n\n\n 
URL:https://wandelstadt-esslingen.de/event/jubilaeum-10-jahre-transition-town-esslingen/
LOCATION:Bürgerhaus Pliensauvorstadt\, Weilstraße 8\, Esslingen\, 73734
ORGANIZER;CN="Transition Town Esslingen - Stadt im Wandel":MAILTO:kontakt@transition-town-es.de
END:VEVENT
END:VCALENDAR