BEGIN:VCALENDAR
VERSION:2.0
PRODID:-//Wandelstadt Esslingen - ECPv6.15.20//NONSGML v1.0//EN
CALSCALE:GREGORIAN
METHOD:PUBLISH
X-ORIGINAL-URL:https://wandelstadt-esslingen.de
X-WR-CALDESC:Veranstaltungen für Wandelstadt Esslingen
REFRESH-INTERVAL;VALUE=DURATION:PT1H
X-Robots-Tag:noindex
X-PUBLISHED-TTL:PT1H
BEGIN:VTIMEZONE
TZID:Europe/Berlin
BEGIN:DAYLIGHT
TZOFFSETFROM:+0100
TZOFFSETTO:+0200
TZNAME:CEST
DTSTART:20230326T010000
END:DAYLIGHT
BEGIN:STANDARD
TZOFFSETFROM:+0200
TZOFFSETTO:+0100
TZNAME:CET
DTSTART:20231029T010000
END:STANDARD
BEGIN:DAYLIGHT
TZOFFSETFROM:+0100
TZOFFSETTO:+0200
TZNAME:CEST
DTSTART:20240331T010000
END:DAYLIGHT
BEGIN:STANDARD
TZOFFSETFROM:+0200
TZOFFSETTO:+0100
TZNAME:CET
DTSTART:20241027T010000
END:STANDARD
BEGIN:DAYLIGHT
TZOFFSETFROM:+0100
TZOFFSETTO:+0200
TZNAME:CEST
DTSTART:20250330T010000
END:DAYLIGHT
BEGIN:STANDARD
TZOFFSETFROM:+0200
TZOFFSETTO:+0100
TZNAME:CET
DTSTART:20251026T010000
END:STANDARD
BEGIN:DAYLIGHT
TZOFFSETFROM:+0100
TZOFFSETTO:+0200
TZNAME:CEST
DTSTART:20260329T010000
END:DAYLIGHT
BEGIN:STANDARD
TZOFFSETFROM:+0200
TZOFFSETTO:+0100
TZNAME:CET
DTSTART:20261025T010000
END:STANDARD
BEGIN:DAYLIGHT
TZOFFSETFROM:+0100
TZOFFSETTO:+0200
TZNAME:CEST
DTSTART:20270328T010000
END:DAYLIGHT
BEGIN:STANDARD
TZOFFSETFROM:+0200
TZOFFSETTO:+0100
TZNAME:CET
DTSTART:20271031T010000
END:STANDARD
END:VTIMEZONE
BEGIN:VEVENT
DTSTART;TZID=Europe/Berlin:20260408T080000
DTEND;TZID=Europe/Berlin:20260408T170000
DTSTAMP:20260422T024157
CREATED:20260327T110314Z
LAST-MODIFIED:20260327T110314Z
UID:10009295-1775635200-1775667600@wandelstadt-esslingen.de
SUMMARY:Ausflug zur Kirschblüte
DESCRIPTION:Der Ausflug auch für Nichtmitglieder des StadtSeniorenRates führt zur Kirschblüte rund um Neidlingen. Auf dem ca. 7 km langen (180 Höhenmeter) Panoramaweg grüßt u. a. die Burgruine Reußenstein. Am Ende der Wanderung wartete im Gasthaus Lamm ein Mittagstisch . Treffpunkt: 8 Uhr am Bahnhof Esslingen\, Abfahrt 8. 13 Uhr von Gleis 8 mit der S1 nach Kirchheim\, Umstieg in Bus Nr. 177 nach Neidlingen. Anmeldung: Heinz Reutter Handy: 0175 5648445
URL:https://wandelstadt-esslingen.de/event/ausflug-zur-kirschbluete/
LOCATION:Bahnhof Esslingen
ATTACH;FMTTYPE=image/jpeg:https://wandelstadt-esslingen.de/wp-content/uploads/2026/03/Burgruine-Reussenstein-scaled.jpg
END:VEVENT
BEGIN:VEVENT
DTSTART;TZID=Europe/Berlin:20241012T090000
DTEND;TZID=Europe/Berlin:20241012T120000
DTSTAMP:20260422T024157
CREATED:20240924T114112Z
LAST-MODIFIED:20240924T114112Z
UID:10004030-1728723600-1728734400@wandelstadt-esslingen.de
SUMMARY:ZuZule - Deutsche Bahn – Putzaktion
DESCRIPTION:  \nAm Samstag 12.10.24\, 9-12 Uhr \nLasst uns gemeinsam das Gebiet rund im den Esslinger Bahnhof sauberer machen😊 \nBeginn: 9 Uhr mit Ausgabe der Putzutensilien \nTreffpunkt: zentral auf dem Bahnhofsvorplatz beim Klimaquartier \nAnschließendes Ausschwärmen von dort in alle Richtungen \nMit gemütlichem Abschluss: wieder auf dem Bahnhofsvorplatz ab 12 Uhr mit Brezeln \nsowie 1 Getränk für jede*n Teilnehmer*in + Rückgabe der Putzutensilien \nHerr Yalcin Bayraktar\, Bürgermeister für Ordnung\, Soziales\, Bildung\,\nKultur und Sport wird Begrüßungsworte sprechen \nAnmeldung: \nfür Organisationen\, Unternehmen\, Privatpersonen\, Mitarbeiter*innen der DB / Neue Arbeit / Stadt Esslingen \nan ZuZule@mail.de \n\n\n\n\n\n\n\n\n\n\n\nWir ALLE können GEMEINSAM unsere Welt zu einem schöneren Ort machen \nund diese auch für nachfolgende Generationen schützen und erhalten.
URL:https://wandelstadt-esslingen.de/event/zuzule-deutsche-bahn-putzaktion/
LOCATION:Bahnhof Esslingen
ORGANIZER;CN="ZuZule":MAILTO:zuzule@mail.de
END:VEVENT
END:VCALENDAR