BEGIN:VCALENDAR
VERSION:2.0
PRODID:-//Wandelstadt Esslingen - ECPv6.15.20//NONSGML v1.0//EN
CALSCALE:GREGORIAN
METHOD:PUBLISH
X-ORIGINAL-URL:https://wandelstadt-esslingen.de
X-WR-CALDESC:Veranstaltungen für Wandelstadt Esslingen
REFRESH-INTERVAL;VALUE=DURATION:PT1H
X-Robots-Tag:noindex
X-PUBLISHED-TTL:PT1H
BEGIN:VTIMEZONE
TZID:Europe/Berlin
BEGIN:DAYLIGHT
TZOFFSETFROM:+0100
TZOFFSETTO:+0200
TZNAME:CEST
DTSTART:20230326T010000
END:DAYLIGHT
BEGIN:STANDARD
TZOFFSETFROM:+0200
TZOFFSETTO:+0100
TZNAME:CET
DTSTART:20231029T010000
END:STANDARD
BEGIN:DAYLIGHT
TZOFFSETFROM:+0100
TZOFFSETTO:+0200
TZNAME:CEST
DTSTART:20240331T010000
END:DAYLIGHT
BEGIN:STANDARD
TZOFFSETFROM:+0200
TZOFFSETTO:+0100
TZNAME:CET
DTSTART:20241027T010000
END:STANDARD
BEGIN:DAYLIGHT
TZOFFSETFROM:+0100
TZOFFSETTO:+0200
TZNAME:CEST
DTSTART:20250330T010000
END:DAYLIGHT
BEGIN:STANDARD
TZOFFSETFROM:+0200
TZOFFSETTO:+0100
TZNAME:CET
DTSTART:20251026T010000
END:STANDARD
END:VTIMEZONE
BEGIN:VEVENT
DTSTART;TZID=Europe/Berlin:20241117T150000
DTEND;TZID=Europe/Berlin:20241117T163000
DTSTAMP:20260422T032424
CREATED:20240926T195612Z
LAST-MODIFIED:20240926T195612Z
UID:10004040-1731855600-1731861000@wandelstadt-esslingen.de
SUMMARY:Klimaspaziergang – Esslingen neu entdecken und Bausteine der lokalen Klimapolitik erleben!
DESCRIPTION:Beim Klimaspaziergang verbinden wir das Angenehme mit dem Nützlichen. Wir spazieren durch Teile der Esslinger Altstadt und entdecken die vielen Facetten des Klimawandels in unserer Stadt. Dabei geht es sowohl um Klimaschutz als auch um Klimawandelanpassung. Wie kann Esslingen auf die sich rasant verändernden Klimaphänomene reagieren? Wer ist am meisten vom Klimawandel betroffen? Was bedeuten höhere Temperaturen und weniger Niederschläge für die Stadt? Wandern Sie mit\, diskutieren Sie mit und im Anschluss stärken wir uns noch in einem Café nach Wahl. \nDer Weg führt uns u.a. vom Rathaus über die Franziskanergasse zur Hindenburgstraße und in die Maille. Gut machbar für alle ab 8 Jahre! \nTreffpunkt: Brunnen vor dem Alten Rathaus \nBegleiter:innen: Anne Newball-Duke\, Bernhard Wiesmeier
URL:https://wandelstadt-esslingen.de/event/klimaspaziergang-esslingen-neu-entdecken-und-bausteine-der-lokalen-klimapolitik-erleben/
LOCATION:Altes Rathaus\, Rathausplatz 1\, Esslingen\, 73728
END:VEVENT
BEGIN:VEVENT
DTSTART;TZID=Europe/Berlin:20241116T120000
DTEND;TZID=Europe/Berlin:20241116T120000
DTSTAMP:20260422T032424
CREATED:20241114T090439Z
LAST-MODIFIED:20241114T090439Z
UID:10004418-1731758400-1731758400@wandelstadt-esslingen.de
SUMMARY:Esslingen gemeinsam entdecken
DESCRIPTION:Die „etwas andere“ Stadttour \nFür alle mit Wohnsitz in Esslingen und die Interesse daran\, die Stadt gemeinsam mit anderen Menschen kennenzulernen: \n\nNeu (oder auch nicht mehr ganz so neu) in Esslingen?\nLust in einer Gruppe die Stadt anhand eines Fragebogens zu erkunden?\nMit gemeinsamem Abschluss und Austausch in geselliger Runde?\n\nOrganisatorisches \n\nTreffpunkt: Am Brunnen vor dem Alten Rathaus (Kriegerdenkmal vor dem Alten Rathaus)\nDie Durchführung erfolgt in deutscher Sprache (bei Bedarf können auch Dolmetscher:innen organisiert werden\, hierzu bitte eine kurze Info per Mail)\nFestes Schuhwerk empfohlen.\nZeitlicher Rahmen: ca. 1\,5 Stunden Spaziergang (nicht barrierefrei) mit anschließendem geselligen Austausch.\nDie Veranstaltung findet auch bei Regen statt.\n\nAnmeldung \n\nFür Ihre verbindliche Teilnahme (vorbehaltlich der Verfügbarkeit) schreiben Sie bitte eine E-Mail mit Ihrem Terminwunsch an migration-integration@esslingen.de.\nBitte geben Sie dabei folgende Informationen an:\n\nIhre Kontaktdaten\nBringen Sie eine/mehrere Begleitperson(en) mit?\nmöchten Sie an dem anschließenden Abschluss in einem Lokal teilnehmen? (kostenlos)\n\n\nSie erhalten dann weitere Details.\n\nBitte seien Sie fair und sagen Ihre Teilnahme frühzeitig ab\, falls Sie doch verhindert sind.\nVielen Dank 😊 \n\n\n\n\n\n\n\nHinweis \nverbindliche Anmeldung erforderlich
URL:https://wandelstadt-esslingen.de/event/esslingen-gemeinsam-entdecken-3/
LOCATION:Altes Rathaus\, Rathausplatz 1\, Esslingen\, 73728
END:VEVENT
BEGIN:VEVENT
DTSTART;TZID=Europe/Berlin:20240722T173000
DTEND;TZID=Europe/Berlin:20240722T173000
DTSTAMP:20260422T032424
CREATED:20240623T132806Z
LAST-MODIFIED:20240623T132806Z
UID:10003050-1721669400-1721669400@wandelstadt-esslingen.de
SUMMARY:Konstituierende Sitzung des neuen Gemeinderats
DESCRIPTION:Zum gewählten Termin liegt keine Tagesordnung vor. So sehen Sie an dieser Stelle lediglich die allgemeinen Informationen zu diesem Termin.
URL:https://wandelstadt-esslingen.de/event/konstituierende-sitzung-des-neuen-gemeinderats/
LOCATION:Altes Rathaus\, Rathausplatz 1\, Esslingen\, 73728
CATEGORIES:Infoveranstaltung
END:VEVENT
BEGIN:VEVENT
DTSTART;TZID=Europe/Berlin:20240722T153000
DTEND;TZID=Europe/Berlin:20240722T163000
DTSTAMP:20260422T032424
CREATED:20240717T081036Z
LAST-MODIFIED:20240717T081036Z
UID:10003841-1721662200-1721665800@wandelstadt-esslingen.de
SUMMARY:Mahnwache vor der Gemeinderatssitzung
DESCRIPTION:Liebe demokratiebewegte Menschen in Esslingen\, \n  \ndie ersten Sommertage haben uns mit reichlich Hitze verwöhnt\, die EM macht es spannend und lässt teilweise den Alltag in den Hintergrund treten\, die Sommerferien stehen bald vor der Tür\, Urlaubstage locken…man könnte fast vergessen\, dass am 9.6. die AfD in den Esslinger Gemeinderat gewählt worden ist. \nDiese Wahl bedeutet eine Zäsur: Künftig wird die Fraktion dieser rechtsextremen Partei mit ihren ausgrenzenden Positionen versuchen\, das Zusammenleben der Esslinger:innen mitzugestalten. Das wollen wir nicht hinnehmen. Auf das Verhalten der demokratisch-basierten Parteien im Gemeinderat wird es entscheidend ankommen: Die neu mandatierten Gemeinderät:innen tragen hier eine große Verantwortung\, den Einfluss der AfD auf das Zusammenleben der Esslinger Stadtgesellschaft nicht zuzulassen oder gar deren Stimmen für eigene Zwecke zu verwenden. Die Berücksichtigung der unterschiedlichen Interessen der Bürger:innen ist nicht auf diese populistische und rechtsextreme Partei angewiesen. \nEs muss allen deutlich sein\, dass die Brandmauer gegen Rechtsextremismus in Esslingen Bestand hat\, um unser vielfältiges\, offenes und buntes Zusammenleben zu schützen! \nUm die neuen Gemeinderät:innen darauf aufmerksam zu machen rufen wir Euch zum Beginn der ersten Sitzung des neuen Esslinger Gemeinderats am Montag\, 22.07.2024\, 15:30 Uhr zu einer Mahnwache/Aktion Brandmauer vor dem Alten Rathaus auf. Seid dabei\, bezieht Stellung\, lasst Esslingen wissen\, dass wir auf unsere freiheitlich-demokratische Grundordnung und die damit verbundenen Werte acht geben – hier direkt an unserem Lebensmittelpunkt! \nLasst uns gemeinsam kreativ Haltung zeigen und die Gemeinderäte an ihre Verantwortung erinnern mit vielen engagierten Bürger:innen jeden Alters. \nBringt Eure Schilder und Zeichen mit für einen großen\, bunten Protest bzw. für eine Mahnung an das\, was wir schützen und für die Zukunft bewahren werden. #Esslingenbleibtstabil \nWir treffen uns ab 15:30 Uhr vor dem Alten Rathaus – wir zählen auf Euch! \nBitte leitet diesen Aufruf unbedingt in alle Eure Netzwerke weiter\, damit wir zahlreich ein weithin sichtbares Zeichen setzen können. \n  \nEuer Esslinger Bündnis für Demokratie und MenschenrechteEsslinger Bündnis für Demokratie und Menschenrechte
URL:https://wandelstadt-esslingen.de/event/mahnwache-vor-der-gemeinderatssitzung/
LOCATION:Altes Rathaus\, Rathausplatz 1\, Esslingen\, 73728
END:VEVENT
BEGIN:VEVENT
DTSTART;TZID=Europe/Berlin:20240608T120000
DTEND;TZID=Europe/Berlin:20240608T120000
DTSTAMP:20260422T032424
CREATED:20240517T083720Z
LAST-MODIFIED:20240517T083720Z
UID:10002927-1717848000-1717848000@wandelstadt-esslingen.de
SUMMARY:Esslingen gemeinsam entdecken
DESCRIPTION:Die „etwas andere“ Stadttour \nFür alle mit Wohnsitz in Esslingen und die Interesse daran\, die Stadt gemeinsam mit anderen Menschen kennenzulernen: \n\nNeu (oder auch nicht mehr ganz so neu) in Esslingen?\nLust in einer Gruppe die Stadt anhand eines Fragebogens zu erkunden?\nMit gemeinsamem Abschluss und Austausch in geselliger Runde?\n\nOrganisatorisches \n\nTreffpunkt: Am Brunnen vor dem Alten Rathaus (Kriegerdenkmal vor dem Alten Rathaus)\nDie Durchführung erfolgt in deutscher Sprache (bei Bedarf können auch Dolmetscher:innen organisiert werden\, hierzu bitte eine kurze Info per Mail)\nFestes Schuhwerk empfohlen.\nZeitlicher Rahmen: ca. 1\,5 Stunden Spaziergang (nicht barrierefrei) mit anschließendem geselligen Austausch.\nDie Veranstaltung findet auch bei Regen statt.\n\nAnmeldung \n\nFür Ihre verbindliche Teilnahme (vorbehaltlich der Verfügbarkeit) schreiben Sie bitte eine E-Mail mit Ihrem Terminwunsch an migration-integration@esslingen.de.\nBitte geben Sie dabei folgende Informationen an:\n\nIhre Kontaktdaten\nBringen Sie eine/mehrere Begleitperson(en) mit?\nmöchten Sie an dem anschließenden Abschluss in einem Lokal teilnehmen? (kostenlos)\n\n\nSie erhalten dann weitere Details.\n\nBitte seien Sie fair und sagen Ihre Teilnahme frühzeitig ab\, falls Sie doch verhindert sind.\nVielen Dank 😊 \n\n\n\n\n\n\nHinweis \nverbindliche Anmeldung erforderlich
URL:https://wandelstadt-esslingen.de/event/esslingen-gemeinsam-entdecken-2/
LOCATION:Altes Rathaus\, Rathausplatz 1\, Esslingen\, 73728
END:VEVENT
BEGIN:VEVENT
DTSTART;TZID=Europe/Berlin:20240513T160000
DTEND;TZID=Europe/Berlin:20240513T160000
DTSTAMP:20260422T032424
CREATED:20240429T092038Z
LAST-MODIFIED:20240429T092038Z
UID:10002852-1715616000-1715616000@wandelstadt-esslingen.de
SUMMARY:Vom Modehaus zur Stadtbibliothek
DESCRIPTION:Montag\, 13. Mai – ab 16 Uhr\nDer Gemeinderat entscheidet darüber\, ob die Pläne für einen Umzug der Stadtbücherei in das ehemalige Modehaus Kögel weiter verfolgt werden. Auf Grund des zu erwartenden großen Interesses findet diese Sitzung ebenfalls im Bürgersaal des Alten Rathauses statt. Zusätzlich wird die Sitzung via Livestream in den Sitzungssaal des Alten Rathauses übertragen.
URL:https://wandelstadt-esslingen.de/event/vom-modehaus-zur-stadtbibliothek/
LOCATION:Altes Rathaus\, Rathausplatz 1\, Esslingen\, 73728
CATEGORIES:Infoveranstaltung
END:VEVENT
BEGIN:VEVENT
DTSTART;TZID=Europe/Berlin:20240418T190000
DTEND;TZID=Europe/Berlin:20240418T210000
DTSTAMP:20260422T032424
CREATED:20240329T192039Z
LAST-MODIFIED:20240329T192443Z
UID:10002767-1713466800-1713474000@wandelstadt-esslingen.de
SUMMARY:Die Zukunft der Stadtbücherei Esslingen
DESCRIPTION:Es geht um den vorgeschlagenen Umbau des Kögel-Gebäudes und den politischen\, praktischen und finanziellen Fragen die daran hängen und der zentralen Frage. Kann ein Bürgerentscheid nach drei Jahren einfach aufgehoben werden? \n  \nDie Veranstaltung beginnt um 19 Uhr. Ab 17 Uhr gibt es die Möglichkeit\, in die Pläne Einsicht zu nehme und mit uns ins Gespräch zu kommen.
URL:https://wandelstadt-esslingen.de/event/oeffentliche-infoveranstaltung-des-foerdervereins-stadtbuecherei/
LOCATION:Altes Rathaus\, Rathausplatz 1\, Esslingen\, 73728
ORGANIZER;CN="F%C3%B6rderverein Stadtb%C3%BCcherei":MAILTO:foerderverein-stadtbuecherei-esslingen@gmx.de
END:VEVENT
BEGIN:VEVENT
DTSTART;TZID=Europe/Berlin:20240410T190000
DTEND;TZID=Europe/Berlin:20240410T213000
DTSTAMP:20260422T032424
CREATED:20240325T202809Z
LAST-MODIFIED:20240325T202809Z
UID:10002764-1712775600-1712784600@wandelstadt-esslingen.de
SUMMARY:ADFC Jahreshauptversammlung 2024
DESCRIPTION:Die vielfältigen Fahrradthemen aus unserem Landkreis wollen wir gemeinsam mit Euch\nerörtern. Zusätzlich haben wir natürlich auch ein paar Formalien für den Kreisverband\nzu erledigen.
URL:https://wandelstadt-esslingen.de/event/adfc-jahreshauptversammlung-2024/
LOCATION:Altes Rathaus\, Rathausplatz 1\, Esslingen\, 73728
ORGANIZER;CN="Allgemeiner Deutscher Fahrrad-Club e. V. (ADFC)":MAILTO:thomas.albrecht@adfc-bw.de
END:VEVENT
BEGIN:VEVENT
DTSTART;TZID=Europe/Berlin:20240314T183000
DTEND;TZID=Europe/Berlin:20240314T183000
DTSTAMP:20260422T032424
CREATED:20240222T094937Z
LAST-MODIFIED:20240222T095104Z
UID:10002729-1710441000-1710441000@wandelstadt-esslingen.de
SUMMARY:Europa und ich
DESCRIPTION:Über 80% der Gesetze der Bundesrepublik haben ihren Ursprung auf europäischer Ebene. Die Bedeutung der Europawahl\, die am 9. Juni parallel zur Kommunalwahl stattfindet\, ist daher kaum zu überschätzen. \nDie überparteiliche Europa Union Esslingen lädt daher am Donnerstag\, den 14. März 2024\, um 18:30 Uhr im Alten Rathaus in Esslingen zur Podiumsdiskussion mit dem Titel „Europa und ich – darum geht’s bei der Europawahl am 9. Juni!“ ein. Wir freuen uns\, dass wir dazu die Spitzenkandidaten von CDU\, SPD und Bündnis90/die Grünen aus Baden-Württemberg für die Europawahl begrüßen dürfen. Gemeinsam wollen wir diskutieren\, um was es bei der Wahl am 9. Juni geht\, welchen Herausforderungen sich die EU gegenübersieht und welche Lösungswege gangbar sind. Bitte geben Sie uns unter esslingen@eubw.eu kurz Bescheid\, ob Sie dabei sein können.
URL:https://wandelstadt-esslingen.de/event/europa-und-ich/
LOCATION:Altes Rathaus\, Rathausplatz 1\, Esslingen\, 73728
CATEGORIES:Infoveranstaltung
ATTACH;FMTTYPE=image/jpeg:https://wandelstadt-esslingen.de/wp-content/uploads/2024/02/europa-und-ich-web.jpg
END:VEVENT
END:VCALENDAR