BEGIN:VCALENDAR
VERSION:2.0
PRODID:-//Wandelstadt Esslingen - ECPv6.15.20//NONSGML v1.0//EN
CALSCALE:GREGORIAN
METHOD:PUBLISH
X-ORIGINAL-URL:https://wandelstadt-esslingen.de
X-WR-CALDESC:Veranstaltungen für Wandelstadt Esslingen
REFRESH-INTERVAL;VALUE=DURATION:PT1H
X-Robots-Tag:noindex
X-PUBLISHED-TTL:PT1H
BEGIN:VTIMEZONE
TZID:Europe/Berlin
BEGIN:DAYLIGHT
TZOFFSETFROM:+0100
TZOFFSETTO:+0200
TZNAME:CEST
DTSTART:20230326T010000
END:DAYLIGHT
BEGIN:STANDARD
TZOFFSETFROM:+0200
TZOFFSETTO:+0100
TZNAME:CET
DTSTART:20231029T010000
END:STANDARD
BEGIN:DAYLIGHT
TZOFFSETFROM:+0100
TZOFFSETTO:+0200
TZNAME:CEST
DTSTART:20240331T010000
END:DAYLIGHT
BEGIN:STANDARD
TZOFFSETFROM:+0200
TZOFFSETTO:+0100
TZNAME:CET
DTSTART:20241027T010000
END:STANDARD
BEGIN:DAYLIGHT
TZOFFSETFROM:+0100
TZOFFSETTO:+0200
TZNAME:CEST
DTSTART:20250330T010000
END:DAYLIGHT
BEGIN:STANDARD
TZOFFSETFROM:+0200
TZOFFSETTO:+0100
TZNAME:CET
DTSTART:20251026T010000
END:STANDARD
BEGIN:DAYLIGHT
TZOFFSETFROM:+0100
TZOFFSETTO:+0200
TZNAME:CEST
DTSTART:20260329T010000
END:DAYLIGHT
BEGIN:STANDARD
TZOFFSETFROM:+0200
TZOFFSETTO:+0100
TZNAME:CET
DTSTART:20261025T010000
END:STANDARD
BEGIN:DAYLIGHT
TZOFFSETFROM:+0100
TZOFFSETTO:+0200
TZNAME:CEST
DTSTART:20270328T010000
END:DAYLIGHT
BEGIN:STANDARD
TZOFFSETFROM:+0200
TZOFFSETTO:+0100
TZNAME:CET
DTSTART:20271031T010000
END:STANDARD
END:VTIMEZONE
BEGIN:VEVENT
DTSTART;TZID=Europe/Berlin:20260202T170000
DTEND;TZID=Europe/Berlin:20260202T200000
DTSTAMP:20260421T221202
CREATED:20260125T095633Z
LAST-MODIFIED:20260125T095633Z
UID:10008826-1770051600-1770062400@wandelstadt-esslingen.de
SUMMARY:Klimamobilitätsplan - Mobilitätsforum
DESCRIPTION:Wie können wir in Zukunft nachhaltiger\, flexibler und entspannter unterwegs sein? Um genau diese Frage zu beantworten\, erarbeiten wir derzeit einen Klimamobilitätsplan (KMP). \n\n\nMobilitätsforum am 2. Februar\n\n\nIm Alten Rathaus erfahren Interessierte ab 17 Uhr\, wie der aktuelle Stand der Planungen aussieht – und können ihre Perspektive als Anwohnerinnen und Anwohner\, Pendlerinnen und Pendler oder Nutzerinnen und Nutzer des ÖPNV mit einbringen. \nZur Teilnahme Anmeldung unter: https://eveeno.com/mobilitaetsforum-esslingen
URL:https://wandelstadt-esslingen.de/event/klimamobilitaetsplan-mobilitaetsforum/
LOCATION:Altes Rathaus\, Esslingen am Neckar\, 73728
CATEGORIES:Beteiligung,Infoveranstaltung,Vernetzungsveranstaltung,Workshop
END:VEVENT
BEGIN:VEVENT
DTSTART;TZID=Europe/Berlin:20251122T100000
DTEND;TZID=Europe/Berlin:20251122T100000
DTSTAMP:20260421T221202
CREATED:20251029T175750Z
LAST-MODIFIED:20251029T175750Z
UID:10007140-1763805600-1763805600@wandelstadt-esslingen.de
SUMMARY:Was heißt schon alt? - Auftaktveranstaltung
DESCRIPTION:Auftaktveranstaltung mit anschließendem Besuch der Ausstellung rund ums Älterwerden.\n \nAb wann ist man eigentlich alt? Was heißt alt sein? Und wie sieht das Leben im Alter wirklich aus? Viele Menschen haben Bilder vom Alter im Kopf – aber stimmen diese auch? \nEntdecken Sie in der Ausstellung „Was heißt schon alt?“ neue Perspektiven auf das Älterwerden sowie neue\, vielfältige Bilder vom Alter – jenseits von Klischees. Denn: Unsere Vorstellungen vom Alter prägen nicht nur das Miteinander der Generationen\, sondern auch unsere Sicht auf das eigene Älterwerden. \nDiese Ausstellung gehört zur Vorsorgekampagne der Stadt Esslingen am Neckar.
URL:https://wandelstadt-esslingen.de/event/was-heisst-schon-alt-auftaktveranstaltung/
LOCATION:Altes Rathaus\, Esslingen am Neckar\, 73728
END:VEVENT
BEGIN:VEVENT
DTSTART;TZID=Europe/Berlin:20251119T140000
DTEND;TZID=Europe/Berlin:20251119T160000
DTSTAMP:20260421T221202
CREATED:20251027T171923Z
LAST-MODIFIED:20251027T171923Z
UID:10006734-1763560800-1763568000@wandelstadt-esslingen.de
SUMMARY:Auf dem Weg der Thorarolle - Streifzug durch das Jüdische Esslingen
DESCRIPTION:Wir folgen dem Weg\, den die neue Thorarolle am 7. Juni 2016/1. Siwan 5776 zurückgelegt hat und begegnen dabei einigen Stolperstein-Biografien. Dabei schließen wir in der Synagoge mit einem kurzen Gespräch mit Elena Braginska und Wolfgang Drexler ab. \nKOSTEN:\nFreier Eintritt \nVERANSTALTER:\nDenkzeichen e.V.
URL:https://wandelstadt-esslingen.de/event/auf-dem-weg-der-thorarolle-streifzug-durch-das-juedische-esslingen/
LOCATION:Altes Rathaus\, Esslingen am Neckar\, 73728
CATEGORIES:Ausflug,Kulturveranstaltung,Live-Veranstaltung,Wanderung
END:VEVENT
BEGIN:VEVENT
DTSTART;TZID=Europe/Berlin:20250526T080000
DTEND;TZID=Europe/Berlin:20250526T170000
DTSTAMP:20260421T221202
CREATED:20250526T115914Z
LAST-MODIFIED:20250526T115914Z
UID:10005532-1748246400-1748278800@wandelstadt-esslingen.de
SUMMARY:Öffentliche Sitzung des Klimarats
DESCRIPTION:Öffentliche Sitzung des Klimarats\nam Dienstag\, den 5. Juni 2025\num 16:00 Uhr\nim Sitzungssaal des Alten Rathauses\nTagesordnung\nÖffentliche Sitzung\n1. Begrüßung durch Oberbürgermeister Matthias Klopfer\n2. Genehmigung der Tagesordnung\n3. Bericht aus der internen Arbeitssitzung des Klimarats\nInhalt: Einblick in die Themen und Aktivitäten des Klimarats im neuen Arbeitsmodus.\nGeplant ist zudem\, kurze Impulse durch externe Expert*innen einzubinden\, die wir –\nvorbehaltlich finaler Abstimmung – noch rechtzeitig namentlich melden werden. Im\nAnschluss möchten wir eine Diskussion mit den anwesenden Teilnehmer*innen führen.\nFormat: Präsentation durch Mitglieder des Gremiums.\nUnterlagen: Keine vorab zu versendenden Unterlagen erforderlich.\n4. Stellungnahme zur CO;-Bilanz und Überprüfung der Absenkpfade im Kontext des CO;-\nBudgets für das 1\,75°C-Ziel\nInhalt: Im Rahmen dieses Tagesordnungspunktes wird die Stellungnahme zur aktuelle\nCO;-Bilanz der Stadt Esslingen vorgestellt und im Hinblick auf das verbleibende\nEmissionsbudget für das 1\,75°C-Ziel überprüft. Aufbauend auf dieser Analyse diskutieren\nwir konkrete Maßnahmenempfehlungen\, mit einem besonderen Fokus auf den\nMobilitätssektor.\nWir stehen den Anwesenden während der Sitzung als Expert*innen für Rückfragen zur\nVerfügung.\nUnterlagen: Die schriftliche Stellungnahme inklusive Maßnahmenvorschlägen zur\nAufnahme in die Sitzungsunterlagen des ABMK sind im Anhang.\n5. Verschiedenes
URL:https://wandelstadt-esslingen.de/event/oeffentliche-sitzung-des-klimarats/
LOCATION:Altes Rathaus\, Esslingen am Neckar\, 73728
END:VEVENT
BEGIN:VEVENT
DTSTART;TZID=Europe/Berlin:20241010T180000
DTEND;TZID=Europe/Berlin:20241010T200000
DTSTAMP:20260421T221202
CREATED:20240923T144312Z
LAST-MODIFIED:20240926T192838Z
UID:10004024-1728583200-1728590400@wandelstadt-esslingen.de
SUMMARY:Klimarat Esslingen
DESCRIPTION:Wir möchten Euch herzlich zur nächsten öffentlichen Sitzung des Klimarats Esslingen einladen! \nAm 10. Oktober 2024 ab 18:00 Uhr habt Ihr die Möglichkeit\, Euch über die aktuellen Maßnahmen und Diskussionen zur Klimapolitik in unserer Stadt zu informieren. \nEin Gremium aus Wirtschaft\, Wissenschaft\, Politik und Zivilgesellschaft soll dazu beitragen Stadt Esslingen auf dem Weg zur Klimaneutralität zu unterstützen. \nEure Teilnahme an der Sitzung ist ein wertvoller Beitrag:\nJe mehr Menschen sich für den Klimarat interessieren und bei öffentlichen Treffen dabei sind\, desto mehr Gewicht erhält seine Arbeit für die Stadt. \nWir freuen uns auf Euer Kommen und den gemeinsamen Austausch für eine nachhaltige Zukunft Esslingens! \nHerzliche Grüße Euer\nBündnis für Klimagerechtigkeit \nDer Klimarat ist ein Gremium des Gemeinderats Esslingen
URL:https://wandelstadt-esslingen.de/event/klimarat-esslingen/
LOCATION:Altes Rathaus\, Esslingen am Neckar\, 73728
END:VEVENT
END:VCALENDAR