BEGIN:VCALENDAR
VERSION:2.0
PRODID:-//Wandelstadt Esslingen - ECPv6.15.20//NONSGML v1.0//EN
CALSCALE:GREGORIAN
METHOD:PUBLISH
X-WR-CALNAME:Wandelstadt Esslingen
X-ORIGINAL-URL:https://wandelstadt-esslingen.de
X-WR-CALDESC:Veranstaltungen für Wandelstadt Esslingen
REFRESH-INTERVAL;VALUE=DURATION:PT1H
X-Robots-Tag:noindex
X-PUBLISHED-TTL:PT1H
BEGIN:VTIMEZONE
TZID:Europe/Berlin
BEGIN:DAYLIGHT
TZOFFSETFROM:+0100
TZOFFSETTO:+0200
TZNAME:CEST
DTSTART:20220327T010000
END:DAYLIGHT
BEGIN:STANDARD
TZOFFSETFROM:+0200
TZOFFSETTO:+0100
TZNAME:CET
DTSTART:20221030T010000
END:STANDARD
BEGIN:DAYLIGHT
TZOFFSETFROM:+0100
TZOFFSETTO:+0200
TZNAME:CEST
DTSTART:20230326T010000
END:DAYLIGHT
BEGIN:STANDARD
TZOFFSETFROM:+0200
TZOFFSETTO:+0100
TZNAME:CET
DTSTART:20231029T010000
END:STANDARD
BEGIN:DAYLIGHT
TZOFFSETFROM:+0100
TZOFFSETTO:+0200
TZNAME:CEST
DTSTART:20240331T010000
END:DAYLIGHT
BEGIN:STANDARD
TZOFFSETFROM:+0200
TZOFFSETTO:+0100
TZNAME:CET
DTSTART:20241027T010000
END:STANDARD
BEGIN:DAYLIGHT
TZOFFSETFROM:+0100
TZOFFSETTO:+0200
TZNAME:CEST
DTSTART:20250330T010000
END:DAYLIGHT
BEGIN:STANDARD
TZOFFSETFROM:+0200
TZOFFSETTO:+0100
TZNAME:CET
DTSTART:20251026T010000
END:STANDARD
BEGIN:DAYLIGHT
TZOFFSETFROM:+0100
TZOFFSETTO:+0200
TZNAME:CEST
DTSTART:20260329T010000
END:DAYLIGHT
BEGIN:STANDARD
TZOFFSETFROM:+0200
TZOFFSETTO:+0100
TZNAME:CET
DTSTART:20261025T010000
END:STANDARD
END:VTIMEZONE
BEGIN:VEVENT
DTSTART;TZID=Europe/Berlin:20250617T190000
DTEND;TZID=Europe/Berlin:20250617T203000
DTSTAMP:20260422T043643
CREATED:20250519T082924Z
LAST-MODIFIED:20250519T120948Z
UID:10005405-1750186800-1750192200@wandelstadt-esslingen.de
SUMMARY:Di. 17.6. 19 Uhr - Aktiven- und Interessiertenrunde des Kreisverbands Esslingen
DESCRIPTION:Neue Möglichkeiten für Ausbau des Esslinger Busverkehrs und für freie Geh-und Radwege\nDas Landesmobilitätsgesetz bietet seit April 2025 neue Möglichkeiten zur Verbesserung des Angebots im Umweltverbund\nHerzliche Einladung zur offenen Aktiven- und Interessiertenrunde am Dienstag den 17.06.2025 um 19 Uhr\nim Forum für Bürgerengagement\, Gruppenraum 2\, Schelztorstr. 38\, 73728 Esslingen \n\nDas Landesmobilitätsgesetz bietet seit April 2025 die Möglichkeit den ÖPNV auszubauen und Geh- und Radverbindungen effizienter frei zu halten.\nWir wollen uns anschauen wie die Stadt Esslingen und des Landkreis Esslingen diese Instrumente nutzen können. \nPetra Schulz ist im Vorstand des VCD-Landesverbands seit einiger Zeit nahe dran an der Entstehung des Landesmobilitätsgesetzes und wird uns über die Möglichkeiten\, Hintergründe und Ziele berichten.\nDanach tauschen wir uns darüber aus\, wie wir diese Möglichkeiten in die Entscheidungsgremien bei der Stadt und beim Landkreis einbringen. \nWas ist die Aktiven- und Interessiertenrunde:\nMehrmals im Jahr diskutieren wir über aktuelle Themen rund um die Verkehrswende. Ziel ist es\, die Verkehrsinfrastruktur hier vor Ort menschen-\, stadt- und klimafreundlicher zu gestalten. Alle Mitglieder und Interessierte sind herzlich willkommen! \nKontakt: info@vcd-esslingen.de
URL:https://wandelstadt-esslingen.de/event/di-17-6-19-uhr-aktiven-und-interessiertenrunde-des-kreisverbands-esslingen/
LOCATION:Forum Esslingen – Zentrum für Bürgerengagement\, Schelztorstraße 38\, Esslingen\, Deutschland
CATEGORIES:Beteiligung,Infoveranstaltung,Vernetzungsveranstaltung
ATTACH;FMTTYPE=image/jpeg:https://wandelstadt-esslingen.de/wp-content/uploads/2025/05/Fahne-VCD.jpg
ORGANIZER;CN="Verkehrsclub Deutschland e.V. Kreisverband Esslingen":MAILTO:info@vcd-esslingen.de
END:VEVENT
BEGIN:VEVENT
DTSTART;TZID=Europe/Berlin:20241204T200000
DTEND;TZID=Europe/Berlin:20241204T213000
DTSTAMP:20260422T043643
CREATED:20241201T234250Z
LAST-MODIFIED:20241201T234250Z
UID:10004462-1733342400-1733347800@wandelstadt-esslingen.de
SUMMARY:Freie und sichere Gehwege in Esslingen
DESCRIPTION:Was hilft gegen zugeparkte Gehwege? Das klären wir am Mittwoch den 4.12.2024 ab 20 Uhr bei unserer Aktiven- und Interessiertenrunde. Herzliche Einladung dazu.\nGehwege und Fußgängerbereiche sollen Schutzraum sein. Sie sollen dazu einladen sicher und angenehm zu Fuß von A nach B zu kommen. Auch für Menschen mit Rolli\, Rollator und Kinderwagen sind gute und freie Gehwege wichtig. Oft sind Gehwege und Kreuzungsecken aber illegal zugeparkt. Das ist gefährlich und ärgerlich. Wie in vielen deutschen Städten ist auch in Esslingen der Einsatz des Ordnungsamts gegen illegales Gehwegparken kaum spürbar. Selbst an vielen bekannten Brennpunkten des Gehwegparkens kommen die Ordnungsämter ihrer hoheitlichen Aufgabe nur ungenügend nach.\nEin Urteil des Bundesverwaltungsgerichts hat jetzt die grundsätzliche Pflicht zum Handeln nochmals bestätigt. Ordnungsämter\, als zuständige Straßenverkehrsbehörde\, müssen entlang einer wirkungsoptimierten Kontrollstrategie arbeiten um Gehwege sicher benutzbar zu halten. Das hatten Bremer AnwohnerInnen jetzt vor Gericht klären lassen.\nWelche Möglichkeiten gibt es in Esslingen sich gegen das Zuparken von Gehwegen zu wehren? Das im Koalitionsvertrag noch vereinbarte Landesmobilitätsgesetz könnte die Arbeit des Ordnungsamts deutlich effizienter machen. Es soll den Einsatz von Scanfahrzeugen ermöglichen\, wie diese bereits seit vielen Jahren in anderen Ländern im Einsatz sind.\nAls Gast und Experte freuen wir uns auf Peter Erben vom Verein Fuss e.V. Stuttgart. Der Fuss e.V. setzt sich in Stuttgart für freie und sichere Fußverbindungen ein.\nMittwoch den 4.12.2024 um 20 Uhr\, Ort: Forum für Bürgerengagement\, Gruppenraum 2\, Schelztorstr. 38\, 73728 Esslingen
URL:https://wandelstadt-esslingen.de/event/freie-und-sichere-gehwege-in-esslingen/
LOCATION:Forum Esslingen – Zentrum für Bürgerengagement\, Schelztorstraße 38\, Esslingen\, Deutschland
CATEGORIES:Beteiligung,Infoveranstaltung,Vernetzungsveranstaltung
ATTACH;FMTTYPE=image/jpeg:https://wandelstadt-esslingen.de/wp-content/uploads/2024/12/Gehwegparker-Schenkenbergstrasse-4-scaled.jpeg
ORGANIZER;CN="Verkehrsclub Deutschland e.V. Kreisverband Esslingen":MAILTO:info@vcd-esslingen.de
END:VEVENT
BEGIN:VEVENT
DTSTART;TZID=Europe/Berlin:20241009T190000
DTEND;TZID=Europe/Berlin:20241009T203000
DTSTAMP:20260422T043643
CREATED:20241006T000710Z
LAST-MODIFIED:20241006T001616Z
UID:10004066-1728500400-1728505800@wandelstadt-esslingen.de
SUMMARY:Aktiven- und Interessiertentreffen des VCD-Kreisverband Esslingen
DESCRIPTION:Mi. 9.10. 19:00 Uhr \n\nAktiven- und Interessiertentreffen des VCD-Kreisverband Esslingen\nGemeinsam im Kreis Esslingen ein menschen-\, umwelt- und klimafreundliches Mobilitätssystem voranbringen. \nAb Herbst bieten wir ein regelmäßiges Treffen an\, in dem wir über aktuelle Entwicklungen in der lokalen Verkehrspolitik sprechen. Wer sich dafür interessiert und auch eigene Themen einbringen möchte\, ist herzlich eingeladen\, vorbeizuschauen.\nForum Esslingen\, Zentrum für Bürgerengagement\, Gruppenraum 1\, Schelztorstraße. 38\, 73728 Esslingen \nFahrradfahren oder Zufußgehen ist in Deutschland und in Esslingen leider nicht immer einfach. Parkende Autos auf den Wegen\, fehlende oder schlechte Infrastruktur\, lange Ampelzeiten und vieles mehr stören umweltfreundliche Mobilität. Bis zu diesem Jahr waren den Kommunen bei vielen Maßnahmen die Hände gebunden\, die die Qualität des Fuß- und Radverkehrs und die Verkehrssicherheit verbessert hätten. Das lag daran\, dass bei jeder Maßnahme immer die Leichtigkeit des KFZ-Verkehrs mit höchster Priorität berücksichtigt werden musste und das gesetzlichen Regelungen dabei nur begrenzten Spielraum zuließ. Fuß- und Radverkehr wurden dabei in der Planung häufig zu wenig berücksichtigt. Durch das jetzt in der Landesregierung geeinte und eingebrachte Mobilitätsgesetz des Landes Baden-Württemberg und die verabschiedeten Änderungen im Straßenverkehrsgesetz werden die Kommunen in dem Bereich deutlich mehr Handlungsspielraum bekommen. Welche Änderungen das sind und wo man diese in Esslingen umsetzen kann\, möchten wir vom VCD Kreisverband Esslingen gemeinsam diskutieren. Dafür treffen wir uns am Mittwoch\, dem 9.10.24\, um 19 Uhr im Forum für Bürgerengagement Schelztorstr. 38 im Gruppenraum 1. Sie haben Interesse an dem Thema und möchten ihre Ideen einbringen? Dann schauen Sie gerne vorbei. \nWas ist der VCD? Der VCD Verkehrsclub Deutschland e.V. ist ein gemeinnütziger Umweltverband. Im Mittelpunkt steht für uns der Mensch mit seinen unterschiedlichen Mobilitätsbedürfnissen. Wir setzen uns ein für klima- und umweltverträgliche\, sichere und gesunde Mobilität. Seit 1986 kämpfen wir für ein gerechtes und zukunftsfähiges Miteinander auf der Straße – egal\, ob zu Fuß\, auf dem Rad\, mit Bus und Bahn oder mit dem Auto.
URL:https://wandelstadt-esslingen.de/event/aktiven-und-interessiertentreffen-des-vcd-kreisverband-esslingen-2/
LOCATION:Forum Esslingen – Zentrum für Bürgerengagement\, Schelztorstraße 38\, Esslingen\, Deutschland
CATEGORIES:Beteiligung,Gemütliches Treffen,Infoveranstaltung,Vernetzungsveranstaltung
ATTACH;FMTTYPE=image/png:https://wandelstadt-esslingen.de/wp-content/uploads/2024/09/VCD-Logo_UZ-unten_RGB_BW03-klein.png
ORGANIZER;CN="Verkehrsclub Deutschland e.V. Kreisverband Esslingen":MAILTO:info@vcd-esslingen.de
END:VEVENT
BEGIN:VEVENT
DTSTART;TZID=Europe/Berlin:20240929T120000
DTEND;TZID=Europe/Berlin:20240929T170000
DTSTAMP:20260422T043643
CREATED:20240924T004006Z
LAST-MODIFIED:20240924T004006Z
UID:10004027-1727611200-1727629200@wandelstadt-esslingen.de
SUMMARY:Umwelt- und Klimafest Esslingen
DESCRIPTION:29.9. 12-17 Uhr Ritterstraße\, Umwelt- und Klimafest Esslingen\nAn unserem gemeinsamen Stand von VCD und ADFC geht es darum\, wie gute Mobilität für alle\, Lebensqualität und Klimaschutz hier Vorort unter einen Hut kommen. Wir freuen uns auf Besuch und interessante Gespräche.
URL:https://wandelstadt-esslingen.de/event/umwelt-und-klimafest-esslingen/
LOCATION:Ritterstraße\, Ritterstrasse\, Esslingen\, Deutschland
CATEGORIES:Beteiligung,Infoveranstaltung,Vernetzungsveranstaltung
ATTACH;FMTTYPE=image/png:https://wandelstadt-esslingen.de/wp-content/uploads/2024/09/2024-Logo-Klimafest-.png
ORGANIZER;CN="Allgemeiner Deutscher Fahrrad-Club e. V. (ADFC)":MAILTO:thomas.albrecht@adfc-bw.de
END:VEVENT
BEGIN:VEVENT
DTSTART;TZID=Europe/Berlin:20240928T120000
DTEND;TZID=Europe/Berlin:20240928T210000
DTSTAMP:20260422T043643
CREATED:20240924T002851Z
LAST-MODIFIED:20240924T002851Z
UID:10004026-1727524800-1727557200@wandelstadt-esslingen.de
SUMMARY:Park(ing)Day Esslingen trifft Kulturclub Dieselstraße beim „Stadt im Überfluss Festival“
DESCRIPTION:Sa. 28.9. ab 12 Uhr Park(ing)Day Esslingen trifft Kulturclub Dieselstraße beim „Stadt im Überfluss Festival“\nGemeinsam machen wir die Abt-Fulrad-Straße zur Stadtoase.\nAlle Infos zum Programm hier
URL:https://wandelstadt-esslingen.de/event/parkingday-esslingen-trifft-kulturclub-dieselstrasse-beim-stadt-im-ueberfluss-festival/
LOCATION:Abt-Fuldrad-Strasse\, Esslingen
CATEGORIES:Beteiligung,Gemütliches Treffen,Infoveranstaltung,Kulturveranstaltung,Vernetzungsveranstaltung
ATTACH;FMTTYPE=image/png:https://wandelstadt-esslingen.de/wp-content/uploads/2024/08/StadtimUeberfluss_web_Plakatmotiv_1200x800_RZ.png
ORGANIZER;CN="Verkehrsclub Deutschland e.V. Kreisverband Esslingen":MAILTO:info@vcd-esslingen.de
END:VEVENT
BEGIN:VEVENT
DTSTART;TZID=Europe/Berlin:20240807T183000
DTEND;TZID=Europe/Berlin:20240807T183000
DTSTAMP:20260422T043643
CREATED:20240621T101117Z
LAST-MODIFIED:20240621T101223Z
UID:10003030-1723055400-1723055400@wandelstadt-esslingen.de
SUMMARY:Villa Merkel Initativenabend mit ADFC undVCD
DESCRIPTION:Initiativenabend mit lokalen Engagierten vom Allgemeinen Deutschen Fahrradclub\, dem Verkehrsclub Deutschland e.V\, und Ulrich Heck (Verkehrsplaner\, Superblock West in Stuttgart) \nGemeinsam gestalten wir einen Gesprächsabend zur Gestaltung von Stadtraum als Lebens-und Begegnungsraum. \nVon Uli Heck\, dem Planer des ersten Stuttgarter Superblocks erfahren wir\, wie Stadtoasen die Menschen in Kontakt bringen und Orte zu öffentlichen Wohnzimmern werden\, wo früher mal Autos viel Platz eingeräumt war.\nAuch Visionen für Esslingen sind herzlich willkommen!
URL:https://wandelstadt-esslingen.de/event/villa-merkel-initativenabend-mit-adfc-undvcd/
LOCATION:Villa Merkel\, Pulverwiesen 25\, Esslingen\, 73726\, Deutschland
END:VEVENT
BEGIN:VEVENT
DTSTART;TZID=Europe/Berlin:20230924T150000
DTEND;TZID=Europe/Berlin:20230924T163000
DTSTAMP:20260422T043643
CREATED:20230826T003339Z
LAST-MODIFIED:20230826T003428Z
UID:10001741-1695567600-1695573000@wandelstadt-esslingen.de
SUMMARY:Kidical Mass Esslingen
DESCRIPTION:alle Infos unter:\nhttps://esslingenaufsrad.de/2023/04/kidical-mass-am-sonntag-7-5-15-uhr/
URL:https://wandelstadt-esslingen.de/event/kidical-mass-esslingen/
LOCATION:Marktplatz\, Esslingen\, Marktplatz\, Esslingen\, 73728\, Deutschland
ORGANIZER;CN="Verkehrsclub Deutschland e.V. Kreisverband Esslingen":MAILTO:info@vcd-esslingen.de
END:VEVENT
BEGIN:VEVENT
DTSTART;TZID=Europe/Berlin:20230915T160000
DTEND;TZID=Europe/Berlin:20230915T200000
DTSTAMP:20260422T043643
CREATED:20230826T004209Z
LAST-MODIFIED:20230826T004209Z
UID:10001742-1694793600-1694808000@wandelstadt-esslingen.de
SUMMARY:Park(ing)Day Esslingen
DESCRIPTION:Park(ing)Day diesmal im Esslinger Merkelpark\nalle Infos hier
URL:https://wandelstadt-esslingen.de/event/parkingday-esslingen/
LOCATION:Merkelpark\, Merkelpark\, Esslingen\, Baden-Württemberg\, Deutschland
ORGANIZER;CN="Verkehrsclub Deutschland e.V. Kreisverband Esslingen":MAILTO:info@vcd-esslingen.de
END:VEVENT
END:VCALENDAR