BEGIN:VCALENDAR
VERSION:2.0
PRODID:-//Wandelstadt Esslingen - ECPv6.15.20//NONSGML v1.0//EN
CALSCALE:GREGORIAN
METHOD:PUBLISH
X-ORIGINAL-URL:https://wandelstadt-esslingen.de
X-WR-CALDESC:Veranstaltungen für Wandelstadt Esslingen
REFRESH-INTERVAL;VALUE=DURATION:PT1H
X-Robots-Tag:noindex
X-PUBLISHED-TTL:PT1H
BEGIN:VTIMEZONE
TZID:Europe/Berlin
BEGIN:DAYLIGHT
TZOFFSETFROM:+0100
TZOFFSETTO:+0200
TZNAME:CEST
DTSTART:20230326T010000
END:DAYLIGHT
BEGIN:STANDARD
TZOFFSETFROM:+0200
TZOFFSETTO:+0100
TZNAME:CET
DTSTART:20231029T010000
END:STANDARD
BEGIN:DAYLIGHT
TZOFFSETFROM:+0100
TZOFFSETTO:+0200
TZNAME:CEST
DTSTART:20240331T010000
END:DAYLIGHT
BEGIN:STANDARD
TZOFFSETFROM:+0200
TZOFFSETTO:+0100
TZNAME:CET
DTSTART:20241027T010000
END:STANDARD
BEGIN:DAYLIGHT
TZOFFSETFROM:+0100
TZOFFSETTO:+0200
TZNAME:CEST
DTSTART:20250330T010000
END:DAYLIGHT
BEGIN:STANDARD
TZOFFSETFROM:+0200
TZOFFSETTO:+0100
TZNAME:CET
DTSTART:20251026T010000
END:STANDARD
END:VTIMEZONE
BEGIN:VEVENT
DTSTART;TZID=Europe/Berlin:20241210T180000
DTEND;TZID=Europe/Berlin:20241210T180000
DTSTAMP:20260421T235811
CREATED:20241130T115120Z
LAST-MODIFIED:20241130T115154Z
UID:10004454-1733853600-1733853600@wandelstadt-esslingen.de
SUMMARY:Sie geben Gas\, aber Ihre Räume bleiben kalt?
DESCRIPTION:Heizlastberechnung\, hydraulischer Abgleich\, Sanierungsfahrplan und Förderung (LEA)\n\n10. Dezember / 18:00\n\n\n\n\n\n\n\n\n\n\n\n\nKostenlose Online-Vorträge \nAuch im Herbst 2024 geben wir alles\, um die Energiewende voran zu treiben.\nIn unseren kostenfreien Online-Vorträgen bietet die Energieberatung der Verbraucherzentrale Baden-Württemberg einen Rundumblick über interessante Themen. Die Anmeldung und weitere Informationen finden Sie unter: https://www.verbraucherzentrale-bawue.de/energie/onlineseminare-der-energieberatung-59522 \n\nNeben den Online-Vorträgen bieten die Energieberatung der Verbraucherzentrale und die Kimaschutzagentur des Landkreises Esslingen individuelle Beratungen an. Sie findet zurzeit hauptsächlich online und telefonisch statt. Mehr Informationen gibt es auf verbraucherzentrale-energieberatung.de oder kostenfrei unter 0800 – 809 802 400 oder unter 0711 20 70 30 70
URL:https://wandelstadt-esslingen.de/event/sie-geben-gas-aber-ihre-raeume-bleiben-kalt/
LOCATION:online
CATEGORIES:Infoveranstaltung
ORGANIZER;CN="Verbraucherzentrale Baden-W%C3%BCrttemberg e.V.":MAILTO:info@vz-bw.de
END:VEVENT
BEGIN:VEVENT
DTSTART;TZID=Europe/Berlin:20241210T100000
DTEND;TZID=Europe/Berlin:20241210T100000
DTSTAMP:20260421T235811
CREATED:20241130T115328Z
LAST-MODIFIED:20241130T115620Z
UID:10004455-1733824800-1733824800@wandelstadt-esslingen.de
SUMMARY:Workshop Wärmepumpe
DESCRIPTION:10. Dezember / 10:00\n\n\n\n\n\n\n\n\n\n\n\n\nKostenloser Online-Vortrag \nAuch im Herbst 2024 geben wir alles\, um die Energiewende voran zu treiben.\nIn unseren kostenfreien Online-Vorträgen bietet die Energieberatung der Verbraucherzentrale Baden-Württemberg einen Rundumblick über interessante Themen. Die Anmeldung und weitere Informationen finden Sie unter: https://www.verbraucherzentrale-bawue.de/energie/onlineseminare-der-energieberatung-59522 \n\nNeben den Online-Vorträgen bieten die Energieberatung der Verbraucherzentrale und die Kimaschutzagentur des Landkreises Esslingen individuelle Beratungen an. Sie findet zurzeit hauptsächlich online und telefonisch statt. Mehr Informationen gibt es auf verbraucherzentrale-energieberatung.de oder kostenfrei unter 0800 – 809 802 400 oder unter 0711 20 70 30 70
URL:https://wandelstadt-esslingen.de/event/workshop-waermepumpe/
LOCATION:online
CATEGORIES:Infoveranstaltung
ORGANIZER;CN="Verbraucherzentrale Baden-W%C3%BCrttemberg e.V.":MAILTO:info@vz-bw.de
END:VEVENT
BEGIN:VEVENT
DTSTART;TZID=Europe/Berlin:20241205T100000
DTEND;TZID=Europe/Berlin:20241205T100000
DTSTAMP:20260421T235811
CREATED:20241130T115759Z
LAST-MODIFIED:20241130T115759Z
UID:10004456-1733392800-1733392800@wandelstadt-esslingen.de
SUMMARY:Halt die Wärme fest – Nachträgliche Wärmedämmung
DESCRIPTION:5. Dezember 10 Uhr \nKostenlose Online-Vorträge \nAuch im Herbst 2024 geben wir alles\, um die Energiewende voran zu treiben.\nIn unseren kostenfreien Online-Vorträgen bietet die Energieberatung der Verbraucherzentrale Baden-Württemberg einen Rundumblick über interessante Themen. Die Anmeldung und weitere Informationen finden Sie unter: https://www.verbraucherzentrale-bawue.de/energie/onlineseminare-der-energieberatung-59522 \n\nNeben den Online-Vorträgen bieten die Energieberatung der Verbraucherzentrale und die Kimaschutzagentur des Landkreises Esslingen individuelle Beratungen an. Sie findet zurzeit hauptsächlich online und telefonisch statt. Mehr Informationen gibt es auf verbraucherzentrale-energieberatung.de oder kostenfrei unter 0800 – 809 802 400 oder unter 0711 20 70 30 70
URL:https://wandelstadt-esslingen.de/event/halt-die-waerme-fest-nachtraegliche-waermedaemmung/
LOCATION:online
CATEGORIES:Infoveranstaltung
ORGANIZER;CN="Verbraucherzentrale Baden-W%C3%BCrttemberg e.V.":MAILTO:info@vz-bw.de
END:VEVENT
BEGIN:VEVENT
DTSTART;TZID=Europe/Berlin:20241204T180000
DTEND;TZID=Europe/Berlin:20241204T180000
DTSTAMP:20260421T235811
CREATED:20241130T120609Z
LAST-MODIFIED:20241130T120609Z
UID:10004458-1733335200-1733335200@wandelstadt-esslingen.de
SUMMARY:Fragen zur Heizkostenabrechnung? – Wir zeigen Ihnen wie es geht!
DESCRIPTION:Kostenlose Online-Vorträge \nAuch im Herbst 2024 geben wir alles\, um die Energiewende voran zu treiben.\nIn unseren kostenfreien Online-Vorträgen bietet die Energieberatung der Verbraucherzentrale Baden-Württemberg einen Rundumblick über interessante Themen. Die Anmeldung und weitere Informationen finden Sie unter: https://www.verbraucherzentrale-bawue.de/energie/onlineseminare-der-energieberatung-59522 \n\nNeben den Online-Vorträgen bieten die Energieberatung der Verbraucherzentrale und die Kimaschutzagentur des Landkreises Esslingen individuelle Beratungen an. Sie findet zurzeit hauptsächlich online und telefonisch statt. Mehr Informationen gibt es auf verbraucherzentrale-energieberatung.de oder kostenfrei unter 0800 – 809 802 400 oder unter 0711 20 70 30 70
URL:https://wandelstadt-esslingen.de/event/fragen-zur-heizkostenabrechnung-wir-zeigen-ihnen-wie-es-geht/
LOCATION:online
CATEGORIES:Infoveranstaltung
ORGANIZER;CN="Verbraucherzentrale Baden-W%C3%BCrttemberg e.V.":MAILTO:info@vz-bw.de
END:VEVENT
BEGIN:VEVENT
DTSTART;TZID=Europe/Berlin:20241204T100000
DTEND;TZID=Europe/Berlin:20241204T100000
DTSTAMP:20260421T235811
CREATED:20241130T120741Z
LAST-MODIFIED:20241130T120937Z
UID:10004459-1733306400-1733306400@wandelstadt-esslingen.de
SUMMARY:GEG 2024 – Informationen zum Heizungstausch
DESCRIPTION:Kostenlose Online-Vorträge \nAuch im Herbst 2024 geben wir alles\, um die Energiewende voran zu treiben.\nIn unseren kostenfreien Online-Vorträgen bietet die Energieberatung der Verbraucherzentrale Baden-Württemberg einen Rundumblick über interessante Themen. Die Anmeldung und weitere Informationen finden Sie unter: https://www.verbraucherzentrale-bawue.de/energie/onlineseminare-der-energieberatung-59522 \n\nNeben den Online-Vorträgen bieten die Energieberatung der Verbraucherzentrale und die Kimaschutzagentur des Landkreises Esslingen individuelle Beratungen an. Sie findet zurzeit hauptsächlich online und telefonisch statt. Mehr Informationen gibt es auf verbraucherzentrale-energieberatung.de oder kostenfrei unter 0800 – 809 802 400 oder unter 0711 20 70 30 70
URL:https://wandelstadt-esslingen.de/event/geg-2024-informationen-zum-heizungstausch/
LOCATION:online
CATEGORIES:Infoveranstaltung
ORGANIZER;CN="Verbraucherzentrale Baden-W%C3%BCrttemberg e.V.":MAILTO:info@vz-bw.de
END:VEVENT
BEGIN:VEVENT
DTSTART;TZID=Europe/Berlin:20241202T180000
DTEND;TZID=Europe/Berlin:20241202T193000
DTSTAMP:20260421T235811
CREATED:20241130T121142Z
LAST-MODIFIED:20241130T121142Z
UID:10004460-1733162400-1733167800@wandelstadt-esslingen.de
SUMMARY:Nachtspeicheröfen sanieren – Erfahrungsbericht und Tipps eines Eigentümers
DESCRIPTION:Im Zuge der Energiewende stehen für Verbraucher:innen einige Veränderungen bevor. Die Bundesregierung veröffentlicht viele Informationen und Vorhaben die mehr Fragen hervorrufen als beantwortet werden können.\nHeizen mit erneuerbaren Energien oder schadstofffreies Heizen sind jedoch nicht von allen Immobilienbesitzern direkt\, komplett oder teilweise umsetzbar. \nIm Seminar „Nachtspeicherheizung sanieren – Erfahrungsbericht und Tipps eines Eigentümers“ informiert unser Referent und Energieberater Dr. Bernd Gewiese zu Kosten\, Förderung und Amortisationszeiten sowie zur Nutzung erneuerbarer Energien als kostengünstiger Alternative zum Strom. Am praktischen Beispiel seines eigenen Gebäudes zeigt Dr. Bernd Gewiese\, wie sich eine Nachtspeicherheizung ohne große Umbauten im Innenraum sanieren lässt. \nDarüber hinaus werden Fragen geklärt wie: \nWeshalb lohnt sich eine Sanierung der Nachtspeicherheizung? \nIhre Nachtspeicherheizung ist veraltet und Sie interessieren sich für Ihre Alternativen und Sanierungsoptionen? \nWelche Optionen haben Sie und was gibt es dabei zu beachten? \nDies und alles rund um die Nachtspeicherheizungssanierung erfahren Sie in diesem Seminar. \nMelden Sie sich über das Anmeldeformular zum Online-Seminar an und nehmen Sie bequem von zuhause aus teil. Die Teilnahme ist kostenlos. \nHinweis: Sofern Sie im Online-Seminar anonym bleiben wollen\, können Sie sich mit E-Mail-Adresse und einem Nickname\, bzw. Pseudonym anmelden. Der Name\, den Sie bei der Anmeldung eingeben\, wird während des Online-Seminars nur den Moderator:innen angezeigt. \nEine Übersicht zu unseren Online-Seminaren mit allen Themen und Terminen finden Sie auf unserer Webseite: https://www.verbraucherzentrale-bawue.de/onlineseminare-bw
URL:https://wandelstadt-esslingen.de/event/nachtspeicheroefen-sanieren-erfahrungsbericht-und-tipps-eines-eigentuemers/
LOCATION:online
CATEGORIES:Infoveranstaltung
ORGANIZER;CN="Verbraucherzentrale Baden-W%C3%BCrttemberg e.V.":MAILTO:info@vz-bw.de
END:VEVENT
END:VCALENDAR