BEGIN:VCALENDAR
VERSION:2.0
PRODID:-//Wandelstadt Esslingen - ECPv6.15.20//NONSGML v1.0//EN
CALSCALE:GREGORIAN
METHOD:PUBLISH
X-WR-CALNAME:Wandelstadt Esslingen
X-ORIGINAL-URL:https://wandelstadt-esslingen.de
X-WR-CALDESC:Veranstaltungen für Wandelstadt Esslingen
REFRESH-INTERVAL;VALUE=DURATION:PT1H
X-Robots-Tag:noindex
X-PUBLISHED-TTL:PT1H
BEGIN:VTIMEZONE
TZID:Europe/Berlin
BEGIN:DAYLIGHT
TZOFFSETFROM:+0100
TZOFFSETTO:+0200
TZNAME:CEST
DTSTART:20220327T010000
END:DAYLIGHT
BEGIN:STANDARD
TZOFFSETFROM:+0200
TZOFFSETTO:+0100
TZNAME:CET
DTSTART:20221030T010000
END:STANDARD
BEGIN:DAYLIGHT
TZOFFSETFROM:+0100
TZOFFSETTO:+0200
TZNAME:CEST
DTSTART:20230326T010000
END:DAYLIGHT
BEGIN:STANDARD
TZOFFSETFROM:+0200
TZOFFSETTO:+0100
TZNAME:CET
DTSTART:20231029T010000
END:STANDARD
BEGIN:DAYLIGHT
TZOFFSETFROM:+0100
TZOFFSETTO:+0200
TZNAME:CEST
DTSTART:20240331T010000
END:DAYLIGHT
BEGIN:STANDARD
TZOFFSETFROM:+0200
TZOFFSETTO:+0100
TZNAME:CET
DTSTART:20241027T010000
END:STANDARD
BEGIN:DAYLIGHT
TZOFFSETFROM:+0100
TZOFFSETTO:+0200
TZNAME:CEST
DTSTART:20250330T010000
END:DAYLIGHT
BEGIN:STANDARD
TZOFFSETFROM:+0200
TZOFFSETTO:+0100
TZNAME:CET
DTSTART:20251026T010000
END:STANDARD
END:VTIMEZONE
BEGIN:VEVENT
DTSTART;TZID=Europe/Berlin:20240813T180000
DTEND;TZID=Europe/Berlin:20240813T193000
DTSTAMP:20260421T234657
CREATED:20230724T193559Z
LAST-MODIFIED:20240720T171212Z
UID:10003904-1723572000-1723577400@wandelstadt-esslingen.de
SUMMARY:Gartenkul"tour" der Nutzpflanzenbibliothek – Transition Town Esslingen
DESCRIPTION:Das Orga-Team der Esslinger Nutzpflanzenbibliothek gewährt Interessierten und Nutzern der Bibliothek Einblick in ihre privaten Vielfaltsoasen. Es gibt eine kleine Gartenführung\, es wird viel gefachsimpelt und am Ende wird Saatgut getauscht. Neugierige willkommen! Wir bitten um Anmeldung\, da nur begrenzte Plätze. Veranstalter: Transition Town Esslingen
URL:https://wandelstadt-esslingen.de/event/gartenkultur-der-nutzpflanzenbibliothek-transition-town-esslingen/2024-08-13/
ORGANIZER;CN="Transition Town Esslingen - Stadt im Wandel":MAILTO:kontakt@transition-town-es.de
END:VEVENT
BEGIN:VEVENT
DTSTART;TZID=Europe/Berlin:20240720T150000
DTEND;TZID=Europe/Berlin:20240720T173000
DTSTAMP:20260421T234657
CREATED:20240629T110904Z
LAST-MODIFIED:20240629T110904Z
UID:10003562-1721487600-1721496600@wandelstadt-esslingen.de
SUMMARY:AG Gewaltfreie Kommunikation
DESCRIPTION:Diese AG trifft sich regelmäßig\, um die Gewaltfreie Kommunikation nach Marshall Rosenberg gemeinsam zu üben.
URL:https://wandelstadt-esslingen.de/event/ag-gewaltfreie-kommunikation-3/
ORGANIZER;CN="Transition Town Esslingen - Stadt im Wandel":MAILTO:kontakt@transition-town-es.de
END:VEVENT
BEGIN:VEVENT
DTSTART;TZID=Europe/Berlin:20240716T180000
DTEND;TZID=Europe/Berlin:20240716T193000
DTSTAMP:20260421T234657
CREATED:20240629T110455Z
LAST-MODIFIED:20240629T110455Z
UID:10003561-1721152800-1721158200@wandelstadt-esslingen.de
SUMMARY:AG Stadtgärtle - Gemeinsam Gärtnern in der Esslinger City
DESCRIPTION:Die AG Stadtgärtle trifft sich zum Arbeitseinsatz vor Ort am Kesselwasen. Es darf gejätet\, gepflanzt und geerntet werden. Interessierte sind jederzeit herzlich willkommen.
URL:https://wandelstadt-esslingen.de/event/ag-stadtgaertle-gemeinsam-gaertnern-in-der-esslinger-city-4/
CATEGORIES:Infoveranstaltung
ORGANIZER;CN="Transition Town Esslingen - Stadt im Wandel":MAILTO:kontakt@transition-town-es.de
END:VEVENT
BEGIN:VEVENT
DTSTART;TZID=Europe/Berlin:20240702T180000
DTEND;TZID=Europe/Berlin:20240702T193000
DTSTAMP:20260421T234657
CREATED:20240629T105819Z
LAST-MODIFIED:20240629T110033Z
UID:10003560-1719943200-1719948600@wandelstadt-esslingen.de
SUMMARY:AG Nutzpflanzenbibliothek
DESCRIPTION:Das Orga-Team der Esslinger Nutzpflanzenbibliothek trifft sich\, um die nächste Öffnung vorzubereiten und Tomatensaatgut zu packen. Unterstützer willkommen!\n\nAnmeldung über Kontaktformular der Transition Town
URL:https://wandelstadt-esslingen.de/event/ag-nutzpflanzenbibliothek/
CATEGORIES:Infoveranstaltung
ORGANIZER;CN="Transition Town Esslingen - Stadt im Wandel":MAILTO:kontakt@transition-town-es.de
END:VEVENT
BEGIN:VEVENT
DTSTART;TZID=Europe/Berlin:20240622T150000
DTEND;TZID=Europe/Berlin:20240622T153000
DTSTAMP:20260421T234657
CREATED:20230625T104428Z
LAST-MODIFIED:20260418T103122Z
UID:10002944-1719068400-1719070200@wandelstadt-esslingen.de
SUMMARY:Gewaltfreie Kommunikation – Transition Town Esslingen
DESCRIPTION:Diese AG trifft sich regelmäßig\, um die Gewaltfreie Kommunikation nach Marshall Rosenberg gemeinsam zu üben. Wer teilnehmen möchte meldet sich am besten über das Kontaktformular auf unserer Webseite www.transition-town-es.de \nVeranstalter: Transition Town Esslingen
URL:https://wandelstadt-esslingen.de/event/gewaltfreie-kommunikation-transition-town-esslingen/2024-06-22/
ORGANIZER;CN="Transition Town Esslingen - Stadt im Wandel":MAILTO:kontakt@transition-town-es.de
END:VEVENT
BEGIN:VEVENT
DTSTART;TZID=Europe/Berlin:20240425T180000
DTEND;TZID=Europe/Berlin:20240425T200000
DTSTAMP:20260421T234657
CREATED:20230625T103140Z
LAST-MODIFIED:20260418T103221Z
UID:10002778-1714068000-1714075200@wandelstadt-esslingen.de
SUMMARY:Müllsammelspaziergang – Transition Town Esslingen & Zuzule
DESCRIPTION:Jeder kann mitmachen. Bitte per kurz über das Kontaktformular auf www.transition-town-es.de anmelden\, damit wir den Treffpunkt mitteilen können. Putzutensilien werden gestellt. Veranstalter: Transition Town Esslingen zusammen mit Zuzule
URL:https://wandelstadt-esslingen.de/event/ag-muellsammelspaziergang-5-2-2-2-2/2024-04-25/
ORGANIZER;CN="Transition Town Esslingen - Stadt im Wandel":MAILTO:kontakt@transition-town-es.de
END:VEVENT
BEGIN:VEVENT
DTSTART;TZID=Europe/Berlin:20240423T180000
DTEND;TZID=Europe/Berlin:20240423T193000
DTSTAMP:20260421T234657
CREATED:20230228T100213Z
LAST-MODIFIED:20260418T103344Z
UID:10002782-1713895200-1713900600@wandelstadt-esslingen.de
SUMMARY:Nutzpflanzenbibliothek – Transition Town Esslingen
DESCRIPTION:Das Orga-Team der Esslinger Nutzpflanzenbibliothek trifft sich\, um die nächste Öffnung vorzubereiten und Tomatensaatgut zu packen. Unterstützer willkommen! Einfach übers Kontaktformular unter www.transition-town-es.de melden. Veranstalter: Transition Town Esslingen
URL:https://wandelstadt-esslingen.de/event/ag-nutzpflanzenbibliothek-3/2024-04-23/
ORGANIZER;CN="Transition Town Esslingen - Stadt im Wandel":MAILTO:kontakt@transition-town-es.de
END:VEVENT
BEGIN:VEVENT
DTSTART;TZID=Europe/Berlin:20240414T143000
DTEND;TZID=Europe/Berlin:20240414T163000
DTSTAMP:20260421T234657
CREATED:20230225T222050Z
LAST-MODIFIED:20260418T103504Z
UID:10000706-1713105000-1713112200@wandelstadt-esslingen.de
SUMMARY:Transition Town Schenk- und Tauschbörse für Saatgut\, Pflanzen und Co 
DESCRIPTION:Zweimal im Jahr findet die Transition Town Schenk- und Tauschbörse für Saatgut\, Pflanzen und Co in der Pliensauvorstadt statt. Zwischen 14.30 Uhr und 16.30 Uhr könnt Ihr unter dem Dach des Bürgerhauses in der Weilstraße Pflanzen für draußen und drinnen\, sowie Saatgut tauschen und verschenken. Der Eintritt ist frei\, keine Anmeldung notwendig. Das Pflanzenmaterial bitte gut verpackt in Töpfen oder Tütchen mitbringen. \nAuch die Esslinger Nutzpflanzenbibliothek hat geöffnet und gibt kostenfrei Saatgut für mittlerweile über 100 verschiedene samenfeste\, das heißt selbst vermehrbare\, Tomatensorten in allen Farben und Formen aus. Das Projekt leistet mithilfe der Esslinger Gärtner*innen einen Beitrag zum Erhalt der Tomatenvielfalt und regt zur Wiederaneignung des Wissens zur eigenen Saatgutvermehrung an. \nWir richten zweimal jährlich diese Veranstaltung aus mit dem Ziel die Hobby-Gärtner*innen Esslingens und aus der Umgebung miteinander in Kontakt zu bringen und Menschen für das Gärtnern zu begeistern. Wer einen Garten hat\, kennt das: schnell ist die Pflanze zu groß\, man kann Ableger gewinnen oder man hat zu viel ausgesät. Aber auch Menschen\, die noch wenig Erfahrung mit dem Gärtnern haben sind herzlich willkommen\, bekommen Inspiration für Experimente mit ihrem grünen Daumen und praktische Tipps von erfahrenen Gärtner*innen gleich dazu. Einfach vorbeischauen\, Ideen und Pflanzen mitnehmen.
URL:https://wandelstadt-esslingen.de/event/schenk-und-tauschboerse-fuer-saatgut-pflanzen-und-co-2/2024-04-14/
LOCATION:Mehrgenerationenhaus Esslingen\, Weilstraße 8\, Esslingen
ORGANIZER;CN="Transition Town Esslingen - Stadt im Wandel":MAILTO:kontakt@transition-town-es.de
END:VEVENT
BEGIN:VEVENT
DTSTART;TZID=Europe/Berlin:20240410T040000
DTEND;TZID=Europe/Berlin:20240410T040000
DTSTAMP:20260421T234657
CREATED:20240404T160027Z
LAST-MODIFIED:20260111T163620Z
UID:10004390-1712721600-1712721600@wandelstadt-esslingen.de
SUMMARY:Stadtgärtle  – Gemeinsames Gärtnern in der Esslinger City – Transition Town Esslingen
DESCRIPTION:Die AG Stadtgärtle trifft sich zum Buddeln und Fachsimpeln vor Ort am Kesselwasen. Es darf gejätet\, gepflanzt und geerntet werden. Interessierte sind jederzeit herzlich willkommen. Veranstalter: Transition Town Esslingen Anmeldung über das Kontaktformular auf unserer Webseite www.transition-town-es.de
URL:https://wandelstadt-esslingen.de/event/ag-stadtgaertle-gemeinsam-gaertnern-in-der-esslinger-city-5-2/2024-04-10/
LOCATION:Stadtgärtle\, Kesselwasen\, Esslingen am Neckar\, 73728\, Deutschland
ORGANIZER;CN="Transition Town Esslingen - Stadt im Wandel":MAILTO:kontakt@transition-town-es.de
GEO:48.740985961712;9.3061272393363
X-APPLE-STRUCTURED-LOCATION;VALUE=URI;X-ADDRESS=Stadtgärtle Kesselwasen Esslingen am Neckar 73728 Deutschland;X-APPLE-RADIUS=500;X-TITLE=Kesselwasen:geo:9.3061272393363,48.740985961712
END:VEVENT
BEGIN:VEVENT
DTSTART;TZID=Europe/Berlin:20240305T173000
DTEND;TZID=Europe/Berlin:20240305T190000
DTSTAMP:20260421T234657
CREATED:20240127T222858Z
LAST-MODIFIED:20240127T222858Z
UID:10002241-1709659800-1709665200@wandelstadt-esslingen.de
SUMMARY:Nutzpflanzenbibliothek
DESCRIPTION:Die Nutzpflanzenbibliothek hat Wurzeln geschlagen! Transition Town Esslingen ist zurück und bietet im 1. Obergeschoss der Esslinger Stadtbücherei im Pfleghof wieder Saatgut an.   \nAn drei Terminen im Frühjahr können hier Saatgut verschiedener Tomatenarten ausgeliehen oder zurückgebracht werden. Transition Town Esslingen steht außerdem für viele Fragen und Pläuschchen über Urban Gardening\, Saatgutbibliotheken und fehlende grüne Daumen bereit.
URL:https://wandelstadt-esslingen.de/event/nutzpflanzenbibliothek-2/2024-03-05/
LOCATION:Stadtbibliothek\, Heugasse 9\, Esslingen\, Deutschland
ORGANIZER;CN="Transition Town Esslingen - Stadt im Wandel":MAILTO:kontakt@transition-town-es.de
END:VEVENT
BEGIN:VEVENT
DTSTART;TZID=Europe/Berlin:20240224T100000
DTEND;TZID=Europe/Berlin:20240224T120000
DTSTAMP:20260421T234657
CREATED:20240127T222858Z
LAST-MODIFIED:20240127T222858Z
UID:10002240-1708768800-1708776000@wandelstadt-esslingen.de
SUMMARY:Nutzpflanzenbibliothek
DESCRIPTION:Die Nutzpflanzenbibliothek hat Wurzeln geschlagen! Transition Town Esslingen ist zurück und bietet im 1. Obergeschoss der Esslinger Stadtbücherei im Pfleghof wieder Saatgut an.   \nAn drei Terminen im Frühjahr können hier Saatgut verschiedener Tomatenarten ausgeliehen oder zurückgebracht werden. Transition Town Esslingen steht außerdem für viele Fragen und Pläuschchen über Urban Gardening\, Saatgutbibliotheken und fehlende grüne Daumen bereit.
URL:https://wandelstadt-esslingen.de/event/nutzpflanzenbibliothek-2/2024-02-24/
LOCATION:Stadtbibliothek\, Heugasse 9\, Esslingen\, Deutschland
ORGANIZER;CN="Transition Town Esslingen - Stadt im Wandel":MAILTO:kontakt@transition-town-es.de
END:VEVENT
BEGIN:VEVENT
DTSTART;TZID=Europe/Berlin:20240203T100000
DTEND;TZID=Europe/Berlin:20240203T120000
DTSTAMP:20260421T234657
CREATED:20240127T222858Z
LAST-MODIFIED:20240127T222858Z
UID:10002239-1706954400-1706961600@wandelstadt-esslingen.de
SUMMARY:Nutzpflanzenbibliothek
DESCRIPTION:Die Nutzpflanzenbibliothek hat Wurzeln geschlagen! Transition Town Esslingen ist zurück und bietet im 1. Obergeschoss der Esslinger Stadtbücherei im Pfleghof wieder Saatgut an.   \nAn drei Terminen im Frühjahr können hier Saatgut verschiedener Tomatenarten ausgeliehen oder zurückgebracht werden. Transition Town Esslingen steht außerdem für viele Fragen und Pläuschchen über Urban Gardening\, Saatgutbibliotheken und fehlende grüne Daumen bereit.
URL:https://wandelstadt-esslingen.de/event/nutzpflanzenbibliothek-2/2024-02-03/
LOCATION:Stadtbibliothek\, Heugasse 9\, Esslingen\, Deutschland
ORGANIZER;CN="Transition Town Esslingen - Stadt im Wandel":MAILTO:kontakt@transition-town-es.de
END:VEVENT
BEGIN:VEVENT
DTSTART;VALUE=DATE:20231028
DTEND;VALUE=DATE:20231030
DTSTAMP:20260421T234657
CREATED:20230625T105150Z
LAST-MODIFIED:20230920T191411Z
UID:10001706-1698451200-1698623999@wandelstadt-esslingen.de
SUMMARY:Jubiläum 10 Jahre Transition Town Esslingen
DESCRIPTION:10 Jahre und weiter gehts!\n \nEs ist soweit: In diesem Jahr wird Transition Town Esslingen stolze 10 Jahre jung! Seitdem ist einiges geschehen: Gruppen haben sich etabliert\, aus Ideen wurden Taten\, es sind Projekte entstanden\, sind gewachsen\, anderes wurde im Laufe der Zeit wieder verworfen. So wie die Stadt Esslingen selbst unterliegt auch Transition Town Esslingen dem ständigen Wandel. Einladungsflyer \nUnser buntes Programm:\n  \n\n\n\n\n\n\n\nSamstag 28.10.2023\n \n \n \n \n\n\nUhrzeit\nSaal\nRuheraum\nGruppenraum\nDraußen\n\n\n14.00-14.15\nBegrüßung\n \n \n \n\n\n14.15-14.45\n \nMeditation (10 Min)\nEinführung Schenkökonomie\nExkursion zum Stadtgärtle (60 Min)\n\n\n14.45-15.15\n \nEinführung Gewaltfreie Kommunikation\nWorkshop Putzmittel mischen\nMüllsammeltour\n\n\n15.15-16.00\nKaffeepause & Marktplatz\n \n \n \n\n\n16.00-16.30\n \n \nDiskussionsrunde Sehnsucht nach dem Wandel wecken (45 Min)\nMüllsammeltour\n\n\n16.30-16.45\n \nMeditation (10 Min)\n \n \n\n\n16.45-17.00\nAbschlussrunde\n \n \n \n\n\nSonntag 29.10.2023\n \n \n \n \n\n\n14.00-14.30\nMarktplatz & Kaffee & Kuchen\nMeditation (10 Min)\n \n \n\n\n14.30-16.00\nÖffnung Nutzpflanzen-bibliothek\n \n \nPflanzen-tauschbörse\n\n\n16.00-16.30\nMarktplatz & Kaffee & Kuchen\n \nVortrag 10 Jahre Transition Town Esslingen\n\n\n\n\n 
URL:https://wandelstadt-esslingen.de/event/jubilaeum-10-jahre-transition-town-esslingen/
LOCATION:Bürgerhaus Pliensauvorstadt\, Weilstraße 8\, Esslingen\, 73734
ORGANIZER;CN="Transition Town Esslingen - Stadt im Wandel":MAILTO:kontakt@transition-town-es.de
END:VEVENT
BEGIN:VEVENT
DTSTART;TZID=Europe/Berlin:20231001T110000
DTEND;TZID=Europe/Berlin:20231001T123000
DTSTAMP:20260421T234657
CREATED:20230920T185254Z
LAST-MODIFIED:20230920T185254Z
UID:10001999-1696158000-1696163400@wandelstadt-esslingen.de
SUMMARY:Weststadt-Clean up - Müllsammelspaziergang mit Greenpeace und Transition Town
DESCRIPTION:Mit dieser Aktion wollen wir die Esslinger City wieder ein Stück sauberer machen. Die Weststadt\, die vom Bahnhof nach Westen anschließt\, ist ein wachsendes und belebtes Viertel mit viel Müllaufkommen. Hier wollen wir zusammen mit Greenpeace ein Clean up organisieren. Anmeldung über unser Kontaktformular. Veranstalter: Greenpeace Esslingen und Transition Town Esslingen
URL:https://wandelstadt-esslingen.de/event/weststadt-clean-up-muellsammelspaziergang-mit-greenpeace-und-transition-town/
LOCATION:Weststadt\, Fleischmannstraße 15\, Esslingen\, Deutschland
ORGANIZER;CN="Greenpeace Esslingen":MAILTO:info@greenpeace-esslingen.de
END:VEVENT
BEGIN:VEVENT
DTSTART;TZID=Europe/Berlin:20230912T180000
DTEND;TZID=Europe/Berlin:20230912T200000
DTSTAMP:20260421T234657
CREATED:20230724T193559Z
LAST-MODIFIED:20240720T171212Z
UID:10001731-1694541600-1694548800@wandelstadt-esslingen.de
SUMMARY:Gartenkul"tour" der Nutzpflanzenbibliothek – Transition Town Esslingen
DESCRIPTION:Das Orga-Team der Esslinger Nutzpflanzenbibliothek gewährt Interessierten und Nutzern der Bibliothek Einblick in ihre privaten Vielfaltsoasen. Es gibt eine kleine Gartenführung\, es wird viel gefachsimpelt und am Ende wird Saatgut getauscht. Neugierige willkommen! Wir bitten um Anmeldung\, da nur begrenzte Plätze. Veranstalter: Transition Town Esslingen
URL:https://wandelstadt-esslingen.de/event/gartenkultur-der-nutzpflanzenbibliothek-transition-town-esslingen/2023-09-12/
ORGANIZER;CN="Transition Town Esslingen - Stadt im Wandel":MAILTO:kontakt@transition-town-es.de
END:VEVENT
BEGIN:VEVENT
DTSTART;TZID=Europe/Berlin:20230829T180000
DTEND;TZID=Europe/Berlin:20230829T203000
DTSTAMP:20260421T234657
CREATED:20230724T193559Z
LAST-MODIFIED:20240720T171212Z
UID:10001726-1693332000-1693341000@wandelstadt-esslingen.de
SUMMARY:Gartenkul"tour" der Nutzpflanzenbibliothek – Transition Town Esslingen
DESCRIPTION:Das Orga-Team der Esslinger Nutzpflanzenbibliothek gewährt Interessierten und Nutzern der Bibliothek Einblick in ihre privaten Vielfaltsoasen. Es gibt eine kleine Gartenführung\, es wird viel gefachsimpelt und am Ende wird Saatgut getauscht. Neugierige willkommen! Wir bitten um Anmeldung\, da nur begrenzte Plätze. Veranstalter: Transition Town Esslingen
URL:https://wandelstadt-esslingen.de/event/gartenkultur-der-nutzpflanzenbibliothek-transition-town-esslingen/2023-08-29/
ORGANIZER;CN="Transition Town Esslingen - Stadt im Wandel":MAILTO:kontakt@transition-town-es.de
END:VEVENT
END:VCALENDAR