BEGIN:VCALENDAR
VERSION:2.0
PRODID:-//Wandelstadt Esslingen - ECPv6.15.20//NONSGML v1.0//EN
CALSCALE:GREGORIAN
METHOD:PUBLISH
X-ORIGINAL-URL:https://wandelstadt-esslingen.de
X-WR-CALDESC:Veranstaltungen für Wandelstadt Esslingen
REFRESH-INTERVAL;VALUE=DURATION:PT1H
X-Robots-Tag:noindex
X-PUBLISHED-TTL:PT1H
BEGIN:VTIMEZONE
TZID:Europe/Berlin
BEGIN:DAYLIGHT
TZOFFSETFROM:+0100
TZOFFSETTO:+0200
TZNAME:CEST
DTSTART:20250330T010000
END:DAYLIGHT
BEGIN:STANDARD
TZOFFSETFROM:+0200
TZOFFSETTO:+0100
TZNAME:CET
DTSTART:20251026T010000
END:STANDARD
BEGIN:DAYLIGHT
TZOFFSETFROM:+0100
TZOFFSETTO:+0200
TZNAME:CEST
DTSTART:20260329T010000
END:DAYLIGHT
BEGIN:STANDARD
TZOFFSETFROM:+0200
TZOFFSETTO:+0100
TZNAME:CET
DTSTART:20261025T010000
END:STANDARD
BEGIN:DAYLIGHT
TZOFFSETFROM:+0100
TZOFFSETTO:+0200
TZNAME:CEST
DTSTART:20270328T010000
END:DAYLIGHT
BEGIN:STANDARD
TZOFFSETFROM:+0200
TZOFFSETTO:+0100
TZNAME:CET
DTSTART:20271031T010000
END:STANDARD
BEGIN:DAYLIGHT
TZOFFSETFROM:+0100
TZOFFSETTO:+0200
TZNAME:CEST
DTSTART:20280326T010000
END:DAYLIGHT
BEGIN:STANDARD
TZOFFSETFROM:+0200
TZOFFSETTO:+0100
TZNAME:CET
DTSTART:20281029T010000
END:STANDARD
END:VTIMEZONE
BEGIN:VEVENT
DTSTART;TZID=Europe/Berlin:20260428T180000
DTEND;TZID=Europe/Berlin:20260428T203000
DTSTAMP:20260421T183226
CREATED:20230228T100213Z
LAST-MODIFIED:20260418T103344Z
UID:10009364-1777399200-1777408200@wandelstadt-esslingen.de
SUMMARY:Nutzpflanzenbibliothek – Transition Town Esslingen
DESCRIPTION:Das Orga-Team der Esslinger Nutzpflanzenbibliothek trifft sich\, um die nächste Öffnung vorzubereiten und Tomatensaatgut zu packen. Unterstützer willkommen! Einfach übers Kontaktformular unter www.transition-town-es.de melden. Veranstalter: Transition Town Esslingen
URL:https://wandelstadt-esslingen.de/event/ag-nutzpflanzenbibliothek-3/2026-04-28/
ORGANIZER;CN="Transition Town Esslingen - Stadt im Wandel":MAILTO:kontakt@transition-town-es.de
END:VEVENT
BEGIN:VEVENT
DTSTART;TZID=Europe/Berlin:20260519T180000
DTEND;TZID=Europe/Berlin:20260519T203000
DTSTAMP:20260421T183226
CREATED:20230228T100213Z
LAST-MODIFIED:20260418T103344Z
UID:10009365-1779213600-1779222600@wandelstadt-esslingen.de
SUMMARY:Nutzpflanzenbibliothek – Transition Town Esslingen
DESCRIPTION:Das Orga-Team der Esslinger Nutzpflanzenbibliothek trifft sich\, um die nächste Öffnung vorzubereiten und Tomatensaatgut zu packen. Unterstützer willkommen! Einfach übers Kontaktformular unter www.transition-town-es.de melden. Veranstalter: Transition Town Esslingen
URL:https://wandelstadt-esslingen.de/event/ag-nutzpflanzenbibliothek-3/2026-05-19/
ORGANIZER;CN="Transition Town Esslingen - Stadt im Wandel":MAILTO:kontakt@transition-town-es.de
END:VEVENT
BEGIN:VEVENT
DTSTART;TZID=Europe/Berlin:20260530T150000
DTEND;TZID=Europe/Berlin:20260530T170000
DTSTAMP:20260421T183226
CREATED:20230625T104428Z
LAST-MODIFIED:20260418T103122Z
UID:10009360-1780153200-1780160400@wandelstadt-esslingen.de
SUMMARY:Gewaltfreie Kommunikation – Transition Town Esslingen
DESCRIPTION:Diese AG trifft sich regelmäßig\, um die Gewaltfreie Kommunikation nach Marshall Rosenberg gemeinsam zu üben. Wer teilnehmen möchte meldet sich am besten über das Kontaktformular auf unserer Webseite www.transition-town-es.de \nVeranstalter: Transition Town Esslingen
URL:https://wandelstadt-esslingen.de/event/gewaltfreie-kommunikation-transition-town-esslingen/2026-05-30/
ORGANIZER;CN="Transition Town Esslingen - Stadt im Wandel":MAILTO:kontakt@transition-town-es.de
END:VEVENT
BEGIN:VEVENT
DTSTART;TZID=Europe/Berlin:20260616T180000
DTEND;TZID=Europe/Berlin:20260616T203000
DTSTAMP:20260421T183226
CREATED:20230228T100213Z
LAST-MODIFIED:20260418T103344Z
UID:10009366-1781632800-1781641800@wandelstadt-esslingen.de
SUMMARY:Nutzpflanzenbibliothek – Transition Town Esslingen
DESCRIPTION:Das Orga-Team der Esslinger Nutzpflanzenbibliothek trifft sich\, um die nächste Öffnung vorzubereiten und Tomatensaatgut zu packen. Unterstützer willkommen! Einfach übers Kontaktformular unter www.transition-town-es.de melden. Veranstalter: Transition Town Esslingen
URL:https://wandelstadt-esslingen.de/event/ag-nutzpflanzenbibliothek-3/2026-06-16/
ORGANIZER;CN="Transition Town Esslingen - Stadt im Wandel":MAILTO:kontakt@transition-town-es.de
END:VEVENT
BEGIN:VEVENT
DTSTART;TZID=Europe/Berlin:20260620T150000
DTEND;TZID=Europe/Berlin:20260620T170000
DTSTAMP:20260421T183226
CREATED:20230625T104428Z
LAST-MODIFIED:20260418T103122Z
UID:10009361-1781967600-1781974800@wandelstadt-esslingen.de
SUMMARY:Gewaltfreie Kommunikation – Transition Town Esslingen
DESCRIPTION:Diese AG trifft sich regelmäßig\, um die Gewaltfreie Kommunikation nach Marshall Rosenberg gemeinsam zu üben. Wer teilnehmen möchte meldet sich am besten über das Kontaktformular auf unserer Webseite www.transition-town-es.de \nVeranstalter: Transition Town Esslingen
URL:https://wandelstadt-esslingen.de/event/gewaltfreie-kommunikation-transition-town-esslingen/2026-06-20/
ORGANIZER;CN="Transition Town Esslingen - Stadt im Wandel":MAILTO:kontakt@transition-town-es.de
END:VEVENT
BEGIN:VEVENT
DTSTART;TZID=Europe/Berlin:20260625T180000
DTEND;TZID=Europe/Berlin:20260625T213000
DTSTAMP:20260421T183226
CREATED:20230625T103140Z
LAST-MODIFIED:20260418T103221Z
UID:10009363-1782410400-1782423000@wandelstadt-esslingen.de
SUMMARY:Müllsammelspaziergang – Transition Town Esslingen & Zuzule
DESCRIPTION:Jeder kann mitmachen. Bitte per kurz über das Kontaktformular auf www.transition-town-es.de anmelden\, damit wir den Treffpunkt mitteilen können. Putzutensilien werden gestellt. Veranstalter: Transition Town Esslingen zusammen mit Zuzule
URL:https://wandelstadt-esslingen.de/event/ag-muellsammelspaziergang-5-2-2-2-2/2026-06-25/
ORGANIZER;CN="Transition Town Esslingen - Stadt im Wandel":MAILTO:kontakt@transition-town-es.de
END:VEVENT
BEGIN:VEVENT
DTSTART;TZID=Europe/Berlin:20260725T150000
DTEND;TZID=Europe/Berlin:20260725T170000
DTSTAMP:20260421T183226
CREATED:20230625T104428Z
LAST-MODIFIED:20260418T103122Z
UID:10009362-1784991600-1784998800@wandelstadt-esslingen.de
SUMMARY:Gewaltfreie Kommunikation – Transition Town Esslingen
DESCRIPTION:Diese AG trifft sich regelmäßig\, um die Gewaltfreie Kommunikation nach Marshall Rosenberg gemeinsam zu üben. Wer teilnehmen möchte meldet sich am besten über das Kontaktformular auf unserer Webseite www.transition-town-es.de \nVeranstalter: Transition Town Esslingen
URL:https://wandelstadt-esslingen.de/event/gewaltfreie-kommunikation-transition-town-esslingen/2026-07-25/
ORGANIZER;CN="Transition Town Esslingen - Stadt im Wandel":MAILTO:kontakt@transition-town-es.de
END:VEVENT
BEGIN:VEVENT
DTSTART;TZID=Europe/Berlin:20261018T143000
DTEND;TZID=Europe/Berlin:20261018T163000
DTSTAMP:20260421T183226
CREATED:20230225T222050Z
LAST-MODIFIED:20260418T103504Z
UID:10009367-1792333800-1792341000@wandelstadt-esslingen.de
SUMMARY:Transition Town Schenk- und Tauschbörse für Saatgut\, Pflanzen und Co 
DESCRIPTION:Zweimal im Jahr findet die Transition Town Schenk- und Tauschbörse für Saatgut\, Pflanzen und Co in der Pliensauvorstadt statt. Zwischen 14.30 Uhr und 16.30 Uhr könnt Ihr unter dem Dach des Bürgerhauses in der Weilstraße Pflanzen für draußen und drinnen\, sowie Saatgut tauschen und verschenken. Der Eintritt ist frei\, keine Anmeldung notwendig. Das Pflanzenmaterial bitte gut verpackt in Töpfen oder Tütchen mitbringen. \nAuch die Esslinger Nutzpflanzenbibliothek hat geöffnet und gibt kostenfrei Saatgut für mittlerweile über 100 verschiedene samenfeste\, das heißt selbst vermehrbare\, Tomatensorten in allen Farben und Formen aus. Das Projekt leistet mithilfe der Esslinger Gärtner*innen einen Beitrag zum Erhalt der Tomatenvielfalt und regt zur Wiederaneignung des Wissens zur eigenen Saatgutvermehrung an. \nWir richten zweimal jährlich diese Veranstaltung aus mit dem Ziel die Hobby-Gärtner*innen Esslingens und aus der Umgebung miteinander in Kontakt zu bringen und Menschen für das Gärtnern zu begeistern. Wer einen Garten hat\, kennt das: schnell ist die Pflanze zu groß\, man kann Ableger gewinnen oder man hat zu viel ausgesät. Aber auch Menschen\, die noch wenig Erfahrung mit dem Gärtnern haben sind herzlich willkommen\, bekommen Inspiration für Experimente mit ihrem grünen Daumen und praktische Tipps von erfahrenen Gärtner*innen gleich dazu. Einfach vorbeischauen\, Ideen und Pflanzen mitnehmen.
URL:https://wandelstadt-esslingen.de/event/schenk-und-tauschboerse-fuer-saatgut-pflanzen-und-co-2/2026-10-18/
LOCATION:Mehrgenerationenhaus Esslingen\, Weilstraße 8\, Esslingen
ORGANIZER;CN="Transition Town Esslingen - Stadt im Wandel":MAILTO:kontakt@transition-town-es.de
END:VEVENT
BEGIN:VEVENT
DTSTART;TZID=Europe/Berlin:20270411T143000
DTEND;TZID=Europe/Berlin:20270411T163000
DTSTAMP:20260421T183226
CREATED:20230225T222050Z
LAST-MODIFIED:20260418T103504Z
UID:10009368-1807453800-1807461000@wandelstadt-esslingen.de
SUMMARY:Transition Town Schenk- und Tauschbörse für Saatgut\, Pflanzen und Co 
DESCRIPTION:Zweimal im Jahr findet die Transition Town Schenk- und Tauschbörse für Saatgut\, Pflanzen und Co in der Pliensauvorstadt statt. Zwischen 14.30 Uhr und 16.30 Uhr könnt Ihr unter dem Dach des Bürgerhauses in der Weilstraße Pflanzen für draußen und drinnen\, sowie Saatgut tauschen und verschenken. Der Eintritt ist frei\, keine Anmeldung notwendig. Das Pflanzenmaterial bitte gut verpackt in Töpfen oder Tütchen mitbringen. \nAuch die Esslinger Nutzpflanzenbibliothek hat geöffnet und gibt kostenfrei Saatgut für mittlerweile über 100 verschiedene samenfeste\, das heißt selbst vermehrbare\, Tomatensorten in allen Farben und Formen aus. Das Projekt leistet mithilfe der Esslinger Gärtner*innen einen Beitrag zum Erhalt der Tomatenvielfalt und regt zur Wiederaneignung des Wissens zur eigenen Saatgutvermehrung an. \nWir richten zweimal jährlich diese Veranstaltung aus mit dem Ziel die Hobby-Gärtner*innen Esslingens und aus der Umgebung miteinander in Kontakt zu bringen und Menschen für das Gärtnern zu begeistern. Wer einen Garten hat\, kennt das: schnell ist die Pflanze zu groß\, man kann Ableger gewinnen oder man hat zu viel ausgesät. Aber auch Menschen\, die noch wenig Erfahrung mit dem Gärtnern haben sind herzlich willkommen\, bekommen Inspiration für Experimente mit ihrem grünen Daumen und praktische Tipps von erfahrenen Gärtner*innen gleich dazu. Einfach vorbeischauen\, Ideen und Pflanzen mitnehmen.
URL:https://wandelstadt-esslingen.de/event/schenk-und-tauschboerse-fuer-saatgut-pflanzen-und-co-2/2027-04-11/
LOCATION:Mehrgenerationenhaus Esslingen\, Weilstraße 8\, Esslingen
ORGANIZER;CN="Transition Town Esslingen - Stadt im Wandel":MAILTO:kontakt@transition-town-es.de
END:VEVENT
END:VCALENDAR