BEGIN:VCALENDAR
VERSION:2.0
PRODID:-//Wandelstadt Esslingen - ECPv6.15.20//NONSGML v1.0//EN
CALSCALE:GREGORIAN
METHOD:PUBLISH
X-ORIGINAL-URL:https://wandelstadt-esslingen.de
X-WR-CALDESC:Veranstaltungen für Wandelstadt Esslingen
REFRESH-INTERVAL;VALUE=DURATION:PT1H
X-Robots-Tag:noindex
X-PUBLISHED-TTL:PT1H
BEGIN:VTIMEZONE
TZID:Europe/Berlin
BEGIN:DAYLIGHT
TZOFFSETFROM:+0100
TZOFFSETTO:+0200
TZNAME:CEST
DTSTART:20250330T010000
END:DAYLIGHT
BEGIN:STANDARD
TZOFFSETFROM:+0200
TZOFFSETTO:+0100
TZNAME:CET
DTSTART:20251026T010000
END:STANDARD
BEGIN:DAYLIGHT
TZOFFSETFROM:+0100
TZOFFSETTO:+0200
TZNAME:CEST
DTSTART:20260329T010000
END:DAYLIGHT
BEGIN:STANDARD
TZOFFSETFROM:+0200
TZOFFSETTO:+0100
TZNAME:CET
DTSTART:20261025T010000
END:STANDARD
BEGIN:DAYLIGHT
TZOFFSETFROM:+0100
TZOFFSETTO:+0200
TZNAME:CEST
DTSTART:20270328T010000
END:DAYLIGHT
BEGIN:STANDARD
TZOFFSETFROM:+0200
TZOFFSETTO:+0100
TZNAME:CET
DTSTART:20271031T010000
END:STANDARD
END:VTIMEZONE
BEGIN:VEVENT
DTSTART;TZID=Europe/Berlin:20260516T120000
DTEND;TZID=Europe/Berlin:20260516T183000
DTSTAMP:20260425T060615
CREATED:20260424T174624Z
LAST-MODIFIED:20260424T174624Z
UID:10009415-1778932800-1778956200@wandelstadt-esslingen.de
SUMMARY:STRAKU Esslingen 2026
DESCRIPTION:Wir feiern 11 Jahre STRAKU und bespielen die Bahnhofstraße\, den Postmichelbrunnen\, die Küferstraße\, die Ritterstraße sowie die vhs am Eck mit hochwertiger\, internationaler und regionaler Straßenkunst. Typisch STRAKU: Alles ist mit dabei. Ob Artistik\, Jonglage\, Magie\, Musik oder Straßenkunst dazwischen. 2026 sind wir von 12.00 Uhr bis 18.30 Uhr mit hochkarätigem Programm für euch da.
URL:https://wandelstadt-esslingen.de/event/straku-esslingen-2026/
LOCATION:Esslingen
CATEGORIES:Kulturveranstaltung,Live-Veranstaltung
END:VEVENT
END:VCALENDAR