BEGIN:VCALENDAR
VERSION:2.0
PRODID:-//Wandelstadt Esslingen - ECPv6.15.20//NONSGML v1.0//EN
CALSCALE:GREGORIAN
METHOD:PUBLISH
X-ORIGINAL-URL:https://wandelstadt-esslingen.de
X-WR-CALDESC:Veranstaltungen für Wandelstadt Esslingen
REFRESH-INTERVAL;VALUE=DURATION:PT1H
X-Robots-Tag:noindex
X-PUBLISHED-TTL:PT1H
BEGIN:VTIMEZONE
TZID:Europe/Berlin
BEGIN:DAYLIGHT
TZOFFSETFROM:+0100
TZOFFSETTO:+0200
TZNAME:CEST
DTSTART:20220327T010000
END:DAYLIGHT
BEGIN:STANDARD
TZOFFSETFROM:+0200
TZOFFSETTO:+0100
TZNAME:CET
DTSTART:20221030T010000
END:STANDARD
BEGIN:DAYLIGHT
TZOFFSETFROM:+0100
TZOFFSETTO:+0200
TZNAME:CEST
DTSTART:20230326T010000
END:DAYLIGHT
BEGIN:STANDARD
TZOFFSETFROM:+0200
TZOFFSETTO:+0100
TZNAME:CET
DTSTART:20231029T010000
END:STANDARD
BEGIN:DAYLIGHT
TZOFFSETFROM:+0100
TZOFFSETTO:+0200
TZNAME:CEST
DTSTART:20240331T010000
END:DAYLIGHT
BEGIN:STANDARD
TZOFFSETFROM:+0200
TZOFFSETTO:+0100
TZNAME:CET
DTSTART:20241027T010000
END:STANDARD
END:VTIMEZONE
BEGIN:VEVENT
DTSTART;TZID=Europe/Berlin:20230504T180000
DTEND;TZID=Europe/Berlin:20230504T184500
DTSTAMP:20260422T052106
CREATED:20230425T143853Z
LAST-MODIFIED:20230425T143853Z
UID:10001068-1683223200-1683225900@wandelstadt-esslingen.de
SUMMARY:Onlinewahl für Bürgerausschuss Innenstadt
DESCRIPTION:Der Endspurt hat begonnen: Am Donnerstag\, 4. Mai\, findet die Einwohnerversammlung der Innenstadt statt. Dazu sind alle Einwohnerinnen und Einwohner ganz herzlich eingeladen. Die Versammlung beginnt um 19 Uhr im Gemeindehaus Das Neue Blarer\, Franziskanergasse 4. Mittlerweile steht die Tagesordnung fest und die Wahl der Kandidatinnen und Kandidaten für den neuen Bürgerausschuss Innenstadt hat begonnen. \nWahl des Bürgerausschusses\nVom 20. April um 12 Uhr bis zum 30. April um 18 Uhr können Einwohnerinnen und Einwohner der Innenstadt online die künftigen Mitglieder des Bürgerausschusses wählen. Ihnen stehen dafür so viele Stimmen zur Verfügung\, wie es Sitze im Bürgerausschuss gibt. Durch technische Maßnahmen ist eine Mehrfachabstimmung nicht möglich. Für diejenigen\, die nicht online abstimmen möchten\, besteht die Möglichkeit\, von 18 Uhr bis 18:45 Uhr und somit vor dem Beginn der Einwohnerversammlung vor Ort abzustimmen\, bevor um 19 Uhr die Einwohnerversammlung beginnt. Als Nachweis der Wahlberechtigung vor Ort muss ein gültiges Ausweisdokument vorgelegt werden. \nAusführliche Beschreibungen der 31 Kandidatinnen und Kandidaten stehen im Online-Portal unter apps.esslingen.de/buergerausschuss/ zur Verfügung.
URL:https://wandelstadt-esslingen.de/event/onlinewahl-fuer-buergerausschuss-innenstadt/
LOCATION:Das neue Blarer\, Franziskanergasse 4\, Esslingen\, 73728\, Deutschland
END:VEVENT
END:VCALENDAR