BEGIN:VCALENDAR
VERSION:2.0
PRODID:-//Wandelstadt Esslingen - ECPv6.15.20//NONSGML v1.0//EN
CALSCALE:GREGORIAN
METHOD:PUBLISH
X-WR-CALNAME:Wandelstadt Esslingen
X-ORIGINAL-URL:https://wandelstadt-esslingen.de
X-WR-CALDESC:Veranstaltungen für Wandelstadt Esslingen
REFRESH-INTERVAL;VALUE=DURATION:PT1H
X-Robots-Tag:noindex
X-PUBLISHED-TTL:PT1H
BEGIN:VTIMEZONE
TZID:Europe/Berlin
BEGIN:DAYLIGHT
TZOFFSETFROM:+0100
TZOFFSETTO:+0200
TZNAME:CEST
DTSTART:20250330T010000
END:DAYLIGHT
BEGIN:STANDARD
TZOFFSETFROM:+0200
TZOFFSETTO:+0100
TZNAME:CET
DTSTART:20251026T010000
END:STANDARD
BEGIN:DAYLIGHT
TZOFFSETFROM:+0100
TZOFFSETTO:+0200
TZNAME:CEST
DTSTART:20260329T010000
END:DAYLIGHT
BEGIN:STANDARD
TZOFFSETFROM:+0200
TZOFFSETTO:+0100
TZNAME:CET
DTSTART:20261025T010000
END:STANDARD
BEGIN:DAYLIGHT
TZOFFSETFROM:+0100
TZOFFSETTO:+0200
TZNAME:CEST
DTSTART:20270328T010000
END:DAYLIGHT
BEGIN:STANDARD
TZOFFSETFROM:+0200
TZOFFSETTO:+0100
TZNAME:CET
DTSTART:20271031T010000
END:STANDARD
END:VTIMEZONE
BEGIN:VEVENT
DTSTART;TZID=Europe/Berlin:20260424T190000
DTEND;TZID=Europe/Berlin:20260424T220000
DTSTAMP:20260421T190248
CREATED:20260122T144751Z
LAST-MODIFIED:20260328T181307Z
UID:10008724-1777057200-1777068000@wandelstadt-esslingen.de
SUMMARY:Theodor-Haecker-Preis 2026 an Philip Obaji Jr.
DESCRIPTION:Der Journalist Philip Obaji Jr. erhält 2026 den Theodor-Haecker-Preis der Stadt Esslingen am Neckar – Internationaler Menschenrechtspreis für politischen Mut. Er bekommt die mit 10.000 € dotierte Auszeichnung für seinen außergewöhnlichen Mut und journalistische Integrität\, u. a. für die Aufdeckung der Gräueltaten der russischen Söldnergruppe Wagner in der Zentralafrikanischen Republik verliehen. \nDie Laudatio hält der Journalist und ehemalige Leiter des ARD-Studios in Moskau\, Udo Lielischkies. Die Theodor-Haecker-Ehrung i. H. v. 1.500 € geht in diesem Jahr an die Esslinger Suppkultur – ein generationenübergreifendes Projekt\, in dem Menschen mit unterschiedlicher Herkunft zusammenkommen\, Theater spielen und gemeinsam Suppe essen. Die Ehrung wird von den Initiatorinnen Marion Jeiter und Sabine Dotzer entgegengenommen.
URL:https://wandelstadt-esslingen.de/event/theodor-haecker-preis-2026-an-philip-obaji-jr/
LOCATION:Neckar Forum\, Ebershaldenstraße 12\, Esslingen\, 73728
END:VEVENT
END:VCALENDAR