BEGIN:VCALENDAR
VERSION:2.0
PRODID:-//Wandelstadt Esslingen - ECPv6.15.20//NONSGML v1.0//EN
CALSCALE:GREGORIAN
METHOD:PUBLISH
X-WR-CALNAME:Wandelstadt Esslingen
X-ORIGINAL-URL:https://wandelstadt-esslingen.de
X-WR-CALDESC:Veranstaltungen für Wandelstadt Esslingen
REFRESH-INTERVAL;VALUE=DURATION:PT1H
X-Robots-Tag:noindex
X-PUBLISHED-TTL:PT1H
BEGIN:VTIMEZONE
TZID:Europe/Berlin
BEGIN:DAYLIGHT
TZOFFSETFROM:+0100
TZOFFSETTO:+0200
TZNAME:CEST
DTSTART:20220327T010000
END:DAYLIGHT
BEGIN:STANDARD
TZOFFSETFROM:+0200
TZOFFSETTO:+0100
TZNAME:CET
DTSTART:20221030T010000
END:STANDARD
BEGIN:DAYLIGHT
TZOFFSETFROM:+0100
TZOFFSETTO:+0200
TZNAME:CEST
DTSTART:20230326T010000
END:DAYLIGHT
BEGIN:STANDARD
TZOFFSETFROM:+0200
TZOFFSETTO:+0100
TZNAME:CET
DTSTART:20231029T010000
END:STANDARD
BEGIN:DAYLIGHT
TZOFFSETFROM:+0100
TZOFFSETTO:+0200
TZNAME:CEST
DTSTART:20240331T010000
END:DAYLIGHT
BEGIN:STANDARD
TZOFFSETFROM:+0200
TZOFFSETTO:+0100
TZNAME:CET
DTSTART:20241027T010000
END:STANDARD
END:VTIMEZONE
BEGIN:VEVENT
DTSTART;TZID=Europe/Berlin:20230419T163000
DTEND;TZID=Europe/Berlin:20230419T180000
DTSTAMP:20260422T005120
CREATED:20230331T085131Z
LAST-MODIFIED:20230331T085131Z
UID:10000896-1681921800-1681927200@wandelstadt-esslingen.de
SUMMARY:Nachhaltigkeit\, Postwachstum\, Donut-Ökonomie & Co
DESCRIPTION:Online-Vortrag: „Nachhaltigkeit\, Postwachstum\, Donut-Ökonomie & Co“: Konzepte\, ihre Impulse und Gemeinsamkeiten \nWas steckt hinter Begriffen wie Postwachstum und Donut-Ökonomie\, wie stehen sie zueinander und welche Potentiale stecken in ihnen\, um unser Wirtschaftssystem sozial\, ökologisch und ökonomisch nachhaltiger zu gestalten? Diese und weitere Fragen werden in der 4. Veranstaltung unserer Online-Reihe „Anders wirtschaften“ vom Politikwissenschaftler und Autor Gerd Oelsner aufgegriffen. Die Anmeldung ist ab sofort möglich.
URL:https://wandelstadt-esslingen.de/event/nachhaltigkeit-postwachstum-donut-oekonomie-co/
ORGANIZER;CN="Renn s%C3%BCd":MAILTO:sued@renn-netzwerk.de
END:VEVENT
END:VCALENDAR